{"text_format":"5","workbook":"xlsx","n_sheets":2,"sheets":["지점별소음도현황","지점별(-)"],"props":{"creator":"WinXP","last_modified_by":"USER","company":"BPPPX-6MTBP-8BFBY-D7JHC-TMXBB"},"read":"whole","date_system":"1900"}

{"sheet":"지점별소음도현황","index":0,"n_rows":27,"n_cols":26,"rows_kept":27,"merged":[[0,0,0,8],[1,0,3,0],[1,1,3,1],[1,2,1,3],[1,4,1,8],[1,9,3,9],[1,10,3,10],[1,11,3,11],[1,12,1,20],[1,21,1,25],[2,2,3,2],[2,3,3,3],[2,4,3,4],[2,5,3,5],[2,6,3,6],[2,7,2,8],[2,12,2,13],[2,14,2,15],[2,16,2,17],[2,18,2,19],[2,20,3,20],[2,21,2,22],[2,23,2,24],[2,25,3,25],[4,4,9,4],[10,4,15,4],[16,4,21,4],[22,4,26,4]]}
["1. 지점별 소음도 현황(3분기)"]
["측정망","시도","적용대상",null,"측 정 지 점",{"$nulls":4},"지점코드","년도","분기","주간",{"$nulls":8},"야간"]
[null,null,"법적\n구분","용도\n구분","측정지역","지역\n구분","측정지점","TM좌표",{"$nulls":4},"9시",null,"12시",null,"16시",null,"20시",null,"주간\n평균","23시",null,"1시",null,"야간\n평균"]
[{"$nulls":7},"가로","세로",{"$nulls":3},"측정시간","측정값","측정시간","측정값","측정시간","측정값","측정시간","측정값",null,"측정시간","측정값","측정시간","측정값"]
["지방","광양시","가","학교지역","광양읍","일반","광양하이텍고운동장 서편",164.68,253.89,"B14623001",2022,3,"2022.9.29 0927",46.6,"2022.9.29 1230",45.5,"2022.9.29 1626",43.5,"2022.9.29 2026",41.1,{"$f":"ROUND(AVERAGE(N5,P5,R5,T5),0)","v":44},"2022.9.29 2306",39.1,"2022.9.30 0045",38.2,{"$f":"ROUND(AVERAGE(W5,Y5),0)","v":39}]
["지방","광양시","가","학교지역",null,"일반","광양하이텍고 연단 앞",164.69,253.95,"B14623002",2022,3,"2022.9.29 0935",46.8,"2022.9.29 1236",48.2,"2022.9.29 1632",47.1,"2022.9.29 2033",42.5,{"$f":"ROUND(AVERAGE(N6,P6,R6,T6),0)","v":46},"2022.9.29 2311",37.5,"2022.9.30 0051",37.8,{"$f":"ROUND(AVERAGE(W6,Y6),0)","v":38}]
["지방","광양시","가","학교지역",null,"일반","광양중학교 연단 앞",164.7,253.8,"B14623003",2022,3,"2022.9.29 0920",48.8,"2022.9.29 1221",46.6,"2022.9.29 1615",44.8,"2022.9.29 2016",{"v":42,"d":"42.0"},46,"2022.9.29 2300",38.2,"2022.9.30 0037",37.5,38]
["지방","광양시","가","학교지역",null,"도로","광양하이텍고 남문  앞",164.6,253.91,"B14623004",2022,3,"2022.9.29 0911",50.8,"2022.9.29 1210",53.3,"2022.9.29 1607",59.3,"2022.9.29 2009",42.7,52,"2022.9.29 2253",43.1,"2022.9.30 0030",42.5,43]
["지방","광양시","가","학교지역",null,"도로","광양하이텍고동편 도로변(기존)",164.71,254.04,"B14623005",2022,3,"2022.9.29 0900",{"v":61,"d":"61.0"},"2022.9.29 1202",61.1,"2022.9.29 1601",62.5,"2022.9.29 2002",{"v":60,"d":"60.0"},61,"2022.9.29 2246",53.7,"2022.9.30 0023",52.8,53]
["지방","광양시","가","학교지역",null,"도로","광양마로초등학교 인근(변경)",{"$nulls":3},2022,3,"2022.9.29 0845",58.6,"2022.9.29 1145",58.8,"2022.9.29 1545",58.9,"2022.9.29 1945",53.3,57,"2022.9.29 2230",52.2,"2022.9.30 0210",{"v":51,"d":"51.0"},52]
["지방","광양시","나","일반주거","중  동","일반","주공1차 아파트 공터",160.67,263.86,"B14623006",2022,3,"2022.9.27 0957",{"v":41,"d":"41.0"},"2022.9.27 1258",45.9,"2022.9.27 1700",42.3,"2022.9.27 2100",47.4,44,"2022.9.28 0000",42.8,"2022.9.28 0155",42.5,43]
["지방","광양시","나","일반주거",null,"일반","주공2차 아파트 공터",160.94,262.56,"B14623007",2022,3,"2022.9.271005",45.4,"2022.9.27 1308",47.4,"2022.9.27 1710",{"v":41,"d":"41.0"},"2022.9.27 2107",{"v":51,"d":"51.0"},46,"2022.9.28 0009",40.7,"2022.9.28 0207",{"v":42,"d":"42.0"},41]
["지방","광양시","나","일반주거",null,"일반","성호1차 아파트 공터",159.47,263.38,"B14623008",2022,3,"2022.9.27 0921",49.1,"2022.9.27 1228",48.9,"2022.9.27 1627",49.3,"2022.9.27 2022",49.8,49,"2022.9.27 2325",44.2,"2022.9.28 0120",43.8,44]
["지방","광양시","나","일반주거",null,"도로","호반아파트 앞 도로(기존)",159.9,263.16,"B14623009",2022,3,"2022.9.27 0945",49.5,"2022.9.27 1250",45.7,"2022.9.27 1653",46.8,"2022.9.27 2051",48.7,48,"2022.9.27 2350",47.7,"2022.9.28 0145",45.5,47]
["지방","광양시","나","일반주거",null,"도로","금광아파트 옆",160.83,263.59,"B14623010",2022,3,"2022.9.27 0930",{"v":60,"d":"60.0"},"2022.9.27 1235",61.6,"2022.9.27 1638",64.5,"2022.9.27 2033",60.3,62,"2022.9.27 2334",53.7,"2022.9.28 0128",52.7,53]
["지방","광양시","나","일반주거",null,"도로","중마진아리채2차 앞(변경)",{"$nulls":3},2022,3,"2022.9.27 0938",64.2,"2022.9.27 1242",55.6,"2022.9.27 1645",63.3,"2022.9.27 2040",64.3,62,"2022.9.27 2342",53.1,"2022.9.28 0138",52.2,53]
["지방","광양시","다","상업지역","광양읍","일반","장원식당 뒤",164.27,253.36,"B14623011",2022,3,"2022.9.29 1003",55.3,"2022.9.29 1305",57.7,"2022.9.29 1705",58.5,"2022.9.29 2104",53.1,56,"2022.9.29 2330",53.6,"2022.9.30 0116",{"v":47,"d":"47.0"},50]
["지방","광양시","다","상업지역",null,"일반","광양농협 뒤",163.88,253.8,"B14623012",2022,3,"2022.9.29 1050",56.3,"2022.9.29 1358",55.5,"2022.9.29 1755",53.8,"2022.9.29 2156",45.7,53,"2022.9.30 0013",46.8,"2022.9.30 0151",43.6,45]
["지방","광양시","다","상업지역",null,"일반","참마트 뒤",164.66,253.2,"B14623013",2022,3,"2022.9.29 1031",58.4,"2022.9.29 1335",58.1,"2022.9.29 1734",57.7,"2022.9.29 2135",58.8,58,"2022.9.29 2350",52.2,"2022.9.30 0138",51.5,52]
["지방","광양시","다","상업지역",null,"도로","고려의원 앞",253.71,164.28,"B14623014",2022,3,"2022.9.29 0945",61.9,"2022.9.29 1247",{"v":60,"d":"60.0"},"2022.9.29 1646",59.8,"2022.9.29 2047",53.2,59,"2022.9.29 2318",52.9,"2022.9.30 0100",44.9,49]
["지방","광양시","다","상업지역",null,"도로","제일교회 앞(기존)",164.41,253.09,"B14623015",2022,3,"2022.9.29 1011",63.8,"2022.9.29 1313",62.4,"2022.9.29 1712",61.3,"2022.9.29 2112",54.5,61,"2022.9.29 2338",54.2,"2022.9.30 0125",46.5,50]
["지방","광양시","다","상업지역",null,"도로","목성중앙로사거리(변경)",{"$nulls":3},2022,3,"2022.9.29 0952",58.4,"2022.9.29 1255",63.8,"2022.9.29 1653",62.3,"2022.9.29 2055",54.1,60,"2022.9.29 2323",53.5,"2022.9.30 0106",47.7,{"$f":"ROUND(AVERAGE(W22,Y22),0)","v":51}]
["지방","광양시","라","공업지역","태인동","일반","태인폐수처리장",159.78,269.35,"B14623016",2022,3,"2022.9.27 0858",54.6,"2022.9.27 0900",52.3,"2022.9.27 1605",58.4,"2022.9.27 1957",53.3,55,"2022.9.27 2300",{"v":53,"d":"53.0"},"2022.9.28 0052",52.3,53]
["지방","광양시","라","공업지역",null,"일반","조선내화㈜",159.78,268.72,"B14623017",2022,3,"2022.9.27 0905",63.6,"2022.9.27 0907",62.7,"2022.9.27 1612",65.5,"2022.9.27 2005",63.5,64,"2022.9.27 2307",63.2,"2022.9.28 0100",61.1,62]
["지방","광양시","라","공업지역",null,"일반","(주)남광포리머",160.46,269.75,"B14623018",2022,3,"2022.9.27 0850",62.6,"2022.9.27 1151",61.4,"2022.9.27 1553",62.5,"2022.9.27 1949",59.1,61,"2022.9.27 2247",58.8,"2022.9.28 0045",56.5,58]
["지방","광양시","라","공업지역",null,"도로","㈜피엠에스",160.07,268.38,"B14623019",2022,3,"2022.9.27 0841",64.1,"2022.9.27 1140",54.5,"2022.9.27 1542",65.5,"2022.9.27 1940",47.9,58,"2022.9.27 2238",47.5,"2022.9.28 0037",45.7,47]
["지방","광양시","라","공업지역",null,"도로","포스코케미칼",160.55,269.67,"B14623020",2022,3,"2022.9.27 0830",70.4,"2022.9.27 1130",70.3,"2022.9.27 1530",60.9,"2022.9.27 1930",71.1,68,"2022.9.27 2230",61.1,"2022.9.28 0030",54.4,58]

{"sheet":"지점별(-)","index":1,"n_rows":35,"n_cols":15,"rows_kept":35,"merged":[[1,0,1,7],[2,0,2,3],[3,0,3,14],[4,0,4,1],[4,2,4,6],[4,7,4,14],[5,0,6,0],[5,1,6,1],[5,2,6,2],[5,3,6,3],[5,4,6,4],[5,5,5,6],[5,7,5,11],[5,12,5,14],[7,0,13,0],[7,1,13,1],[7,2,13,2],[7,3,10,3],[11,3,13,3],[14,0,20,0],[14,1,20,1],[14,2,20,2],[14,3,17,3],[18,3,20,3],[21,0,27,0],[21,1,27,1],[21,2,27,2],[21,3,24,3],[25,3,27,3],[28,0,34,0],[28,1,34,1],[28,2,34,2],[28,3,31,3],[32,3,34,3]]}
[]
[]
["   2. (광양시)"]
["[단위 : dB(A)]"]
["적용대상",null,"측정지역",{"$nulls":4},"소음도"]
["법적\n구분","용도\n구분","측정지역\n(주소)","지역\n구분","측정지점","T.M좌표",null,"낮시간대",{"$nulls":4},"밤시간대"]
[{"$nulls":5},"가로","세로","09 ","12","16","20","평균","23","01","평균"]
["가","학교지역","광양읍","일  반","광양하이텍고 서편","164.68","253.89",{"$f":"지점별소음도현황!N5","v":46.6},{"$f":"지점별소음도현황!P5","v":45.5},{"$f":"지점별소음도현황!R5","v":43.5},{"$f":"지점별소음도현황!T5","v":41.1},{"$f":"ROUND(AVERAGE(H8:K8),0)","v":44},{"$f":"지점별소음도현황!W5","v":39.1},{"$f":"지점별소음도현황!Y5","v":38.2},{"$f":"ROUND(AVERAGE(M8:N8),0)","v":39}]
[{"$nulls":4},"광양하이텍고 연단앞","164.69","253.95",{"$f":"지점별소음도현황!N6","v":46.8},{"$f":"지점별소음도현황!P6","v":48.2},{"$f":"지점별소음도현황!R6","v":47.1},{"$f":"지점별소음도현황!T6","v":42.5},{"$f":"ROUND(AVERAGE(H9:K9),0)","v":46},{"$f":"지점별소음도현황!W6","v":37.5},{"$f":"지점별소음도현황!Y6","v":37.8},{"$f":"ROUND(AVERAGE(M9:N9),0)","v":38}]
[{"$nulls":4},"광양중 연단앞","164.70","253.80",{"$f":"지점별소음도현황!N7","v":48.8},{"$f":"지점별소음도현황!P7","v":46.6},{"$f":"지점별소음도현황!R7","v":44.8},{"$f":"지점별소음도현황!T7","v":{"v":42,"d":"42.0"}},{"$f":"ROUND(AVERAGE(H10:K10),0)","v":46},{"$f":"지점별소음도현황!W7","v":38.2},{"$f":"지점별소음도현황!Y7","v":37.5},{"$f":"ROUND(AVERAGE(M10:N10),0)","v":38}]
[{"$nulls":4},"평균","-","-",{"$f":"AVERAGE(H8:H10)","v":{"v":47.4,"d":"47"}},{"$f":"AVERAGE(I8:I10)","v":{"v":46.76666666666667,"d":"47"}},{"v":45.133333333333326,"d":"45"},{"v":41.86666666666667,"d":"42"},{"$f":"ROUND(AVERAGE(H11:K11),1)","v":{"v":45.3,"d":"45"}},{"$f":"AVERAGE(M8:M10)","v":{"v":38.266666666666666,"d":"38"}},{"$f":"AVERAGE(N8:N10)","v":{"v":37.833333333333336,"d":"38"}},{"$f":"ROUND(AVERAGE(M11:N11),1)","v":{"v":38.1,"d":"38"}}]
[{"$nulls":3},"도  로","광양하이텍고 남문앞","164.60","253.91",{"$f":"지점별소음도현황!N8","v":50.8},{"$f":"지점별소음도현황!P8","v":53.3},{"$f":"지점별소음도현황!R8","v":59.3},{"$f":"지점별소음도현황!T8","v":42.7},{"$f":"ROUND(AVERAGE(H12:K12),0)","v":52},{"$f":"지점별소음도현황!W8","v":43.1},{"$f":"지점별소음도현황!Y8","v":42.5},{"$f":"ROUND(AVERAGE(M12:N12),0)","v":43}]
[{"$nulls":4},"광양하이텍고 동편","164.71","254.04",{"$f":"지점별소음도현황!N9","v":{"v":61,"d":"61.0"}},{"$f":"지점별소음도현황!P9","v":61.1},{"$f":"지점별소음도현황!R9","v":62.5},{"$f":"지점별소음도현황!T9","v":{"v":60,"d":"60.0"}},{"$f":"ROUND(AVERAGE(H13:K13),0)","v":61},{"$f":"지점별소음도현황!W9","v":53.7},{"$f":"지점별소음도현황!Y9","v":52.8},{"$f":"ROUND(AVERAGE(M13:N13),0)","v":53}]
[{"$nulls":4},"평균","-","-",{"$f":"AVERAGE(H12:H13)","v":{"v":55.9,"d":"56"}},{"$f":"AVERAGE(I12:I13)","v":{"v":57.2,"d":"57"}},{"v":60.9,"d":"61"},{"v":51.35,"d":"51"},{"$f":"ROUND(AVERAGE(H14:K14),1)","v":{"v":56.3,"d":"56"}},{"$f":"AVERAGE(M12:M13)","v":{"v":48.400000000000006,"d":"48"}},{"$f":"AVERAGE(N12:N13)","v":{"v":47.65,"d":"48"}},{"$f":"ROUND(AVERAGE(M14:N14),1)","v":48}]
["나","일반주거","중 동","일  반","주공1차아파트공터","160.67","263.86",{"$f":"지점별소음도현황!N11","v":{"v":41,"d":"41.0"}},{"$f":"지점별소음도현황!P11","v":45.9},{"$f":"지점별소음도현황!R11","v":42.3},{"$f":"지점별소음도현황!T11","v":47.4},{"$f":"ROUND(AVERAGE(H15:K15),0)","v":44},{"$f":"지점별소음도현황!W11","v":42.8},{"$f":"지점별소음도현황!Y11","v":42.5},{"$f":"ROUND(AVERAGE(M15:N15),0)","v":43}]
[{"$nulls":4},"주공2차아파트공터","160.94","262.56",{"$f":"지점별소음도현황!N12","v":45.4},{"$f":"지점별소음도현황!P12","v":47.4},{"$f":"지점별소음도현황!R12","v":{"v":41,"d":"41.0"}},{"$f":"지점별소음도현황!T12","v":{"v":51,"d":"51.0"}},{"$f":"ROUND(AVERAGE(H16:K16),0)","v":46},{"$f":"지점별소음도현황!W12","v":40.7},{"$f":"지점별소음도현황!Y12","v":{"v":42,"d":"42.0"}},{"$f":"ROUND(AVERAGE(M16:N16),0)","v":41}]
[{"$nulls":4},"성호1차아파트공터","159.47","263.38",{"$f":"지점별소음도현황!N13","v":49.1},{"$f":"지점별소음도현황!P13","v":48.9},{"$f":"지점별소음도현황!R13","v":49.3},{"$f":"지점별소음도현황!T13","v":49.8},{"$f":"ROUND(AVERAGE(H17:K17),0)","v":49},{"$f":"지점별소음도현황!W13","v":44.2},{"$f":"지점별소음도현황!Y13","v":43.8},{"$f":"ROUND(AVERAGE(M17:N17),0)","v":44}]
[{"$nulls":4},"평균","-","-",{"$f":"AVERAGE(H15:H17)","v":{"v":45.166666666666664,"d":"45"}},{"$f":"AVERAGE(I15:I17)","v":{"v":47.4,"d":"47"}},{"v":44.199999999999996,"d":"44"},{"v":49.4,"d":"49"},{"$f":"ROUND(AVERAGE(H18:K18),1)","v":{"v":46.5,"d":"47"}},{"$f":"AVERAGE(M15:M17)","v":{"v":42.56666666666667,"d":"43"}},{"$f":"AVERAGE(N15:N17)","v":{"v":42.76666666666667,"d":"43"}},{"$f":"ROUND(AVERAGE(M18:N18),1)","v":{"v":42.7,"d":"43"}}]
[{"$nulls":3},"도  로","호반아파트 앞 도로","159.90","263.16",{"$f":"지점별소음도현황!N14","v":49.5},{"$f":"지점별소음도현황!P14","v":45.7},{"$f":"지점별소음도현황!R14","v":46.8},{"$f":"지점별소음도현황!T14","v":48.7},{"$f":"ROUND(AVERAGE(H19:K19),0)","v":48},{"$f":"지점별소음도현황!W14","v":47.7},{"$f":"지점별소음도현황!Y14","v":45.5},{"$f":"ROUND(AVERAGE(M19:N19),0)","v":47}]
[{"$nulls":4},"금광아파트 옆","159.67","262.89",{"$f":"지점별소음도현황!N15","v":{"v":60,"d":"60.0"}},{"$f":"지점별소음도현황!P15","v":61.6},{"$f":"지점별소음도현황!R15","v":64.5},{"$f":"지점별소음도현황!T15","v":60.3},62,{"$f":"지점별소음도현황!W15","v":53.7},{"$f":"지점별소음도현황!Y15","v":52.7},53]
[{"$nulls":4},"평균","-","-",{"$f":"AVERAGE(H19:H20)","v":{"v":54.75,"d":"55"}},{"$f":"AVERAGE(I19:I20)","v":{"v":53.650000000000006,"d":"54"}},{"v":55.65,"d":"56"},{"v":54.5,"d":"55"},55,{"v":50.7,"d":"51"},{"v":49.1,"d":"49"},50]
["다","상업지역","광양읍","일  반","장원식당뒤","164.27","253.36",{"$f":"지점별소음도현황!N17","v":55.3},{"$f":"지점별소음도현황!P17","v":57.7},{"$f":"지점별소음도현황!R17","v":58.5},{"$f":"지점별소음도현황!T17","v":53.1},56,{"$f":"지점별소음도현황!W17","v":53.6},{"$f":"지점별소음도현황!Y17","v":{"v":47,"d":"47.0"}},50]
[{"$nulls":4},"광양농협뒤","163.88","253.80",{"$f":"지점별소음도현황!N18","v":56.3},{"$f":"지점별소음도현황!P18","v":55.5},{"$f":"지점별소음도현황!R18","v":53.8},{"$f":"지점별소음도현황!T18","v":45.7},53,{"$f":"지점별소음도현황!W18","v":46.8},{"$f":"지점별소음도현황!Y18","v":43.6},45]
[{"$nulls":4},"참마트뒤","164.66","253.20",{"$f":"지점별소음도현황!N19","v":58.4},{"$f":"지점별소음도현황!P19","v":58.1},{"$f":"지점별소음도현황!R19","v":57.7},{"$f":"지점별소음도현황!T19","v":58.8},58,{"$f":"지점별소음도현황!W19","v":52.2},{"$f":"지점별소음도현황!Y19","v":51.5},52]
[{"$nulls":4},"평균","-","-",{"$f":"AVERAGE(H22:H24)","v":{"v":56.666666666666664,"d":"57"}},{"$f":"AVERAGE(I22:I24)","v":{"v":57.1,"d":"57"}},{"v":56.666666666666664,"d":"57"},{"v":52.53333333333334,"d":"53"},56,{"v":50.866666666666674,"d":"51"},{"v":47.36666666666667,"d":"47"},49]
[{"$nulls":3},"도  로","고려의원 앞","163.74","253.96",{"$f":"지점별소음도현황!N20","v":61.9},{"$f":"지점별소음도현황!P20","v":{"v":60,"d":"60.0"}},{"$f":"지점별소음도현황!R20","v":59.8},{"$f":"지점별소음도현황!T20","v":53.2},59,{"$f":"지점별소음도현황!W20","v":52.9},{"$f":"지점별소음도현황!Y20","v":44.9},49]
[{"$nulls":4},"제일교회앞","164.41","253.09",{"$f":"지점별소음도현황!N21","v":63.8},{"$f":"지점별소음도현황!P21","v":62.4},{"$f":"지점별소음도현황!R21","v":61.3},{"$f":"지점별소음도현황!T21","v":54.5},61,{"$f":"지점별소음도현황!W21","v":54.2},{"$f":"지점별소음도현황!Y21","v":46.5},50]
[{"$nulls":4},"평균","-","-",{"$f":"AVERAGE(H26:H27)","v":{"v":62.849999999999994,"d":"63"}},{"$f":"AVERAGE(I26:I27)","v":{"v":61.2,"d":"61"}},{"v":60.55,"d":"61"},{"v":53.85,"d":"54"},60,{"v":53.55,"d":"54"},{"v":45.7,"d":"46"},50]
["라","공업지역","태인동","일  반","태인폐수처리장","159.78","269.35",{"$f":"지점별소음도현황!N23","v":54.6},{"$f":"지점별소음도현황!P23","v":52.3},{"$f":"지점별소음도현황!R23","v":58.4},{"$f":"지점별소음도현황!T23","v":53.3},55,{"$f":"지점별소음도현황!W23","v":{"v":53,"d":"53.0"}},{"$f":"지점별소음도현황!Y23","v":52.3},53]
[{"$nulls":4},"조선내화㈜","159.78","268.72",{"$f":"지점별소음도현황!N24","v":63.6},{"$f":"지점별소음도현황!P24","v":62.7},{"$f":"지점별소음도현황!R24","v":65.5},{"$f":"지점별소음도현황!T24","v":63.5},64,{"$f":"지점별소음도현황!W24","v":63.2},{"$f":"지점별소음도현황!Y24","v":61.1},62]
[{"$nulls":4},"㈜남광포리머","160.46","269.75",{"$f":"지점별소음도현황!N25","v":62.6},{"$f":"지점별소음도현황!P25","v":61.4},{"$f":"지점별소음도현황!R25","v":62.5},{"$f":"지점별소음도현황!T25","v":59.1},61,{"$f":"지점별소음도현황!W25","v":58.8},{"$f":"지점별소음도현황!Y25","v":56.5},58]
[{"$nulls":4},"평균","-","-",{"$f":"AVERAGE(H29:H31)","v":{"v":60.26666666666667,"d":"60"}},{"$f":"AVERAGE(I29:I31)","v":{"v":58.800000000000004,"d":"59"}},{"v":62.13333333333333,"d":"62"},{"v":58.63333333333333,"d":"59"},60,{"v":58.333333333333336,"d":"58"},{"v":56.63333333333333,"d":"57"},57]
[{"$nulls":3},"도  로","포스코컴텍 (구.포스렉)","160.07","268.38",{"$f":"지점별소음도현황!N26","v":64.1},{"$f":"지점별소음도현황!P26","v":54.5},{"$f":"지점별소음도현황!R26","v":65.5},{"$f":"지점별소음도현황!T26","v":47.9},58,{"$f":"지점별소음도현황!W26","v":47.5},{"$f":"지점별소음도현황!Y26","v":45.7},47]
[{"$nulls":4},"㈜피엠에스(구.포스코엠텍)","160.55","269.67",{"$f":"지점별소음도현황!N27","v":70.4},{"$f":"지점별소음도현황!P27","v":70.3},{"$f":"지점별소음도현황!R27","v":60.9},{"$f":"지점별소음도현황!T27","v":71.1},68,{"$f":"지점별소음도현황!W27","v":61.1},{"$f":"지점별소음도현황!Y27","v":54.4},58]
[{"$nulls":4},"평균","-","-",{"$f":"AVERAGE(H33:H34)","v":{"v":67.25,"d":"67"}},{"$f":"AVERAGE(I33:I34)","v":{"v":62.4,"d":"62"}},{"v":63.2,"d":"63"},{"v":59.5,"d":"60"},63,{"v":54.3,"d":"54"},{"v":50.05,"d":"50"},52]