{"text_format":"5","workbook":"xlsx","n_sheets":2,"sheets":["신서식","구서식"],"props":{"creator":"home","last_modified_by":"USER"},"not_rendered":{"defined_names":2},"read":"whole","date_system":"1900"}

{"sheet":"신서식","index":0,"n_rows":29,"n_cols":26,"rows_kept":29,"merged":[[1,0,1,3],[3,0,5,0],[3,1,5,1],[3,2,3,3],[3,4,3,8],[3,9,5,9],[3,10,5,10],[3,11,5,11],[3,12,3,20],[3,21,3,25],[4,2,5,2],[4,3,5,3],[4,4,5,4],[4,5,5,5],[4,6,5,6],[4,7,4,8],[4,12,4,13],[4,14,4,15],[4,16,4,17],[4,18,4,19],[4,20,5,20],[4,21,4,22],[4,23,4,24],[4,25,5,25],[6,2,11,2],[6,3,11,3],[6,4,11,4],[6,5,8,5],[9,5,11,5],[12,2,17,2],[12,3,17,3],[12,4,17,4],[12,5,14,5],[15,5,17,5],[18,2,23,2],[18,3,23,3],[18,4,23,4],[18,5,20,5],[21,5,23,5],[24,2,28,2],[24,3,28,3],[24,4,28,4],[24,5,26,5],[27,5,28,5]]}
["환 경 소 음 측 정 현 황"]
["◎ 2019년 상반기"]
[]
["측정망","시도","적용대상",null,"측 정 지 점",{"$nulls":4},"지점코드","년도","반기","주간",{"$nulls":8},"야간"]
[null,null,"법적\n구분","용도\n구분","측정지역","지역\n구분","측정지점","TM좌표",{"$nulls":4},"9시",null,"12시",null,"16시",null,"20시",null,"주간\n평균","23시",null,"1시",null,"야간\n평균"]
[{"$nulls":7},"가로","세로",{"$nulls":3},"측정시간","측정값","측정시간","측정값","측정시간","측정값","측정시간","측정값",null,"측정시간","측정값","측정시간","측정값"]
["지방","광양","가","학교지역","광양읍","일반","광양하이텍고운동장 서편",164.68,253.89,"B14623001",2019,"상반기","2019-05-21T09:25:00",48.1,"2019-05-21T12:45:00",{"v":48,"d":"48.0"},"2019-05-21T16:30:00",49.2,"2019-05-20T21:00:00",{"v":47,"d":"47.0"},{"$f":"(N7+P7+R7+T7)/4","v":{"v":48.075,"d":"48.1"}},"2019-05-21T00:20:00",39.7,"2019-05-21T02:05:00",37.7,{"$f":"(W7+Y7)/2","v":38.7}]
["지방","광양",{"$nulls":4},"광양하이텍고 연단 앞",164.69,253.95,"B14623002",2019,"상반기","2019-05-21T09:30:00",46.6,"2019-05-21T12:50:00",48.3,"2019-05-21T16:40:00",47.5,"2019-05-20T21:10:00",47.1,{"$f":"(N8+P8+R8+T8)/4","v":{"v":47.375,"d":"47.4"}},"2019-05-21T00:30:00",39.8,"2019-05-21T02:15:00",38.7,{"$f":"(W8+Y8)/2","v":{"v":39.25,"d":"39.3"}}]
["지방","광양",{"$nulls":4},"광양중학교 연단 앞",164.7,253.8,"B14623003",2019,"상반기","2019-05-21T09:15:00",49.2,"2019-05-21T12:35:00",{"v":49,"d":"49.0"},"2019-05-21T16:20:00",47.4,"2019-05-20T20:50:00",46.8,{"v":48.099999999999994,"d":"48.1"},"2019-05-21T00:10:00",38.8,"2019-05-21T01:55:00",39.2,{"v":39,"d":"39.0"}]
["지방","광양",{"$nulls":3},"도로","광양하이텍고 남문  앞",164.6,253.91,"B14623004",2019,"상반기","2019-05-21T09:05:00",58.4,"2019-05-21T12:25:00",57.3,"2019-05-21T16:05:00",58.1,"2019-05-20T20:40:00",57.9,{"v":57.925,"d":"57.9"},"2019-05-21",48.3,"2019-05-21T01:45:00",50.1,49.2]
["지방","광양",{"$nulls":4},"광양하이텍고동편 도로변",164.71,254.04,"B14623005",2019,"상반기","2019-05-21T08:55:00",60.7,"2019-05-21T12:20:00",62.7,"2019-05-21T15:55:00",61.7,"2019-05-20T20:30:00",60.2,{"v":61.325,"d":"61.3"},"2019-05-20T23:50:00",45.2,"2019-05-21T01:35:00",44.8,{"v":45,"d":"45.0"}]
[{"$nulls":6},"광양마로초등학교 인근",255820.1,263525.9,"소음 모니터링(수동측정망) 변경제안지점",2019,"상반기","2019-05-21T08:45:00",63.4,"2019-05-21T12:10:00",64.1,"2019-05-21T15:45:00",63.8,"2019-05-20T20:20:00",62.8,{"v":63.525000000000006,"d":"63.5"},"2019-05-20T23:40:00",54.8,"2019-05-21T01:25:00",52.5,{"v":53.65,"d":"53.7"}]
["지방","광양","나","일반주거지역","중  동","일반","주공1차 아파트 공터",160.67,263.86,"B14623006",2019,"상반기","2019-05-14T09:45:00",{"v":47,"d":"47.0"},"2019-05-14T12:40:00",48.3,"2019-05-14T15:50:00",47.7,"2019-05-14T19:40:00",50.3,{"v":48.325,"d":"48.3"},"2019-05-14T22:00:00",40.6,"2019-05-15T00:35:00",40.3,{"v":40.45,"d":"40.5"}]
["지방","광양",{"$nulls":4},"주공2차 아파트 공터",160.94,262.56,"B14623007",2019,"상반기","2019-05-14T11:10:00",47.3,"2019-05-14T14:05:00",46.7,"2019-05-14T17:15:00",{"v":49,"d":"49.0"},"2019-05-14T21:00:00",48.7,{"v":47.925,"d":"47.9"},"2019-05-14T22:00:00",39.1,"2019-05-15T01:55:00",{"v":41,"d":"41.0"},{"v":40.05,"d":"40.1"}]
["지방","광양",{"$nulls":4},"성호1차 아파트 공터",159.47,263.38,"B14623008",2019,"상반기","2019-05-14T10:15:00",54.8,"2019-05-14T13:15:00",50.7,"2019-05-14T16:25:00",51.6,"2019-05-14T20:10:00",50.8,{"v":51.974999999999994,"d":"52.0"},"2019-05-14T22:40:00",44.3,"2019-05-15T01:05:00",43.8,{"v":44.05,"d":"44.1"}]
["지방","광양",{"$nulls":3},"도로","호반아파트 앞 도로",159.9,263.16,"B14623009",2019,"상반기","2019-05-14T10:00:00",57.7,"2019-05-14T13:00:00",60.4,"2019-05-14T16:10:00",61.2,"2019-05-14T19:55:00",60.8,{"v":60.025000000000006,"d":"60.0"},"2019-05-14T22:25:00",54.8,"2019-05-15T00:50:00",53.2,{"v":54,"d":"54.0"}]
["지방","광양",{"$nulls":4},"금광아파트 옆",160.83,263.59,"B14623010",2019,"상반기","2019-05-14T10:35:00",64.9,"2019-05-14T13:30:00",63.2,"2019-05-14T16:40:00",63.1,"2019-05-14T20:25:00",64.8,{"v":64,"d":"64.0"},"2019-05-14T22:55:00",54.9,"2019-05-15T01:20:00",54.3,{"v":54.599999999999994,"d":"54.6"}]
[{"$nulls":6},"중마진아리채2차 앞",262710.32,260621.73,"소음 모니터링(수동측정망) 변경제안지점",2019,"상반기","2019-05-14T10:50:00",{"v":64,"d":"64.0"},"2019-05-14T13:50:00",63.8,"2019-05-14T17:00:00",64.7,"2019-05-14T20:45:00",64.9,{"v":64.35,"d":"64.4"},"2019-05-14T23:10:00",54.8,"2019-05-15T01:35:00",{"v":54,"d":"54.0"},54.4]
["지방","광양","다","상업지역","광양읍","일반","장원식당 뒤",164.27,253.36,"B14623011",2019,"상반기","2019-05-21T10:10:00",50.2,"2019-05-21T11:30:00",50.4,"2019-05-21T17:35:00",54.2,"2019-05-20T19:35:00",58.3,{"v":53.275000000000006,"d":"53.3"},"2019-05-20T22:40:00",48.6,"2019-05-21T00:55:00",47.5,{"v":48.05,"d":"48.1"}]
["지방","광양",{"$nulls":4},"광양농협 뒤",163.88,253.8,"B14623012",2019,"상반기","2019-05-21T10:00:00",{"v":63,"d":"63.0"},"2019-05-21T11:10:00",64.8,"2019-05-21T17:20:00",64.3,"2019-05-20T20:00:00",57.8,{"v":62.474999999999994,"d":"62.5"},"2019-05-20T22:55:00",{"v":48,"d":"48.0"},"2019-05-21T01:05:00",47.6,47.8]
["지방","광양",{"$nulls":4},"참마트 뒤",164.66,253.2,"B14623013",2019,"상반기","2019-05-21T10:20:00",50.3,"2019-05-21T11:40:00",50.8,"2019-05-21T17:50:00",53.4,"2019-05-20T19:25:00",60.6,{"v":53.775,"d":"53.8"},"2019-05-20T22:30:00",53.4,"2019-05-21T00:45:00",52.8,{"v":53.099999999999994,"d":"53.1"}]
["지방","광양",{"$nulls":3},"도로","고려의원 앞",253.71,164.28,"B14623014",2019,"상반기","2019-05-21T09:40:00",68.3,"2019-05-21T10:45:00",66.5,"2019-05-21T17:00:00",67.9,"2019-05-20T20:10:00",68.2,{"v":67.72500000000001,"d":"67.7"},"2019-05-20T23:05:00",59.8,"2019-05-21T01:15:00",58.7,{"v":59.25,"d":"59.3"}]
["지방","광양",{"$nulls":4},"제일교회 앞",164.41,253.09,"B14623015",2019,"상반기","2019-05-21T10:30:00",62.7,"2019-05-21T12:00:00",59.4,"2019-05-21T18:10:00",66.3,"2019-05-20T19:15:00",67.7,{"v":64.02499999999999,"d":"64.0"},"2019-05-20T22:20:00",55.3,"2019-05-21T00:35:00",54.9,{"v":55.099999999999994,"d":"55.1"}]
[{"$nulls":6},"목성중앙로사거리",253828.48,264466.27,"소음 모니터링(수동측정망) 변경제안지점",2019,"상반기","2019-05-21T09:50:00",65.3,"2019-05-21T10:55:00",64.9,"2019-05-21T17:10:00",68.2,"2019-05-20T19:45:00",69.6,{"v":67,"d":"67.0"},"2019-05-20T22:50:00",59.2,"2019-05-21T01:00:00",58.2,58.7]
["지방","광양","라","일반공업지역","태인동","일반","태인폐수처리장",159.78,269.35,"B14623016",2019,"상반기","2019-05-28T10:05:00",53.7,"2019-05-28T14:15:00",57.8,"2019-05-28T16:35:00",52.2,"2019-05-28T20:10:00",{"v":53,"d":"53.0"},{"v":54.175,"d":"54.2"},"2019-05-28T22:40:00",54.8,"2019-05-29T01:25:00",54.6,54.7]
["지방","광양",{"$nulls":4},"조선내화㈜",159.78,268.72,"B14623017",2019,"상반기","2019-05-28T10:30:00",65.3,"2019-05-28T14:25:00",67.7,"2019-05-28T16:45:00",60.7,"2019-05-28T20:25:00",58.7,{"v":63.099999999999994,"d":"63.1"},"2019-05-28T22:55:00",60.3,"2019-05-29T01:30:00",60.8,{"v":60.55,"d":"60.6"}]
["지방","광양",{"$nulls":4},"(주)남광포리머",160.46,269.75,"B14623018",2019,"상반기","2019-05-28T09:55:00",60.2,"2019-05-28T13:55:00",62.5,"2019-05-28T16:30:00",59.5,"2019-05-28T20:05:00",58.9,{"v":60.275,"d":"60.3"},"2019-05-28T22:35:00",56.5,"2019-05-29T01:15:00",59.9,58.2]
["지방","광양",{"$nulls":3},"도로","㈜피엠에스",160.07,268.38,"B14623019",2019,"상반기","2019-05-28T09:40:00",66.4,"2019-05-28T13:40:00",70.1,"2019-05-28T16:20:00",66.7,"2019-05-28T19:55:00",65.8,{"v":67.25,"d":"67.3"},"2019-05-28T22:25:00",53.8,"2019-05-29T01:05:00",55.9,{"v":54.849999999999994,"d":"54.9"}]
["지방","광양",{"$nulls":4},"포스코컴텍",160.55,269.67,"B14623020",2019,"상반기","2019-05-28T09:30:00",69.5,"2019-05-28T13:30:00",71.3,"2019-05-28T16:10:00",70.7,"2019-05-28T19:45:00",{"v":70,"d":"70.0"},{"v":70.375,"d":"70.4"},"2019-05-28T22:15:00",65.1,"2019-05-29T00:55:00",63.8,{"v":64.44999999999999,"d":"64.5"}]

{"sheet":"구서식","index":1,"n_rows":34,"n_cols":15,"rows_kept":34,"merged":[[0,0,0,14],[1,0,1,3],[2,0,2,14],[3,0,3,1],[3,2,3,6],[3,7,3,14],[4,0,5,0],[4,1,5,1],[4,2,5,2],[4,3,5,3],[4,4,5,4],[4,5,4,6],[4,7,4,11],[4,12,4,14],[6,0,12,0],[6,1,12,1],[6,2,12,2],[6,3,9,3],[10,3,12,3],[13,0,19,0],[13,1,19,1],[13,2,19,2],[13,3,16,3],[17,3,19,3],[20,0,26,0],[20,1,26,1],[20,2,26,2],[20,3,23,3],[24,3,26,3],[27,0,33,0],[27,1,33,1],[27,2,33,2],[27,3,30,3],[31,3,33,3]]}
["환 경 소 음 측 정 현 황"]
["◎ 2019년 상반기"]
["[단위 : dB(A)]"]
["적용대상",null,"측정지역",{"$nulls":4},"소음도"]
["법적\n구분","용도\n구분","측정지역\n(주소)","지역\n구분","측정지점","T.M좌표",null,"낮시간대",{"$nulls":4},"밤시간대"]
[{"$nulls":5},"가로","세로","09 ","12","16","20","평균","23","01","평균"]
["가","학 교 지 역","광양읍","일 반","광양하이텍고 서편","164.68","253.89",{"$f":"신서식!N7","v":48.1},{"$f":"신서식!P7","v":48},{"$f":"신서식!R7","v":49.2},{"$f":"신서식!T7","v":47},{"$f":"ROUND(AVERAGE(H7:K7),0)","v":48},{"$f":"신서식!W7","v":39.7},{"$f":"신서식!Y7","v":37.7},{"$f":"ROUND(AVERAGE(M7:N7),0)","v":39}]
[{"$nulls":4},"광양하이텍고 연단앞","164.69","253.95",{"$f":"신서식!N8","v":46.6},{"$f":"신서식!P8","v":48.3},{"$f":"신서식!R8","v":47.5},{"$f":"신서식!T8","v":47.1},{"$f":"ROUND(AVERAGE(H8:K8),0)","v":47},{"$f":"신서식!W8","v":39.8},{"$f":"신서식!Y8","v":38.7},{"$f":"ROUND(AVERAGE(M8:N8),0)","v":39}]
[{"$nulls":4},"광양중 연단앞","164.70","253.80",{"$f":"신서식!N9","v":49.2},{"$f":"신서식!P9","v":49},{"$f":"신서식!R9","v":47.4},{"$f":"신서식!T9","v":46.8},{"$f":"ROUND(AVERAGE(H9:K9),0)","v":48},{"$f":"신서식!W9","v":38.8},{"$f":"신서식!Y9","v":39.2},{"$f":"ROUND(AVERAGE(M9:N9),0)","v":39}]
[{"$nulls":4},"평균","-","-",{"$nulls":4},{"$f":"ROUND(AVERAGE(L7:L9),0)","v":48},null,null,{"$f":"ROUND(AVERAGE(O7:O9),0)","v":39}]
[{"$nulls":3},"도 로","광양하이텍고 남문앞","164.60","253.91",{"$f":"신서식!N10","v":58.4},{"$f":"신서식!P10","v":57.3},{"$f":"신서식!R10","v":58.1},{"$f":"신서식!T10","v":57.9},{"$f":"ROUND(AVERAGE(H11:K11),0)","v":58},{"$f":"신서식!W10","v":48.3},{"$f":"신서식!Y10","v":50.1},{"$f":"ROUND(AVERAGE(M11:N11),0)","v":49}]
[{"$nulls":4},"광양하이텍고 동편","164.71","254.04",{"$f":"신서식!P11","v":62.7},{"$f":"신서식!P11","v":62.7},{"$f":"신서식!R11","v":61.7},{"$f":"신서식!T11","v":60.2},{"$f":"ROUND(AVERAGE(H12:K12),0)","v":62},{"$f":"신서식!W11","v":45.2},{"$f":"신서식!Y11","v":44.8},{"$f":"ROUND(AVERAGE(M12:N12),0)","v":45}]
[{"$nulls":4},"평균","-","-",{"$nulls":4},{"$f":"ROUND(AVERAGE(L11:L12),0)","v":60},null,null,{"$f":"ROUND(AVERAGE(O11:O12),0)","v":47}]
["나","일 반 주 거","중 동","일 반","주공1차아파트공터","160.67","263.86",{"$f":"신서식!N13","v":47},{"$f":"신서식!P13","v":48.3},{"$f":"신서식!R13","v":47.7},{"$f":"신서식!T13","v":50.3},{"$f":"ROUND(AVERAGE(H14:K14),0)","v":48},{"$f":"신서식!W13","v":40.6},{"$f":"신서식!Y13","v":40.3},{"$f":"ROUND(AVERAGE(M14:N14),0)","v":40}]
[{"$nulls":4},"주공2차아파트공터","160.94","262.56",{"$f":"신서식!N14","v":47.3},{"$f":"신서식!P14","v":46.7},{"$f":"신서식!R14","v":49},{"$f":"신서식!T14","v":48.7},{"$f":"ROUND(AVERAGE(H15:K15),0)","v":48},{"$f":"신서식!W14","v":39.1},{"$f":"신서식!Y14","v":41},{"$f":"ROUND(AVERAGE(M15:N15),0)","v":40}]
[{"$nulls":4},"성호1차아파트공터","159.47","263.38",{"$f":"신서식!N15","v":54.8},{"$f":"신서식!P15","v":50.7},{"$f":"신서식!R15","v":51.6},{"$f":"신서식!T15","v":50.8},{"$f":"ROUND(AVERAGE(H16:K16),0)","v":52},{"$f":"신서식!W15","v":44.3},{"$f":"신서식!Y15","v":43.8},{"$f":"ROUND(AVERAGE(M16:N16),0)","v":44}]
[{"$nulls":4},"평균","-","-",{"$nulls":4},{"$f":"ROUND(AVERAGE(L14:L16),0)","v":49},null,null,{"$f":"ROUND(AVERAGE(O14:O16),0)","v":41}]
[{"$nulls":3},"도 로","호반아파트 앞 도로","159.90","263.16",{"$f":"신서식!N16","v":57.7},{"$f":"신서식!P16","v":60.4},{"$f":"신서식!R16","v":61.2},{"$f":"신서식!T16","v":60.8},{"$f":"ROUND(AVERAGE(H18:K18),0)","v":60},{"$f":"신서식!W16","v":54.8},{"$f":"신서식!Y16","v":53.2},{"$f":"ROUND(AVERAGE(M18:N18),0)","v":54}]
[{"$nulls":4},"금광아파트 옆","159.67","262.89",{"$f":"신서식!N17","v":64.9},{"$f":"신서식!P17","v":63.2},{"$f":"신서식!R17","v":63.1},{"$f":"신서식!T17","v":64.8},{"$f":"ROUND(AVERAGE(H19:K19),0)","v":64},{"$f":"신서식!W17","v":54.9},{"$f":"신서식!Y17","v":54.3},{"$f":"ROUND(AVERAGE(M19:N19),0)","v":55}]
[{"$nulls":4},"평균","-","-",{"$nulls":4},{"$f":"ROUND(AVERAGE(L18:L19),0)","v":62},null,null,{"$f":"ROUND(AVERAGE(O18:O19),0)","v":55}]
["다","상 업 지 역","광양읍","일 반","장원식당뒤","164.27","253.36",{"$f":"신서식!N19","v":50.2},{"$f":"신서식!P19","v":50.4},{"$f":"신서식!R19","v":54.2},{"$f":"신서식!T19","v":58.3},{"$f":"ROUND(AVERAGE(H21:K21),0)","v":53},{"$f":"신서식!W19","v":48.6},{"$f":"신서식!Y19","v":47.5},{"$f":"ROUND(AVERAGE(M21:N21),0)","v":48}]
[{"$nulls":4},"광양농협뒤","163.88","253.80",{"$f":"신서식!N20","v":63},{"$f":"신서식!P20","v":64.8},{"$f":"신서식!R20","v":64.3},{"$f":"신서식!T20","v":57.8},{"$f":"ROUND(AVERAGE(H22:K22),0)","v":62},{"$f":"신서식!W20","v":{"v":48,"d":"48.0"}},{"$f":"신서식!Y20","v":47.6},{"$f":"ROUND(AVERAGE(M22:N22),0)","v":48}]
[{"$nulls":4},"참마트뒤","164.66","253.20",{"$f":"신서식!N21","v":50.3},{"$f":"신서식!P21","v":50.8},{"$f":"신서식!R21","v":53.4},{"$f":"신서식!T21","v":60.6},{"$f":"ROUND(AVERAGE(H23:K23),0)","v":54},{"$f":"신서식!W21","v":53.4},{"$f":"신서식!Y21","v":52.8},{"$f":"ROUND(AVERAGE(M23:N23),0)","v":53}]
[{"$nulls":4},"평균","-","-",{"$nulls":4},{"$f":"ROUND(AVERAGE(L21:L23),0)","v":56},null,null,{"$f":"ROUND(AVERAGE(O21:O23),0)","v":50}]
[{"$nulls":3},"도 로","고려의원 앞","163.74","253.96",{"$f":"신서식!N22","v":68.3},{"$f":"신서식!P22","v":66.5},{"$f":"신서식!R22","v":67.9},{"$f":"신서식!T22","v":68.2},{"$f":"ROUND(AVERAGE(H25:K25),0)","v":68},{"$f":"신서식!W22","v":59.8},{"$f":"신서식!Y22","v":58.7},{"$f":"ROUND(AVERAGE(M25:N25),0)","v":59}]
[{"$nulls":4},"제일교회앞","164.41","253.09",{"$f":"신서식!N23","v":62.7},{"$f":"신서식!P23","v":59.4},{"$f":"신서식!R23","v":66.3},{"$f":"신서식!T23","v":67.7},{"$f":"ROUND(AVERAGE(H26:K26),0)","v":64},{"$f":"신서식!W23","v":55.3},{"$f":"신서식!Y23","v":54.9},{"$f":"ROUND(AVERAGE(M26:N26),0)","v":55}]
[{"$nulls":4},"평균","-","-",{"$nulls":4},{"$f":"ROUND(AVERAGE(L25:L26),0)","v":66},null,null,{"$f":"ROUND(AVERAGE(O25:O26),0)","v":57}]
["라","공 업 지 역","태인동","일 반","태인폐수처리장","159.78","269.35",{"$f":"신서식!N25","v":53.7},{"$f":"신서식!P25","v":57.8},{"$f":"신서식!R25","v":52.2},{"$f":"신서식!T25","v":53},{"$f":"ROUND(AVERAGE(H28:K28),0)","v":54},{"$f":"신서식!W25","v":54.8},{"$f":"신서식!Y25","v":54.6},{"$f":"ROUND(AVERAGE(M28:N28),0)","v":55}]
[{"$nulls":4},"조선내화㈜","159.78","268.72",{"$f":"신서식!N26","v":65.3},{"$f":"신서식!P26","v":67.7},{"$f":"신서식!R26","v":60.7},{"$f":"신서식!T26","v":58.7},{"$f":"ROUND(AVERAGE(H29:K29),0)","v":63},{"$f":"신서식!W26","v":60.3},{"$f":"신서식!Y26","v":60.8},{"$f":"ROUND(AVERAGE(M29:N29),0)","v":61}]
[{"$nulls":4},"㈜남광포리머","160.46","269.75",{"$f":"신서식!N27","v":60.2},{"$f":"신서식!P27","v":62.5},{"$f":"신서식!R27","v":59.5},{"$f":"신서식!T27","v":58.9},{"$f":"ROUND(AVERAGE(H30:K30),0)","v":60},{"$f":"신서식!W27","v":56.5},{"$f":"신서식!Y27","v":59.9},{"$f":"ROUND(AVERAGE(M30:N30),0)","v":58}]
[{"$nulls":4},"평균","-","-",{"$nulls":4},{"$f":"ROUND(AVERAGE(L28:L30),0)","v":59},null,null,{"$f":"ROUND(AVERAGE(O28:O30),0)","v":58}]
[{"$nulls":3},"도 로","포스코컴텍 (구.포스렉)","160.07","268.38",{"$f":"신서식!N28","v":66.4},{"$f":"신서식!P28","v":70.1},{"$f":"신서식!R28","v":66.7},{"$f":"신서식!T28","v":65.8},{"$f":"ROUND(AVERAGE(H32:K32),0)","v":67},{"$f":"신서식!W28","v":53.8},{"$f":"신서식!Y28","v":55.9},{"$f":"ROUND(AVERAGE(M32:N32),0)","v":55}]
[{"$nulls":4},"㈜피엠에스(구.포스코엠텍)","160.55","269.67",{"$f":"신서식!N29","v":69.5},{"$f":"신서식!P29","v":71.3},{"$f":"신서식!R29","v":70.7},{"$f":"신서식!T29","v":70},{"$f":"ROUND(AVERAGE(H33:K33),0)","v":70},{"$f":"신서식!W29","v":65.1},{"$f":"신서식!Y29","v":63.8},{"$f":"ROUND(AVERAGE(M33:N33),0)","v":64}]
[{"$nulls":4},"평균","-","-",{"$nulls":4},{"$f":"ROUND(AVERAGE(L32:L33),0)","v":69},null,null,{"$f":"ROUND(AVERAGE(O32:O33),0)","v":60}]